BEGIN:VCALENDAR
VERSION:2.0
PRODID:-////NONSGML kigkonsult.se iCalcreator 2.18//
X-WR-TIMEZONE:Europe/Berlin
BEGIN:VTIMEZONE
TZID:Europe/Berlin
X-LIC-LOCATION:Europe/Berlin
BEGIN:STANDARD
DTSTART:20241027T030000
TZOFFSETFROM:+0200
TZOFFSETTO:+0100
TZNAME:CET
END:STANDARD
BEGIN:DAYLIGHT
DTSTART:20250330T020000
TZOFFSETFROM:+0100
TZOFFSETTO:+0200
TZNAME:CEST
END:DAYLIGHT
END:VTIMEZONE
BEGIN:VEVENT
UID:20260423T174729UTC-0011k74lb8@85.215.121.98
DTSTAMP:20260423T174729Z
DTSTART;TZID=Europe/Berlin:20240803T170000
DTEND;TZID=Europe/Berlin:20240803T184500
SUMMARY:Steirer-Cup 2024/25: Unterlamm - Tieschen
END:VEVENT
BEGIN:VEVENT
UID:20260423T174729UTC-0017wBWx4L@85.215.121.98
DTSTAMP:20260423T174729Z
DTSTART;TZID=Europe/Berlin:20240810T170000
DTEND;TZID=Europe/Berlin:20240810T184500
SUMMARY:Steirer-Cup 2024/25: Unterlamm - Kapfenstein
END:VEVENT
BEGIN:VEVENT
UID:20260423T174729UTC-0023ZDDk14@85.215.121.98
DTSTAMP:20260423T174729Z
DTSTART;TZID=Europe/Berlin:20240910T170000
DTEND;TZID=Europe/Berlin:20240910T184500
SUMMARY:Steirer-Cup 2024/25: Unterlamm - FC Gleisdorf 09
END:VEVENT
END:VCALENDAR
