BEGIN:VCALENDAR
VERSION:2.0
PRODID:-////NONSGML kigkonsult.se iCalcreator 2.18//
X-WR-TIMEZONE:Europe/Berlin
BEGIN:VTIMEZONE
TZID:Europe/Berlin
X-LIC-LOCATION:Europe/Berlin
BEGIN:STANDARD
DTSTART:20201025T030000
TZOFFSETFROM:+0200
TZOFFSETTO:+0100
RDATE:20211031T030000
TZNAME:CET
END:STANDARD
BEGIN:DAYLIGHT
DTSTART:20210328T020000
TZOFFSETFROM:+0100
TZOFFSETTO:+0200
RDATE:20220327T020000
TZNAME:CEST
END:DAYLIGHT
END:VTIMEZONE
BEGIN:VEVENT
UID:20260425T212254UTC-9322dAStRz@85.215.121.98
DTSTAMP:20260425T212254Z
DTSTART;TZID=Europe/Berlin:20200821T193000
DTEND;TZID=Europe/Berlin:20200821T211500
SUMMARY:N - 2. Klasse Ost/Mitte 2020/21: VfB Mödling - Moosbrunn
END:VEVENT
BEGIN:VEVENT
UID:20260425T212254UTC-9485PvNW5E@85.215.121.98
DTSTAMP:20260425T212254Z
DTSTART;TZID=Europe/Berlin:20200830T113000
DTEND;TZID=Europe/Berlin:20200830T131500
SUMMARY:N - 2. Klasse Ost/Mitte 2020/21: SG Hinterbrühl/Gießhübl - VfB Mödl
 ing
END:VEVENT
BEGIN:VEVENT
UID:20260425T212254UTC-9494nFcVZt@85.215.121.98
DTSTAMP:20260425T212254Z
DTSTART;TZID=Europe/Berlin:20200905T163000
DTEND;TZID=Europe/Berlin:20200905T181500
SUMMARY:N - 2. Klasse Ost/Mitte 2020/21: Ebergassing - VfB Mödling
END:VEVENT
BEGIN:VEVENT
UID:20260425T212254UTC-9500PpPwrW@85.215.121.98
DTSTAMP:20260425T212254Z
DTSTART;TZID=Europe/Berlin:20200911T193000
DTEND;TZID=Europe/Berlin:20200911T211500
SUMMARY:N - 2. Klasse Ost/Mitte 2020/21: VfB Mödling - Brunn/Geb. II
END:VEVENT
BEGIN:VEVENT
UID:20260425T212254UTC-95067vCrdH@85.215.121.98
DTSTAMP:20260425T212254Z
DTSTART;TZID=Europe/Berlin:20200919T193000
DTEND;TZID=Europe/Berlin:20200919T211500
SUMMARY:N - 2. Klasse Ost/Mitte 2020/21: Mitterndorf - VfB Mödling
END:VEVENT
BEGIN:VEVENT
UID:20260425T212254UTC-9511g21Jvv@85.215.121.98
DTSTAMP:20260425T212254Z
DTSTART;TZID=Europe/Berlin:20200925T193000
DTEND;TZID=Europe/Berlin:20200925T211500
SUMMARY:N - 2. Klasse Ost/Mitte 2020/21: VfB Mödling - Velm
END:VEVENT
BEGIN:VEVENT
UID:20260425T212254UTC-95171wvo2r@85.215.121.98
DTSTAMP:20260425T212254Z
DTSTART;TZID=Europe/Berlin:20201003T153000
DTEND;TZID=Europe/Berlin:20201003T171500
SUMMARY:N - 2. Klasse Ost/Mitte 2020/21: Eichkogel - VfB Mödling
END:VEVENT
BEGIN:VEVENT
UID:20260425T212254UTC-9523oxRiWn@85.215.121.98
DTSTAMP:20260425T212254Z
DTSTART;TZID=Europe/Berlin:20201009T193000
DTEND;TZID=Europe/Berlin:20201009T211500
SUMMARY:N - 2. Klasse Ost/Mitte 2020/21: VfB Mödling - Siebenhirten/Wien
END:VEVENT
BEGIN:VEVENT
UID:20260425T212254UTC-9570zxISB4@85.215.121.98
DTSTAMP:20260425T212254Z
DTSTART;TZID=Europe/Berlin:20201023T193000
DTEND;TZID=Europe/Berlin:20201023T211500
SUMMARY:N - 2. Klasse Ost/Mitte 2020/21: VfB Mödling - Münchendorf
END:VEVENT
BEGIN:VEVENT
UID:20260425T212254UTC-9581HC8e3E@85.215.121.98
DTSTAMP:20260425T212254Z
DTSTART;TZID=Europe/Berlin:20201026T140000
DTEND;TZID=Europe/Berlin:20201026T154500
SUMMARY:N - 2. Klasse Ost/Mitte 2020/21: ASK Erlaa Torpedo 03 - VfB Mödling
END:VEVENT
BEGIN:VEVENT
UID:20260425T212254UTC-9587vc7Cvb@85.215.121.98
DTSTAMP:20260425T212254Z
DTSTART;TZID=Europe/Berlin:20201031T140000
DTEND;TZID=Europe/Berlin:20201031T154500
SUMMARY:N - 2. Klasse Ost/Mitte 2020/21: Ebreichsdorf II - VfB Mödling
END:VEVENT
BEGIN:VEVENT
UID:20260425T212254UTC-9593SncUcL@85.215.121.98
DTSTAMP:20260425T212254Z
DTSTART;TZID=Europe/Berlin:20201106T193000
DTEND;TZID=Europe/Berlin:20201106T211500
SUMMARY:N - 2. Klasse Ost/Mitte 2020/21: VfB Mödling - Achau
END:VEVENT
BEGIN:VEVENT
UID:20260425T212254UTC-9600zZboCO@85.215.121.98
DTSTAMP:20260425T212254Z
DTSTART;TZID=Europe/Berlin:20201114T140000
DTEND;TZID=Europe/Berlin:20201114T154500
SUMMARY:N - 2. Klasse Ost/Mitte 2020/21: Laxenburg - VfB Mödling
END:VEVENT
BEGIN:VEVENT
UID:20260425T212254UTC-9606ooNFd6@85.215.121.98
DTSTAMP:20260425T212254Z
DTSTART;TZID=Europe/Berlin:20201120T193000
DTEND;TZID=Europe/Berlin:20201120T211500
SUMMARY:N - 2. Klasse Ost/Mitte 2020/21: VfB Mödling - Zwölfaxing
END:VEVENT
BEGIN:VEVENT
UID:20260425T212254UTC-9613sjKS2L@85.215.121.98
DTSTAMP:20260425T212254Z
DTSTART;TZID=Europe/Berlin:20201127T193000
DTEND;TZID=Europe/Berlin:20201127T211500
SUMMARY:N - 2. Klasse Ost/Mitte 2020/21: SC Lanzendorf - VfB Mödling
END:VEVENT
BEGIN:VEVENT
UID:20260425T212254UTC-9644m76C0d@85.215.121.98
DTSTAMP:20260425T212254Z
DTSTART;TZID=Europe/Berlin:20210307T150000
DTEND;TZID=Europe/Berlin:20210307T164500
SUMMARY:N - 2. Klasse Ost/Mitte 2020/21: VfB Mödling - Ebergassing
END:VEVENT
BEGIN:VEVENT
UID:20260425T212254UTC-9650558V2J@85.215.121.98
DTSTAMP:20260425T212254Z
DTSTART;TZID=Europe/Berlin:20210314T150000
DTEND;TZID=Europe/Berlin:20210314T164500
SUMMARY:N - 2. Klasse Ost/Mitte 2020/21: Brunn/Geb. II - VfB Mödling
END:VEVENT
BEGIN:VEVENT
UID:20260425T212254UTC-9656hoW5ZS@85.215.121.98
DTSTAMP:20260425T212254Z
DTSTART;TZID=Europe/Berlin:20210321T153000
DTEND;TZID=Europe/Berlin:20210321T171500
SUMMARY:N - 2. Klasse Ost/Mitte 2020/21: VfB Mödling - Mitterndorf
END:VEVENT
BEGIN:VEVENT
UID:20260425T212254UTC-9663rbthCi@85.215.121.98
DTSTAMP:20260425T212254Z
DTSTART;TZID=Europe/Berlin:20210328T163000
DTEND;TZID=Europe/Berlin:20210328T181500
SUMMARY:N - 2. Klasse Ost/Mitte 2020/21: Velm - VfB Mödling
END:VEVENT
BEGIN:VEVENT
UID:20260425T212254UTC-9670w49a9h@85.215.121.98
DTSTAMP:20260425T212254Z
DTSTART;TZID=Europe/Berlin:20210404T163000
DTEND;TZID=Europe/Berlin:20210404T181500
SUMMARY:N - 2. Klasse Ost/Mitte 2020/21: VfB Mödling - Eichkogel
END:VEVENT
BEGIN:VEVENT
UID:20260425T212254UTC-9677kuNSP8@85.215.121.98
DTSTAMP:20260425T212254Z
DTSTART;TZID=Europe/Berlin:20210411T163000
DTEND;TZID=Europe/Berlin:20210411T181500
SUMMARY:N - 2. Klasse Ost/Mitte 2020/21: Siebenhirten/Wien - VfB Mödling
END:VEVENT
BEGIN:VEVENT
UID:20260425T212254UTC-9683gt3hma@85.215.121.98
DTSTAMP:20260425T212254Z
DTSTART;TZID=Europe/Berlin:20210418T163000
DTEND;TZID=Europe/Berlin:20210418T181500
SUMMARY:N - 2. Klasse Ost/Mitte 2020/21: VfB Mödling - ASK Erlaa Torpedo 03
END:VEVENT
BEGIN:VEVENT
UID:20260425T212254UTC-9714v0i0M2@85.215.121.98
DTSTAMP:20260425T212254Z
DTSTART;TZID=Europe/Berlin:20210425T163000
DTEND;TZID=Europe/Berlin:20210425T181500
SUMMARY:N - 2. Klasse Ost/Mitte 2020/21: Münchendorf - VfB Mödling
END:VEVENT
BEGIN:VEVENT
UID:20260425T212254UTC-9724vdCg6n@85.215.121.98
DTSTAMP:20260425T212254Z
DTSTART;TZID=Europe/Berlin:20210502T163000
DTEND;TZID=Europe/Berlin:20210502T181500
SUMMARY:N - 2. Klasse Ost/Mitte 2020/21: VfB Mödling - Ebreichsdorf II
END:VEVENT
BEGIN:VEVENT
UID:20260425T212254UTC-97316pEpuL@85.215.121.98
DTSTAMP:20260425T212254Z
DTSTART;TZID=Europe/Berlin:20210509T163000
DTEND;TZID=Europe/Berlin:20210509T181500
SUMMARY:N - 2. Klasse Ost/Mitte 2020/21: Achau - VfB Mödling
END:VEVENT
BEGIN:VEVENT
UID:20260425T212254UTC-9739dXGGuv@85.215.121.98
DTSTAMP:20260425T212254Z
DTSTART;TZID=Europe/Berlin:20210516T163000
DTEND;TZID=Europe/Berlin:20210516T181500
SUMMARY:N - 2. Klasse Ost/Mitte 2020/21: VfB Mödling - Laxenburg
END:VEVENT
BEGIN:VEVENT
UID:20260425T212254UTC-9745dzi3M3@85.215.121.98
DTSTAMP:20260425T212254Z
DTSTART;TZID=Europe/Berlin:20210523T170000
DTEND;TZID=Europe/Berlin:20210523T184500
SUMMARY:N - 2. Klasse Ost/Mitte 2020/21: Zwölfaxing - VfB Mödling
END:VEVENT
BEGIN:VEVENT
UID:20260425T212254UTC-9752Rklfzr@85.215.121.98
DTSTAMP:20260425T212254Z
DTSTART;TZID=Europe/Berlin:20210530T170000
DTEND;TZID=Europe/Berlin:20210530T184500
SUMMARY:N - 2. Klasse Ost/Mitte 2020/21: VfB Mödling - SC Lanzendorf
END:VEVENT
BEGIN:VEVENT
UID:20260425T212254UTC-9758hVVTvW@85.215.121.98
DTSTAMP:20260425T212254Z
DTSTART;TZID=Europe/Berlin:20210606T173000
DTEND;TZID=Europe/Berlin:20210606T191500
SUMMARY:N - 2. Klasse Ost/Mitte 2020/21: Moosbrunn - VfB Mödling
END:VEVENT
BEGIN:VEVENT
UID:20260425T212254UTC-9764SEb9V0@85.215.121.98
DTSTAMP:20260425T212254Z
DTSTART;TZID=Europe/Berlin:20210613T173000
DTEND;TZID=Europe/Berlin:20210613T191500
SUMMARY:N - 2. Klasse Ost/Mitte 2020/21: VfB Mödling - SG Hinterbrühl/Gießh
 übl
END:VEVENT
END:VCALENDAR
