BEGIN:VCALENDAR
VERSION:2.0
PRODID:-////NONSGML kigkonsult.se iCalcreator 2.18//
X-WR-TIMEZONE:Europe/Berlin
BEGIN:VTIMEZONE
TZID:Europe/Berlin
X-LIC-LOCATION:Europe/Berlin
BEGIN:STANDARD
DTSTART:20201025T030000
TZOFFSETFROM:+0200
TZOFFSETTO:+0100
RDATE:20211031T030000
TZNAME:CET
END:STANDARD
BEGIN:DAYLIGHT
DTSTART:20210328T020000
TZOFFSETFROM:+0100
TZOFFSETTO:+0200
RDATE:20220327T020000
TZNAME:CEST
END:DAYLIGHT
END:VTIMEZONE
BEGIN:VEVENT
UID:20260425T104138UTC-3015juNnvg@85.215.121.98
DTSTAMP:20260425T104138Z
DTSTART;TZID=Europe/Berlin:20200905T163000
DTEND;TZID=Europe/Berlin:20200905T181500
SUMMARY:N - 2. Klasse Ost 2020/21: Sarasdorf - Wolfsthal
END:VEVENT
BEGIN:VEVENT
UID:20260425T104138UTC-3023xFmjnr@85.215.121.98
DTSTAMP:20260425T104138Z
DTSTART;TZID=Europe/Berlin:20200911T193000
DTEND;TZID=Europe/Berlin:20200911T211500
SUMMARY:N - 2. Klasse Ost 2020/21: Wolfsthal - Rohrau
END:VEVENT
BEGIN:VEVENT
UID:20260425T104138UTC-3044kX35wi@85.215.121.98
DTSTAMP:20260425T104138Z
DTSTART;TZID=Europe/Berlin:20200920T160000
DTEND;TZID=Europe/Berlin:20200920T174500
SUMMARY:N - 2. Klasse Ost 2020/21: Margarethen/M. - Wolfsthal
END:VEVENT
BEGIN:VEVENT
UID:20260425T104138UTC-3053pIvGR4@85.215.121.98
DTSTAMP:20260425T104138Z
DTSTART;TZID=Europe/Berlin:20200926T180000
DTEND;TZID=Europe/Berlin:20200926T194500
SUMMARY:N - 2. Klasse Ost 2020/21: Wolfsthal - Fischamend
END:VEVENT
BEGIN:VEVENT
UID:20260425T104138UTC-3060VGuHRj@85.215.121.98
DTSTAMP:20260425T104138Z
DTSTART;TZID=Europe/Berlin:20201003T153000
DTEND;TZID=Europe/Berlin:20201003T171500
SUMMARY:N - 2. Klasse Ost 2020/21: Hof/L. - Wolfsthal
END:VEVENT
BEGIN:VEVENT
UID:20260425T104138UTC-3084FoFpvv@85.215.121.98
DTSTAMP:20260425T104138Z
DTSTART;TZID=Europe/Berlin:20201010T180000
DTEND;TZID=Europe/Berlin:20201010T194500
SUMMARY:N - 2. Klasse Ost 2020/21: Wolfsthal - Wilfleinsdorf
END:VEVENT
BEGIN:VEVENT
UID:20260425T104138UTC-3090dVWNgw@85.215.121.98
DTSTAMP:20260425T104138Z
DTSTART;TZID=Europe/Berlin:20201016T193000
DTEND;TZID=Europe/Berlin:20201016T211500
SUMMARY:N - 2. Klasse Ost 2020/21: Prellenkirchen - Wolfsthal
END:VEVENT
BEGIN:VEVENT
UID:20260425T104138UTC-3098uVURTj@85.215.121.98
DTSTAMP:20260425T104138Z
DTSTART;TZID=Europe/Berlin:20201024T180000
DTEND;TZID=Europe/Berlin:20201024T194500
SUMMARY:N - 2. Klasse Ost 2020/21: Wolfsthal - Höflein
END:VEVENT
BEGIN:VEVENT
UID:20260425T104138UTC-31033LPHwN@85.215.121.98
DTSTAMP:20260425T104138Z
DTSTART;TZID=Europe/Berlin:20201101T140000
DTEND;TZID=Europe/Berlin:20201101T154500
SUMMARY:N - 2. Klasse Ost 2020/21: Stixneusiedl - Wolfsthal
END:VEVENT
BEGIN:VEVENT
UID:20260425T104138UTC-3124DxR2oj@85.215.121.98
DTSTAMP:20260425T104138Z
DTSTART;TZID=Europe/Berlin:20201107T180000
DTEND;TZID=Europe/Berlin:20201107T194500
SUMMARY:N - 2. Klasse Ost 2020/21: Wolfsthal - Petronell
END:VEVENT
BEGIN:VEVENT
UID:20260425T104138UTC-3131u4vvMp@85.215.121.98
DTSTAMP:20260425T104138Z
DTSTART;TZID=Europe/Berlin:20201115T140000
DTEND;TZID=Europe/Berlin:20201115T154500
SUMMARY:N - 2. Klasse Ost 2020/21: Edelstal - Wolfsthal
END:VEVENT
BEGIN:VEVENT
UID:20260425T104138UTC-3137xvuW1O@85.215.121.98
DTSTAMP:20260425T104138Z
DTSTART;TZID=Europe/Berlin:20201122T140000
DTEND;TZID=Europe/Berlin:20201122T154500
SUMMARY:N - 2. Klasse Ost 2020/21: Au/L. - Wolfsthal
END:VEVENT
BEGIN:VEVENT
UID:20260425T104138UTC-3256UVW4nG@85.215.121.98
DTSTAMP:20260425T104138Z
DTSTART;TZID=Europe/Berlin:20201128T180000
DTEND;TZID=Europe/Berlin:20201128T194500
SUMMARY:N - 2. Klasse Ost 2020/21: Wolfsthal - Hundsheim
END:VEVENT
BEGIN:VEVENT
UID:20260425T104138UTC-32639pBjRD@85.215.121.98
DTSTAMP:20260425T104138Z
DTSTART;TZID=Europe/Berlin:20210321T153000
DTEND;TZID=Europe/Berlin:20210321T171500
SUMMARY:N - 2. Klasse Ost 2020/21: Wolfsthal - Sarasdorf
END:VEVENT
BEGIN:VEVENT
UID:20260425T104138UTC-3270eN4XtM@85.215.121.98
DTSTAMP:20260425T104138Z
DTSTART;TZID=Europe/Berlin:20210328T163000
DTEND;TZID=Europe/Berlin:20210328T181500
SUMMARY:N - 2. Klasse Ost 2020/21: Rohrau - Wolfsthal
END:VEVENT
BEGIN:VEVENT
UID:20260425T104138UTC-3277VuhURr@85.215.121.98
DTSTAMP:20260425T104138Z
DTSTART;TZID=Europe/Berlin:20210404T163000
DTEND;TZID=Europe/Berlin:20210404T181500
SUMMARY:N - 2. Klasse Ost 2020/21: Wolfsthal - Margarethen/M.
END:VEVENT
BEGIN:VEVENT
UID:20260425T104138UTC-3284LL0gXg@85.215.121.98
DTSTAMP:20260425T104138Z
DTSTART;TZID=Europe/Berlin:20210411T163000
DTEND;TZID=Europe/Berlin:20210411T181500
SUMMARY:N - 2. Klasse Ost 2020/21: Fischamend - Wolfsthal
END:VEVENT
BEGIN:VEVENT
UID:20260425T104138UTC-3292uDhvMX@85.215.121.98
DTSTAMP:20260425T104138Z
DTSTART;TZID=Europe/Berlin:20210418T163000
DTEND;TZID=Europe/Berlin:20210418T181500
SUMMARY:N - 2. Klasse Ost 2020/21: Wolfsthal - Hof/L.
END:VEVENT
BEGIN:VEVENT
UID:20260425T104138UTC-3297UFP4ft@85.215.121.98
DTSTAMP:20260425T104138Z
DTSTART;TZID=Europe/Berlin:20210425T163000
DTEND;TZID=Europe/Berlin:20210425T181500
SUMMARY:N - 2. Klasse Ost 2020/21: Wilfleinsdorf - Wolfsthal
END:VEVENT
BEGIN:VEVENT
UID:20260425T104138UTC-3334I1LB3b@85.215.121.98
DTSTAMP:20260425T104138Z
DTSTART;TZID=Europe/Berlin:20210502T163000
DTEND;TZID=Europe/Berlin:20210502T181500
SUMMARY:N - 2. Klasse Ost 2020/21: Wolfsthal - Prellenkirchen
END:VEVENT
BEGIN:VEVENT
UID:20260425T104138UTC-3342oHvkxe@85.215.121.98
DTSTAMP:20260425T104138Z
DTSTART;TZID=Europe/Berlin:20210509T163000
DTEND;TZID=Europe/Berlin:20210509T181500
SUMMARY:N - 2. Klasse Ost 2020/21: Höflein - Wolfsthal
END:VEVENT
BEGIN:VEVENT
UID:20260425T104138UTC-3349Tk7hte@85.215.121.98
DTSTAMP:20260425T104138Z
DTSTART;TZID=Europe/Berlin:20210516T163000
DTEND;TZID=Europe/Berlin:20210516T181500
SUMMARY:N - 2. Klasse Ost 2020/21: Wolfsthal - Stixneusiedl
END:VEVENT
BEGIN:VEVENT
UID:20260425T104138UTC-3514u7WU4h@85.215.121.98
DTSTAMP:20260425T104138Z
DTSTART;TZID=Europe/Berlin:20210523T170000
DTEND;TZID=Europe/Berlin:20210523T184500
SUMMARY:N - 2. Klasse Ost 2020/21: Petronell - Wolfsthal
END:VEVENT
BEGIN:VEVENT
UID:20260425T104138UTC-3673mRuUZW@85.215.121.98
DTSTAMP:20260425T104138Z
DTSTART;TZID=Europe/Berlin:20210530T170000
DTEND;TZID=Europe/Berlin:20210530T184500
SUMMARY:N - 2. Klasse Ost 2020/21: Wolfsthal - Edelstal
END:VEVENT
BEGIN:VEVENT
UID:20260425T104138UTC-3704MXevD3@85.215.121.98
DTSTAMP:20260425T104138Z
DTSTART;TZID=Europe/Berlin:20210606T173000
DTEND;TZID=Europe/Berlin:20210606T191500
SUMMARY:N - 2. Klasse Ost 2020/21: Wolfsthal - Au/L.
END:VEVENT
BEGIN:VEVENT
UID:20260425T104138UTC-3710bZvejf@85.215.121.98
DTSTAMP:20260425T104138Z
DTSTART;TZID=Europe/Berlin:20210613T173000
DTEND;TZID=Europe/Berlin:20210613T191500
SUMMARY:N - 2. Klasse Ost 2020/21: Hundsheim - Wolfsthal
END:VEVENT
END:VCALENDAR
