BEGIN:VCALENDAR
VERSION:2.0
PRODID:-////NONSGML kigkonsult.se iCalcreator 2.18//
X-WR-TIMEZONE:Europe/Berlin
BEGIN:VTIMEZONE
TZID:Europe/Berlin
X-LIC-LOCATION:Europe/Berlin
BEGIN:STANDARD
DTSTART:20201025T030000
TZOFFSETFROM:+0200
TZOFFSETTO:+0100
RDATE:20211031T030000
TZNAME:CET
END:STANDARD
BEGIN:DAYLIGHT
DTSTART:20210328T020000
TZOFFSETFROM:+0100
TZOFFSETTO:+0200
RDATE:20220327T020000
TZNAME:CEST
END:DAYLIGHT
END:VTIMEZONE
BEGIN:VEVENT
UID:20260425T104151UTC-2959r3VaK6@85.215.121.98
DTSTAMP:20260425T104151Z
DTSTART;TZID=Europe/Berlin:20200829T170000
DTEND;TZID=Europe/Berlin:20200829T184500
SUMMARY:N - 2. Klasse Ost 2020/21: Höflein - Fischamend
END:VEVENT
BEGIN:VEVENT
UID:20260425T104151UTC-3195ztGREt@85.215.121.98
DTSTAMP:20260425T104151Z
DTSTART;TZID=Europe/Berlin:20200904T190000
DTEND;TZID=Europe/Berlin:20200904T204500
SUMMARY:N - 2. Klasse Ost 2020/21: Fischamend - Stixneusiedl
END:VEVENT
BEGIN:VEVENT
UID:20260425T104151UTC-3204NC97c9@85.215.121.98
DTSTAMP:20260425T104151Z
DTSTART;TZID=Europe/Berlin:20200913T163000
DTEND;TZID=Europe/Berlin:20200913T181500
SUMMARY:N - 2. Klasse Ost 2020/21: Petronell - Fischamend
END:VEVENT
BEGIN:VEVENT
UID:20260425T104151UTC-3210zwPIea@85.215.121.98
DTSTAMP:20260425T104151Z
DTSTART;TZID=Europe/Berlin:20200918T193000
DTEND;TZID=Europe/Berlin:20200918T211500
SUMMARY:N - 2. Klasse Ost 2020/21: Fischamend - Edelstal
END:VEVENT
BEGIN:VEVENT
UID:20260425T104151UTC-3217UEl2TW@85.215.121.98
DTSTAMP:20260425T104151Z
DTSTART;TZID=Europe/Berlin:20200926T180000
DTEND;TZID=Europe/Berlin:20200926T194500
SUMMARY:N - 2. Klasse Ost 2020/21: Wolfsthal - Fischamend
END:VEVENT
BEGIN:VEVENT
UID:20260425T104151UTC-32249Gb9dk@85.215.121.98
DTSTAMP:20260425T104151Z
DTSTART;TZID=Europe/Berlin:20201002T193000
DTEND;TZID=Europe/Berlin:20201002T211500
SUMMARY:N - 2. Klasse Ost 2020/21: Fischamend - Hundsheim
END:VEVENT
BEGIN:VEVENT
UID:20260425T104151UTC-3230l6udPM@85.215.121.98
DTSTAMP:20260425T104151Z
DTSTART;TZID=Europe/Berlin:20201010T153000
DTEND;TZID=Europe/Berlin:20201010T171500
SUMMARY:N - 2. Klasse Ost 2020/21: Sarasdorf - Fischamend
END:VEVENT
BEGIN:VEVENT
UID:20260425T104151UTC-3239AmJ1vB@85.215.121.98
DTSTAMP:20260425T104151Z
DTSTART;TZID=Europe/Berlin:20201016T193000
DTEND;TZID=Europe/Berlin:20201016T211500
SUMMARY:N - 2. Klasse Ost 2020/21: Fischamend - Rohrau
END:VEVENT
BEGIN:VEVENT
UID:20260425T104151UTC-3245lEMMMM@85.215.121.98
DTSTAMP:20260425T104151Z
DTSTART;TZID=Europe/Berlin:20201025T140000
DTEND;TZID=Europe/Berlin:20201025T154500
SUMMARY:N - 2. Klasse Ost 2020/21: Margarethen/M. - Fischamend
END:VEVENT
BEGIN:VEVENT
UID:20260425T104151UTC-3274ar3nb7@85.215.121.98
DTSTAMP:20260425T104151Z
DTSTART;TZID=Europe/Berlin:20201030T193000
DTEND;TZID=Europe/Berlin:20201030T211500
SUMMARY:N - 2. Klasse Ost 2020/21: Fischamend - Au/L.
END:VEVENT
BEGIN:VEVENT
UID:20260425T104151UTC-3282SnwSLk@85.215.121.98
DTSTAMP:20260425T104151Z
DTSTART;TZID=Europe/Berlin:20201106T193000
DTEND;TZID=Europe/Berlin:20201106T211500
SUMMARY:N - 2. Klasse Ost 2020/21: Fischamend - Hof/L.
END:VEVENT
BEGIN:VEVENT
UID:20260425T104151UTC-3287HRtpLZ@85.215.121.98
DTSTAMP:20260425T104151Z
DTSTART;TZID=Europe/Berlin:20201114T170000
DTEND;TZID=Europe/Berlin:20201114T184500
SUMMARY:N - 2. Klasse Ost 2020/21: Wilfleinsdorf - Fischamend
END:VEVENT
BEGIN:VEVENT
UID:20260425T104151UTC-3295Sb8mkM@85.215.121.98
DTSTAMP:20260425T104151Z
DTSTART;TZID=Europe/Berlin:20201120T193000
DTEND;TZID=Europe/Berlin:20201120T211500
SUMMARY:N - 2. Klasse Ost 2020/21: Fischamend - Prellenkirchen
END:VEVENT
BEGIN:VEVENT
UID:20260425T104151UTC-3301rPiCSS@85.215.121.98
DTSTAMP:20260425T104151Z
DTSTART;TZID=Europe/Berlin:20210321T153000
DTEND;TZID=Europe/Berlin:20210321T171500
SUMMARY:N - 2. Klasse Ost 2020/21: Stixneusiedl - Fischamend
END:VEVENT
BEGIN:VEVENT
UID:20260425T104151UTC-3307Jmfiwz@85.215.121.98
DTSTAMP:20260425T104151Z
DTSTART;TZID=Europe/Berlin:20210328T163000
DTEND;TZID=Europe/Berlin:20210328T181500
SUMMARY:N - 2. Klasse Ost 2020/21: Fischamend - Petronell
END:VEVENT
BEGIN:VEVENT
UID:20260425T104151UTC-3313PBE7GB@85.215.121.98
DTSTAMP:20260425T104151Z
DTSTART;TZID=Europe/Berlin:20210404T163000
DTEND;TZID=Europe/Berlin:20210404T181500
SUMMARY:N - 2. Klasse Ost 2020/21: Edelstal - Fischamend
END:VEVENT
BEGIN:VEVENT
UID:20260425T104151UTC-3319gFvR9I@85.215.121.98
DTSTAMP:20260425T104151Z
DTSTART;TZID=Europe/Berlin:20210411T163000
DTEND;TZID=Europe/Berlin:20210411T181500
SUMMARY:N - 2. Klasse Ost 2020/21: Fischamend - Wolfsthal
END:VEVENT
BEGIN:VEVENT
UID:20260425T104151UTC-33250Fd23F@85.215.121.98
DTSTAMP:20260425T104151Z
DTSTART;TZID=Europe/Berlin:20210418T163000
DTEND;TZID=Europe/Berlin:20210418T181500
SUMMARY:N - 2. Klasse Ost 2020/21: Hundsheim - Fischamend
END:VEVENT
BEGIN:VEVENT
UID:20260425T104151UTC-3332wvoMPv@85.215.121.98
DTSTAMP:20260425T104151Z
DTSTART;TZID=Europe/Berlin:20210425T163000
DTEND;TZID=Europe/Berlin:20210425T181500
SUMMARY:N - 2. Klasse Ost 2020/21: Fischamend - Sarasdorf
END:VEVENT
BEGIN:VEVENT
UID:20260425T104151UTC-33642V8O0A@85.215.121.98
DTSTAMP:20260425T104151Z
DTSTART;TZID=Europe/Berlin:20210502T163000
DTEND;TZID=Europe/Berlin:20210502T181500
SUMMARY:N - 2. Klasse Ost 2020/21: Rohrau - Fischamend
END:VEVENT
BEGIN:VEVENT
UID:20260425T104151UTC-3371XIdkfb@85.215.121.98
DTSTAMP:20260425T104151Z
DTSTART;TZID=Europe/Berlin:20210509T163000
DTEND;TZID=Europe/Berlin:20210509T181500
SUMMARY:N - 2. Klasse Ost 2020/21: Fischamend - Margarethen/M.
END:VEVENT
BEGIN:VEVENT
UID:20260425T104151UTC-3376BpXlSe@85.215.121.98
DTSTAMP:20260425T104151Z
DTSTART;TZID=Europe/Berlin:20210516T163000
DTEND;TZID=Europe/Berlin:20210516T181500
SUMMARY:N - 2. Klasse Ost 2020/21: Au/L. - Fischamend
END:VEVENT
BEGIN:VEVENT
UID:20260425T104151UTC-3382Vic5mu@85.215.121.98
DTSTAMP:20260425T104151Z
DTSTART;TZID=Europe/Berlin:20210523T170000
DTEND;TZID=Europe/Berlin:20210523T184500
SUMMARY:N - 2. Klasse Ost 2020/21: Hof/L. - Fischamend
END:VEVENT
BEGIN:VEVENT
UID:20260425T104151UTC-3424RWEeZg@85.215.121.98
DTSTAMP:20260425T104151Z
DTSTART;TZID=Europe/Berlin:20210530T170000
DTEND;TZID=Europe/Berlin:20210530T184500
SUMMARY:N - 2. Klasse Ost 2020/21: Fischamend - Wilfleinsdorf
END:VEVENT
BEGIN:VEVENT
UID:20260425T104151UTC-3430xDRd0A@85.215.121.98
DTSTAMP:20260425T104151Z
DTSTART;TZID=Europe/Berlin:20210606T173000
DTEND;TZID=Europe/Berlin:20210606T191500
SUMMARY:N - 2. Klasse Ost 2020/21: Prellenkirchen - Fischamend
END:VEVENT
BEGIN:VEVENT
UID:20260425T104151UTC-3436cUb9mX@85.215.121.98
DTSTAMP:20260425T104151Z
DTSTART;TZID=Europe/Berlin:20210613T173000
DTEND;TZID=Europe/Berlin:20210613T191500
SUMMARY:N - 2. Klasse Ost 2020/21: Fischamend - Höflein
END:VEVENT
END:VCALENDAR
