BEGIN:VCALENDAR
VERSION:2.0
PRODID:-////NONSGML kigkonsult.se iCalcreator 2.18//
X-WR-TIMEZONE:Europe/Berlin
BEGIN:VTIMEZONE
TZID:Europe/Berlin
X-LIC-LOCATION:Europe/Berlin
BEGIN:STANDARD
DTSTART:20201025T030000
TZOFFSETFROM:+0200
TZOFFSETTO:+0100
RDATE:20211031T030000
TZNAME:CET
END:STANDARD
BEGIN:DAYLIGHT
DTSTART:20210328T020000
TZOFFSETFROM:+0100
TZOFFSETTO:+0200
RDATE:20220327T020000
TZNAME:CEST
END:DAYLIGHT
END:VTIMEZONE
BEGIN:VEVENT
UID:20260422T071941UTC-7758sWb2uS@85.215.121.98
DTSTAMP:20260422T071941Z
DTSTART;TZID=Europe/Berlin:20200801T180000
DTEND;TZID=Europe/Berlin:20200801T194500
SUMMARY:K - 1. Klasse D 2020/21: Eisenkappel - Tainach
END:VEVENT
BEGIN:VEVENT
UID:20260422T071941UTC-7766UFlIIU@85.215.121.98
DTSTAMP:20260422T071941Z
DTSTART;TZID=Europe/Berlin:20200808T180000
DTEND;TZID=Europe/Berlin:20200808T194500
SUMMARY:K - 1. Klasse D 2020/21: Bad St. Leonhard - Eisenkappel
END:VEVENT
BEGIN:VEVENT
UID:20260422T071941UTC-7773tnjhbV@85.215.121.98
DTSTAMP:20260422T071941Z
DTSTART;TZID=Europe/Berlin:20200815T173000
DTEND;TZID=Europe/Berlin:20200815T191500
SUMMARY:K - 1. Klasse D 2020/21: Eisenkappel - Eitweg
END:VEVENT
BEGIN:VEVENT
UID:20260422T071941UTC-7781HudmwP@85.215.121.98
DTSTAMP:20260422T071941Z
DTSTART;TZID=Europe/Berlin:20200822T170000
DTEND;TZID=Europe/Berlin:20200822T184500
SUMMARY:K - 1. Klasse D 2020/21: Eisenkappel - Griffen
END:VEVENT
BEGIN:VEVENT
UID:20260422T071941UTC-7788jr2Ih7@85.215.121.98
DTSTAMP:20260422T071941Z
DTSTART;TZID=Europe/Berlin:20200905T170000
DTEND;TZID=Europe/Berlin:20200905T184500
SUMMARY:K - 1. Klasse D 2020/21: Eisenkappel - St. Margarethen/Lav.
END:VEVENT
BEGIN:VEVENT
UID:20260422T071941UTC-7794vG3ZhG@85.215.121.98
DTSTAMP:20260422T071941Z
DTSTART;TZID=Europe/Berlin:20200911T170000
DTEND;TZID=Europe/Berlin:20200911T184500
SUMMARY:K - 1. Klasse D 2020/21: Haimburg - Eisenkappel
END:VEVENT
BEGIN:VEVENT
UID:20260422T071941UTC-7800bpmgAw@85.215.121.98
DTSTAMP:20260422T071941Z
DTSTART;TZID=Europe/Berlin:20200913T103000
DTEND;TZID=Europe/Berlin:20200913T121500
SUMMARY:K - 1. Klasse D 2020/21: Globasnitz - Eisenkappel
END:VEVENT
BEGIN:VEVENT
UID:20260422T071941UTC-7807C3cupg@85.215.121.98
DTSTAMP:20260422T071941Z
DTSTART;TZID=Europe/Berlin:20200919T163000
DTEND;TZID=Europe/Berlin:20200919T181500
SUMMARY:K - 1. Klasse D 2020/21: Eisenkappel - St. Margareten/Ros.
END:VEVENT
BEGIN:VEVENT
UID:20260422T071941UTC-7813eV7TlJ@85.215.121.98
DTSTAMP:20260422T071941Z
DTSTART;TZID=Europe/Berlin:20200926T150000
DTEND;TZID=Europe/Berlin:20200926T164500
SUMMARY:K - 1. Klasse D 2020/21: Ferlach DSG - Eisenkappel
END:VEVENT
BEGIN:VEVENT
UID:20260422T071941UTC-7822vMRVCr@85.215.121.98
DTSTAMP:20260422T071941Z
DTSTART;TZID=Europe/Berlin:20201003T160000
DTEND;TZID=Europe/Berlin:20201003T174500
SUMMARY:K - 1. Klasse D 2020/21: Eisenkappel - SAK 1b
END:VEVENT
BEGIN:VEVENT
UID:20260422T071941UTC-7828Pk6hEu@85.215.121.98
DTSTAMP:20260422T071941Z
DTSTART;TZID=Europe/Berlin:20201010T160000
DTEND;TZID=Europe/Berlin:20201010T174500
SUMMARY:K - 1. Klasse D 2020/21: Sittersdorf - Eisenkappel
END:VEVENT
BEGIN:VEVENT
UID:20260422T071941UTC-7834IXe1cz@85.215.121.98
DTSTAMP:20260422T071941Z
DTSTART;TZID=Europe/Berlin:20201024T140000
DTEND;TZID=Europe/Berlin:20201024T154500
SUMMARY:K - 1. Klasse D 2020/21: Klopeiner See - Eisenkappel
END:VEVENT
BEGIN:VEVENT
UID:20260422T071941UTC-7840V0H9Mc@85.215.121.98
DTSTAMP:20260422T071941Z
DTSTART;TZID=Europe/Berlin:20210321T230000
DTEND;TZID=Europe/Berlin:20210322T004500
SUMMARY:K - 1. Klasse D 2020/21: Eisenkappel - Bad St. Leonhard
END:VEVENT
BEGIN:VEVENT
UID:20260422T071941UTC-7845kIX1wX@85.215.121.98
DTSTAMP:20260422T071941Z
DTSTART;TZID=Europe/Berlin:20210327T153000
DTEND;TZID=Europe/Berlin:20210327T171500
SUMMARY:K - 1. Klasse D 2020/21: Eitweg - Eisenkappel
END:VEVENT
BEGIN:VEVENT
UID:20260422T071941UTC-78513Ib5xL@85.215.121.98
DTSTAMP:20260422T071941Z
DTSTART;TZID=Europe/Berlin:20210403T153000
DTEND;TZID=Europe/Berlin:20210403T171500
SUMMARY:K - 1. Klasse D 2020/21: Griffen - Eisenkappel
END:VEVENT
BEGIN:VEVENT
UID:20260422T071941UTC-7857Aphjv4@85.215.121.98
DTSTAMP:20260422T071941Z
DTSTART;TZID=Europe/Berlin:20210411T230000
DTEND;TZID=Europe/Berlin:20210412T004500
SUMMARY:K - 1. Klasse D 2020/21: Eisenkappel - Haimburg
END:VEVENT
BEGIN:VEVENT
UID:20260422T071941UTC-7863ieV7Eg@85.215.121.98
DTSTAMP:20260422T071941Z
DTSTART;TZID=Europe/Berlin:20210417T140000
DTEND;TZID=Europe/Berlin:20210417T154500
SUMMARY:K - 1. Klasse D 2020/21: Tainach - Eisenkappel
END:VEVENT
BEGIN:VEVENT
UID:20260422T071941UTC-7870p8prST@85.215.121.98
DTSTAMP:20260422T071941Z
DTSTART;TZID=Europe/Berlin:20210418T230000
DTEND;TZID=Europe/Berlin:20210419T004500
SUMMARY:K - 1. Klasse D 2020/21: St. Margarethen/Lav. - Eisenkappel
END:VEVENT
BEGIN:VEVENT
UID:20260422T071941UTC-78773PUtPe@85.215.121.98
DTSTAMP:20260422T071941Z
DTSTART;TZID=Europe/Berlin:20210425T230000
DTEND;TZID=Europe/Berlin:20210426T004500
SUMMARY:K - 1. Klasse D 2020/21: Eisenkappel - Globasnitz
END:VEVENT
BEGIN:VEVENT
UID:20260422T071941UTC-7883KCDKOv@85.215.121.98
DTSTAMP:20260422T071941Z
DTSTART;TZID=Europe/Berlin:20210502T230000
DTEND;TZID=Europe/Berlin:20210503T004500
SUMMARY:K - 1. Klasse D 2020/21: St. Margareten/Ros. - Eisenkappel
END:VEVENT
BEGIN:VEVENT
UID:20260422T071941UTC-7891bsMtIz@85.215.121.98
DTSTAMP:20260422T071941Z
DTSTART;TZID=Europe/Berlin:20210509T230000
DTEND;TZID=Europe/Berlin:20210510T004500
SUMMARY:K - 1. Klasse D 2020/21: Eisenkappel - Ferlach DSG
END:VEVENT
BEGIN:VEVENT
UID:20260422T071941UTC-7898mpTeZZ@85.215.121.98
DTSTAMP:20260422T071941Z
DTSTART;TZID=Europe/Berlin:20210513T230000
DTEND;TZID=Europe/Berlin:20210514T004500
SUMMARY:K - 1. Klasse D 2020/21: SAK 1b - Eisenkappel
END:VEVENT
BEGIN:VEVENT
UID:20260422T071941UTC-7904sHmxGp@85.215.121.98
DTSTAMP:20260422T071941Z
DTSTART;TZID=Europe/Berlin:20210516T230000
DTEND;TZID=Europe/Berlin:20210517T004500
SUMMARY:K - 1. Klasse D 2020/21: Eisenkappel - Sittersdorf
END:VEVENT
BEGIN:VEVENT
UID:20260422T071941UTC-7914HnScnM@85.215.121.98
DTSTAMP:20260422T071941Z
DTSTART;TZID=Europe/Berlin:20210522T230000
DTEND;TZID=Europe/Berlin:20210523T004500
SUMMARY:K - 1. Klasse D 2020/21: Mittlern - Eisenkappel
END:VEVENT
BEGIN:VEVENT
UID:20260422T071941UTC-7922gDPEsd@85.215.121.98
DTSTAMP:20260422T071941Z
DTSTART;TZID=Europe/Berlin:20210524T230000
DTEND;TZID=Europe/Berlin:20210525T004500
SUMMARY:K - 1. Klasse D 2020/21: Eisenkappel - Klopeiner See
END:VEVENT
BEGIN:VEVENT
UID:20260422T071941UTC-7927ev9rVo@85.215.121.98
DTSTAMP:20260422T071941Z
DTSTART;TZID=Europe/Berlin:20210530T230000
DTEND;TZID=Europe/Berlin:20210531T004500
SUMMARY:K - 1. Klasse D 2020/21: Kühnsdorf - Eisenkappel
END:VEVENT
BEGIN:VEVENT
UID:20260422T071941UTC-7935Jcug3b@85.215.121.98
DTSTAMP:20260422T071941Z
DTSTART;TZID=Europe/Berlin:20210606T230000
DTEND;TZID=Europe/Berlin:20210607T004500
SUMMARY:K - 1. Klasse D 2020/21: Eisenkappel - Lavamünd
END:VEVENT
BEGIN:VEVENT
UID:20260422T071941UTC-7945PRUO98@85.215.121.98
DTSTAMP:20260422T071941Z
DTSTART;TZID=Europe/Berlin:20210619T170000
DTEND;TZID=Europe/Berlin:20210619T184500
SUMMARY:K - 1. Klasse D 2020/21: Eisenkappel - Mittlern
END:VEVENT
BEGIN:VEVENT
UID:20260422T071941UTC-79524AUv57@85.215.121.98
DTSTAMP:20260422T071941Z
DTSTART;TZID=Europe/Berlin:20210623T183000
DTEND;TZID=Europe/Berlin:20210623T201500
SUMMARY:K - 1. Klasse D 2020/21: Eisenkappel - Kühnsdorf
END:VEVENT
BEGIN:VEVENT
UID:20260422T071941UTC-7959Hz6ZG4@85.215.121.98
DTSTAMP:20260422T071941Z
DTSTART;TZID=Europe/Berlin:20210626T180000
DTEND;TZID=Europe/Berlin:20210626T194500
SUMMARY:K - 1. Klasse D 2020/21: Lavamünd - Eisenkappel
END:VEVENT
END:VCALENDAR
