BEGIN:VCALENDAR
VERSION:2.0
PRODID:-////NONSGML kigkonsult.se iCalcreator 2.18//
X-WR-TIMEZONE:Europe/Berlin
BEGIN:VTIMEZONE
TZID:Europe/Berlin
X-LIC-LOCATION:Europe/Berlin
BEGIN:STANDARD
DTSTART:20201025T030000
TZOFFSETFROM:+0200
TZOFFSETTO:+0100
RDATE:20211031T030000
TZNAME:CET
END:STANDARD
BEGIN:DAYLIGHT
DTSTART:20210328T020000
TZOFFSETFROM:+0100
TZOFFSETTO:+0200
RDATE:20220327T020000
TZNAME:CEST
END:DAYLIGHT
END:VTIMEZONE
BEGIN:VEVENT
UID:20260423T203418UTC-9924u3vNcJ@85.215.121.98
DTSTAMP:20260423T203418Z
DTSTART;TZID=Europe/Berlin:20200801T180000
DTEND;TZID=Europe/Berlin:20200801T194500
SUMMARY:K - 1. Klasse A 2020/21: Kötschach - Irschen
END:VEVENT
BEGIN:VEVENT
UID:20260423T203418UTC-99318Gvch4@85.215.121.98
DTSTAMP:20260423T203418Z
DTSTART;TZID=Europe/Berlin:20200809T110000
DTEND;TZID=Europe/Berlin:20200809T124500
SUMMARY:K - 1. Klasse A 2020/21: Tristach - Kötschach
END:VEVENT
BEGIN:VEVENT
UID:20260423T203418UTC-9938FhbVxb@85.215.121.98
DTSTAMP:20260423T203418Z
DTSTART;TZID=Europe/Berlin:20200815T180000
DTEND;TZID=Europe/Berlin:20200815T194500
SUMMARY:K - 1. Klasse A 2020/21: Kötschach - SK Kirchbach
END:VEVENT
BEGIN:VEVENT
UID:20260423T203418UTC-9944XgfEmD@85.215.121.98
DTSTAMP:20260423T203418Z
DTSTART;TZID=Europe/Berlin:20200822T173000
DTEND;TZID=Europe/Berlin:20200822T191500
SUMMARY:K - 1. Klasse A 2020/21: Lurnfeld - Kötschach
END:VEVENT
BEGIN:VEVENT
UID:20260423T203418UTC-99506a41T7@85.215.121.98
DTSTAMP:20260423T203418Z
DTSTART;TZID=Europe/Berlin:20200829T170000
DTEND;TZID=Europe/Berlin:20200829T184500
SUMMARY:K - 1. Klasse A 2020/21: Kötschach - SG Virgental/TSU Virgen
END:VEVENT
BEGIN:VEVENT
UID:20260423T203418UTC-9956Ebpkrz@85.215.121.98
DTSTAMP:20260423T203418Z
DTSTART;TZID=Europe/Berlin:20200912T160000
DTEND;TZID=Europe/Berlin:20200912T174500
SUMMARY:K - 1. Klasse A 2020/21: Kötschach - Dellach/Dr.
END:VEVENT
BEGIN:VEVENT
UID:20260423T203418UTC-9962AOvLIV@85.215.121.98
DTSTAMP:20260423T203418Z
DTSTART;TZID=Europe/Berlin:20200920T110000
DTEND;TZID=Europe/Berlin:20200920T124500
SUMMARY:K - 1. Klasse A 2020/21: Sillian - Kötschach
END:VEVENT
BEGIN:VEVENT
UID:20260423T203418UTC-9969KkOb6C@85.215.121.98
DTSTAMP:20260423T203418Z
DTSTART;TZID=Europe/Berlin:20200926T153000
DTEND;TZID=Europe/Berlin:20200926T171500
SUMMARY:K - 1. Klasse A 2020/21: Kötschach - Mölltal
END:VEVENT
BEGIN:VEVENT
UID:20260423T203418UTC-9975bnMVul@85.215.121.98
DTSTAMP:20260423T203418Z
DTSTART;TZID=Europe/Berlin:20201010T160000
DTEND;TZID=Europe/Berlin:20201010T174500
SUMMARY:K - 1. Klasse A 2020/21: Kötschach - Oberlienz
END:VEVENT
BEGIN:VEVENT
UID:20260423T203418UTC-9982oB27UX@85.215.121.98
DTSTAMP:20260423T203418Z
DTSTART;TZID=Europe/Berlin:20201018T110000
DTEND;TZID=Europe/Berlin:20201018T124500
SUMMARY:K - 1. Klasse A 2020/21: Penk - Kötschach
END:VEVENT
BEGIN:VEVENT
UID:20260423T203418UTC-9987606S1D@85.215.121.98
DTSTAMP:20260423T203418Z
DTSTART;TZID=Europe/Berlin:20201024T153000
DTEND;TZID=Europe/Berlin:20201024T171500
SUMMARY:K - 1. Klasse A 2020/21: Kötschach - Oberes Mölltal
END:VEVENT
BEGIN:VEVENT
UID:20260423T203418UTC-9994Nv5Rub@85.215.121.98
DTSTAMP:20260423T203418Z
DTSTART;TZID=Europe/Berlin:20201026T110000
DTEND;TZID=Europe/Berlin:20201026T124500
SUMMARY:K - 1. Klasse A 2020/21: Dölsach - Kötschach
END:VEVENT
BEGIN:VEVENT
UID:20260423T203419UTC-0001n8OfpE@85.215.121.98
DTSTAMP:20260423T203419Z
DTSTART;TZID=Europe/Berlin:20210321T150000
DTEND;TZID=Europe/Berlin:20210321T164500
SUMMARY:K - 1. Klasse A 2020/21: Irschen - Kötschach
END:VEVENT
BEGIN:VEVENT
UID:20260423T203419UTC-0007iBKXGE@85.215.121.98
DTSTAMP:20260423T203419Z
DTSTART;TZID=Europe/Berlin:20210328T230000
DTEND;TZID=Europe/Berlin:20210329T004500
SUMMARY:K - 1. Klasse A 2020/21: Kötschach - Tristach
END:VEVENT
BEGIN:VEVENT
UID:20260423T203419UTC-00122PaRnP@85.215.121.98
DTSTAMP:20260423T203419Z
DTSTART;TZID=Europe/Berlin:20210403T160000
DTEND;TZID=Europe/Berlin:20210403T174500
SUMMARY:K - 1. Klasse A 2020/21: SK Kirchbach - Kötschach
END:VEVENT
BEGIN:VEVENT
UID:20260423T203419UTC-0018bRs8Op@85.215.121.98
DTSTAMP:20260423T203419Z
DTSTART;TZID=Europe/Berlin:20210411T230000
DTEND;TZID=Europe/Berlin:20210412T004500
SUMMARY:K - 1. Klasse A 2020/21: Kötschach - Lurnfeld
END:VEVENT
BEGIN:VEVENT
UID:20260423T203419UTC-00248dex8t@85.215.121.98
DTSTAMP:20260423T203419Z
DTSTART;TZID=Europe/Berlin:20210417T160000
DTEND;TZID=Europe/Berlin:20210417T174500
SUMMARY:K - 1. Klasse A 2020/21: SG Virgental/TSU Virgen - Kötschach
END:VEVENT
BEGIN:VEVENT
UID:20260423T203419UTC-0031oPZaUH@85.215.121.98
DTSTAMP:20260423T203419Z
DTSTART;TZID=Europe/Berlin:20210425T230000
DTEND;TZID=Europe/Berlin:20210426T004500
SUMMARY:K - 1. Klasse A 2020/21: Kötschach - Egg
END:VEVENT
BEGIN:VEVENT
UID:20260423T203419UTC-0037jMFl8X@85.215.121.98
DTSTAMP:20260423T203419Z
DTSTART;TZID=Europe/Berlin:20210501T160000
DTEND;TZID=Europe/Berlin:20210501T174500
SUMMARY:K - 1. Klasse A 2020/21: Dellach/Dr. - Kötschach
END:VEVENT
BEGIN:VEVENT
UID:20260423T203419UTC-0045wSI42a@85.215.121.98
DTSTAMP:20260423T203419Z
DTSTART;TZID=Europe/Berlin:20210509T230000
DTEND;TZID=Europe/Berlin:20210510T004500
SUMMARY:K - 1. Klasse A 2020/21: Kötschach - Sillian
END:VEVENT
BEGIN:VEVENT
UID:20260423T203419UTC-0051d1neiN@85.215.121.98
DTSTAMP:20260423T203419Z
DTSTART;TZID=Europe/Berlin:20210513T160000
DTEND;TZID=Europe/Berlin:20210513T174500
SUMMARY:K - 1. Klasse A 2020/21: Mölltal - Kötschach
END:VEVENT
BEGIN:VEVENT
UID:20260423T203419UTC-0059gOAtjv@85.215.121.98
DTSTAMP:20260423T203419Z
DTSTART;TZID=Europe/Berlin:20210516T230000
DTEND;TZID=Europe/Berlin:20210517T004500
SUMMARY:K - 1. Klasse A 2020/21: Kötschach - Dölsach
END:VEVENT
BEGIN:VEVENT
UID:20260423T203419UTC-0065LmCXrv@85.215.121.98
DTSTAMP:20260423T203419Z
DTSTART;TZID=Europe/Berlin:20210523T230000
DTEND;TZID=Europe/Berlin:20210524T004500
SUMMARY:K - 1. Klasse A 2020/21: Oberlienz - Kötschach
END:VEVENT
BEGIN:VEVENT
UID:20260423T203419UTC-0071APUGRp@85.215.121.98
DTSTAMP:20260423T203419Z
DTSTART;TZID=Europe/Berlin:20210530T230000
DTEND;TZID=Europe/Berlin:20210531T004500
SUMMARY:K - 1. Klasse A 2020/21: Kötschach - Penk
END:VEVENT
BEGIN:VEVENT
UID:20260423T203419UTC-0078EumFUf@85.215.121.98
DTSTAMP:20260423T203419Z
DTSTART;TZID=Europe/Berlin:20210605T190000
DTEND;TZID=Europe/Berlin:20210605T204500
SUMMARY:K - 1. Klasse A 2020/21: Oberes Mölltal - Kötschach
END:VEVENT
BEGIN:VEVENT
UID:20260423T203419UTC-0084PULvpz@85.215.121.98
DTSTAMP:20260423T203419Z
DTSTART;TZID=Europe/Berlin:20210620T160000
DTEND;TZID=Europe/Berlin:20210620T174500
SUMMARY:K - 1. Klasse A 2020/21: Egg - Kötschach
END:VEVENT
END:VCALENDAR
