BEGIN:VCALENDAR
VERSION:2.0
PRODID:-////NONSGML kigkonsult.se iCalcreator 2.18//
X-WR-TIMEZONE:Europe/Berlin
BEGIN:VTIMEZONE
TZID:Europe/Berlin
X-LIC-LOCATION:Europe/Berlin
BEGIN:STANDARD
DTSTART:20201025T030000
TZOFFSETFROM:+0200
TZOFFSETTO:+0100
RDATE:20211031T030000
TZNAME:CET
END:STANDARD
BEGIN:DAYLIGHT
DTSTART:20210328T020000
TZOFFSETFROM:+0100
TZOFFSETTO:+0200
RDATE:20220327T020000
TZNAME:CEST
END:DAYLIGHT
END:VTIMEZONE
BEGIN:VEVENT
UID:20260424T101802UTC-6577mAxaXS@85.215.121.98
DTSTAMP:20260424T101802Z
DTSTART;TZID=Europe/Berlin:20200801T173000
DTEND;TZID=Europe/Berlin:20200801T191500
SUMMARY:K - 2. Klasse A 2020/21: Ainet - Lienz 1b
END:VEVENT
BEGIN:VEVENT
UID:20260424T101802UTC-6584vDNv6x@85.215.121.98
DTSTAMP:20260424T101802Z
DTSTART;TZID=Europe/Berlin:20200809T170000
DTEND;TZID=Europe/Berlin:20200809T184500
SUMMARY:K - 2. Klasse A 2020/21: Gitschtal - Ainet
END:VEVENT
BEGIN:VEVENT
UID:20260424T101802UTC-6590jzBcuP@85.215.121.98
DTSTAMP:20260424T101802Z
DTSTART;TZID=Europe/Berlin:20200816T173000
DTEND;TZID=Europe/Berlin:20200816T191500
SUMMARY:K - 2. Klasse A 2020/21: Ainet - St. Jakob/Def.
END:VEVENT
BEGIN:VEVENT
UID:20260424T101802UTC-6595UPzTk8@85.215.121.98
DTSTAMP:20260424T101802Z
DTSTART;TZID=Europe/Berlin:20200822T160000
DTEND;TZID=Europe/Berlin:20200822T174500
SUMMARY:K - 2. Klasse A 2020/21: Nikolsdorf - Ainet
END:VEVENT
BEGIN:VEVENT
UID:20260424T101802UTC-6600P84BSv@85.215.121.98
DTSTAMP:20260424T101802Z
DTSTART;TZID=Europe/Berlin:20200829T160000
DTEND;TZID=Europe/Berlin:20200829T174500
SUMMARY:K - 2. Klasse A 2020/21: Ainet - Oberdrauburg
END:VEVENT
BEGIN:VEVENT
UID:20260424T101802UTC-6608zZKrxs@85.215.121.98
DTSTAMP:20260424T101802Z
DTSTART;TZID=Europe/Berlin:20200906T153000
DTEND;TZID=Europe/Berlin:20200906T171500
SUMMARY:K - 2. Klasse A 2020/21: Ainet - Nußdorf 1b
END:VEVENT
BEGIN:VEVENT
UID:20260424T101802UTC-6613vP7LK5@85.215.121.98
DTSTAMP:20260424T101802Z
DTSTART;TZID=Europe/Berlin:20200913T180000
DTEND;TZID=Europe/Berlin:20200913T194500
SUMMARY:K - 2. Klasse A 2020/21: Lokomotive Matrei - Ainet
END:VEVENT
BEGIN:VEVENT
UID:20260424T101802UTC-6618lTwm5U@85.215.121.98
DTSTAMP:20260424T101802Z
DTSTART;TZID=Europe/Berlin:20200919T153000
DTEND;TZID=Europe/Berlin:20200919T171500
SUMMARY:K - 2. Klasse A 2020/21: Ainet - Berg
END:VEVENT
BEGIN:VEVENT
UID:20260424T101802UTC-6624k3B6RE@85.215.121.98
DTSTAMP:20260424T101802Z
DTSTART;TZID=Europe/Berlin:20200926T160000
DTEND;TZID=Europe/Berlin:20200926T174500
SUMMARY:K - 2. Klasse A 2020/21: Baldramsdorf - Ainet
END:VEVENT
BEGIN:VEVENT
UID:20260424T101802UTC-6629kJklWC@85.215.121.98
DTSTAMP:20260424T101802Z
DTSTART;TZID=Europe/Berlin:20201003T150000
DTEND;TZID=Europe/Berlin:20201003T164500
SUMMARY:K - 2. Klasse A 2020/21: Ainet - SK Grafendorf
END:VEVENT
BEGIN:VEVENT
UID:20260424T101802UTC-66347vsv02@85.215.121.98
DTSTAMP:20260424T101802Z
DTSTART;TZID=Europe/Berlin:20201010T160000
DTEND;TZID=Europe/Berlin:20201010T174500
SUMMARY:K - 2. Klasse A 2020/21: Spittal/Drau 1b - Ainet
END:VEVENT
BEGIN:VEVENT
UID:20260424T101802UTC-6639Pvl3LS@85.215.121.98
DTSTAMP:20260424T101802Z
DTSTART;TZID=Europe/Berlin:20201017T150000
DTEND;TZID=Europe/Berlin:20201017T164500
SUMMARY:K - 2. Klasse A 2020/21: Ainet - Sachsenburg Kickers
END:VEVENT
BEGIN:VEVENT
UID:20260424T101802UTC-6645TArag6@85.215.121.98
DTSTAMP:20260424T101802Z
DTSTART;TZID=Europe/Berlin:20201024T140000
DTEND;TZID=Europe/Berlin:20201024T154500
SUMMARY:K - 2. Klasse A 2020/21: SC Mühldorf - Ainet
END:VEVENT
BEGIN:VEVENT
UID:20260424T101802UTC-6650I8nORI@85.215.121.98
DTSTAMP:20260424T101802Z
DTSTART;TZID=Europe/Berlin:20210321T230000
DTEND;TZID=Europe/Berlin:20210322T004500
SUMMARY:K - 2. Klasse A 2020/21: Lienz 1b - Ainet
END:VEVENT
BEGIN:VEVENT
UID:20260424T101802UTC-6655UMmTPD@85.215.121.98
DTSTAMP:20260424T101802Z
DTSTART;TZID=Europe/Berlin:20210328T230000
DTEND;TZID=Europe/Berlin:20210329T004500
SUMMARY:K - 2. Klasse A 2020/21: Ainet - Gitschtal
END:VEVENT
BEGIN:VEVENT
UID:20260424T101802UTC-6660aaccrM@85.215.121.98
DTSTAMP:20260424T101802Z
DTSTART;TZID=Europe/Berlin:20210404T230000
DTEND;TZID=Europe/Berlin:20210405T004500
SUMMARY:K - 2. Klasse A 2020/21: St. Jakob/Def. - Ainet
END:VEVENT
BEGIN:VEVENT
UID:20260424T101802UTC-6665wSUovU@85.215.121.98
DTSTAMP:20260424T101802Z
DTSTART;TZID=Europe/Berlin:20210411T230000
DTEND;TZID=Europe/Berlin:20210412T004500
SUMMARY:K - 2. Klasse A 2020/21: Ainet - Nikolsdorf
END:VEVENT
BEGIN:VEVENT
UID:20260424T101802UTC-6670VZDL6v@85.215.121.98
DTSTAMP:20260424T101802Z
DTSTART;TZID=Europe/Berlin:20210417T153000
DTEND;TZID=Europe/Berlin:20210417T171500
SUMMARY:K - 2. Klasse A 2020/21: Oberdrauburg - Ainet
END:VEVENT
BEGIN:VEVENT
UID:20260424T101802UTC-66764tgvb4@85.215.121.98
DTSTAMP:20260424T101802Z
DTSTART;TZID=Europe/Berlin:20210424T140000
DTEND;TZID=Europe/Berlin:20210424T154500
SUMMARY:K - 2. Klasse A 2020/21: Nußdorf 1b - Ainet
END:VEVENT
BEGIN:VEVENT
UID:20260424T101802UTC-6682iDuJVU@85.215.121.98
DTSTAMP:20260424T101802Z
DTSTART;TZID=Europe/Berlin:20210502T230000
DTEND;TZID=Europe/Berlin:20210503T004500
SUMMARY:K - 2. Klasse A 2020/21: Ainet - Lokomotive Matrei
END:VEVENT
BEGIN:VEVENT
UID:20260424T101802UTC-6691aUxVvV@85.215.121.98
DTSTAMP:20260424T101802Z
DTSTART;TZID=Europe/Berlin:20210508T160000
DTEND;TZID=Europe/Berlin:20210508T174500
SUMMARY:K - 2. Klasse A 2020/21: Berg - Ainet
END:VEVENT
BEGIN:VEVENT
UID:20260424T101802UTC-6699u7gi7M@85.215.121.98
DTSTAMP:20260424T101802Z
DTSTART;TZID=Europe/Berlin:20210516T230000
DTEND;TZID=Europe/Berlin:20210517T004500
SUMMARY:K - 2. Klasse A 2020/21: Ainet - Baldramsdorf
END:VEVENT
BEGIN:VEVENT
UID:20260424T101802UTC-6704W6Lwb5@85.215.121.98
DTSTAMP:20260424T101802Z
DTSTART;TZID=Europe/Berlin:20210523T230000
DTEND;TZID=Europe/Berlin:20210524T004500
SUMMARY:K - 2. Klasse A 2020/21: SK Grafendorf - Ainet
END:VEVENT
BEGIN:VEVENT
UID:20260424T101802UTC-6709da6gT2@85.215.121.98
DTSTAMP:20260424T101802Z
DTSTART;TZID=Europe/Berlin:20210530T230000
DTEND;TZID=Europe/Berlin:20210531T004500
SUMMARY:K - 2. Klasse A 2020/21: Ainet - Spittal/Drau 1b
END:VEVENT
BEGIN:VEVENT
UID:20260424T101802UTC-67144W7MZh@85.215.121.98
DTSTAMP:20260424T101802Z
DTSTART;TZID=Europe/Berlin:20210605T154500
DTEND;TZID=Europe/Berlin:20210605T173000
SUMMARY:K - 2. Klasse A 2020/21: Sachsenburg Kickers - Ainet
END:VEVENT
BEGIN:VEVENT
UID:20260424T101802UTC-6719JecZOr@85.215.121.98
DTSTAMP:20260424T101802Z
DTSTART;TZID=Europe/Berlin:20210613T230000
DTEND;TZID=Europe/Berlin:20210614T004500
SUMMARY:K - 2. Klasse A 2020/21: Ainet - SC Mühldorf
END:VEVENT
END:VCALENDAR
