BEGIN:VCALENDAR
VERSION:2.0
PRODID:-////NONSGML kigkonsult.se iCalcreator 2.18//
X-WR-TIMEZONE:Europe/Berlin
BEGIN:VTIMEZONE
TZID:Europe/Berlin
X-LIC-LOCATION:Europe/Berlin
BEGIN:STANDARD
DTSTART:20201025T030000
TZOFFSETFROM:+0200
TZOFFSETTO:+0100
RDATE:20211031T030000
TZNAME:CET
END:STANDARD
BEGIN:DAYLIGHT
DTSTART:20210328T020000
TZOFFSETFROM:+0100
TZOFFSETTO:+0200
RDATE:20220327T020000
TZNAME:CEST
END:DAYLIGHT
END:VTIMEZONE
BEGIN:VEVENT
UID:20260423T013943UTC-4205gT3Dlv@85.215.121.98
DTSTAMP:20260423T013943Z
DTSTART;TZID=Europe/Berlin:20200801T173000
DTEND;TZID=Europe/Berlin:20200801T191500
SUMMARY:K - 2. Klasse B 2020/21: Ferndorf - Rosegg
END:VEVENT
BEGIN:VEVENT
UID:20260423T013943UTC-4213M3WVJd@85.215.121.98
DTSTAMP:20260423T013943Z
DTSTART;TZID=Europe/Berlin:20200808T180000
DTEND;TZID=Europe/Berlin:20200808T194500
SUMMARY:K - 2. Klasse B 2020/21: Rosegg - Arnoldstein
END:VEVENT
BEGIN:VEVENT
UID:20260423T013943UTC-4220mBFirA@85.215.121.98
DTSTAMP:20260423T013943Z
DTSTART;TZID=Europe/Berlin:20200815T170000
DTEND;TZID=Europe/Berlin:20200815T184500
SUMMARY:K - 2. Klasse B 2020/21: Kleinkirchheim - Rosegg
END:VEVENT
BEGIN:VEVENT
UID:20260423T013943UTC-4231mbKTjV@85.215.121.98
DTSTAMP:20260423T013943Z
DTSTART;TZID=Europe/Berlin:20200822T180000
DTEND;TZID=Europe/Berlin:20200822T194500
SUMMARY:K - 2. Klasse B 2020/21: Rosegg - SG SV St. Jakob/Ros/DSG Ledenitze
 n 1b
END:VEVENT
BEGIN:VEVENT
UID:20260423T013943UTC-4238DHchHU@85.215.121.98
DTSTAMP:20260423T013943Z
DTSTART;TZID=Europe/Berlin:20200829T170000
DTEND;TZID=Europe/Berlin:20200829T184500
SUMMARY:K - 2. Klasse B 2020/21: Bodensdorf - Rosegg
END:VEVENT
BEGIN:VEVENT
UID:20260423T013943UTC-42471ScSB0@85.215.121.98
DTSTAMP:20260423T013943Z
DTSTART;TZID=Europe/Berlin:20200906T170000
DTEND;TZID=Europe/Berlin:20200906T184500
SUMMARY:K - 2. Klasse B 2020/21: Draschitz - Rosegg
END:VEVENT
BEGIN:VEVENT
UID:20260423T013943UTC-4253KL6Vpi@85.215.121.98
DTSTAMP:20260423T013943Z
DTSTART;TZID=Europe/Berlin:20200913T163000
DTEND;TZID=Europe/Berlin:20200913T181500
SUMMARY:K - 2. Klasse B 2020/21: Admira Villach 1b - Rosegg
END:VEVENT
BEGIN:VEVENT
UID:20260423T013943UTC-4259gSa3ur@85.215.121.98
DTSTAMP:20260423T013943Z
DTSTART;TZID=Europe/Berlin:20200919T160000
DTEND;TZID=Europe/Berlin:20200919T174500
SUMMARY:K - 2. Klasse B 2020/21: Afritz - Rosegg
END:VEVENT
BEGIN:VEVENT
UID:20260423T013943UTC-4266LcgTvV@85.215.121.98
DTSTAMP:20260423T013943Z
DTSTART;TZID=Europe/Berlin:20200926T163000
DTEND;TZID=Europe/Berlin:20200926T181500
SUMMARY:K - 2. Klasse B 2020/21: Rosegg - Töplitsch
END:VEVENT
BEGIN:VEVENT
UID:20260423T013943UTC-4273sphvz5@85.215.121.98
DTSTAMP:20260423T013943Z
DTSTART;TZID=Europe/Berlin:20201003T153000
DTEND;TZID=Europe/Berlin:20201003T171500
SUMMARY:K - 2. Klasse B 2020/21: Weißenstein - Rosegg
END:VEVENT
BEGIN:VEVENT
UID:20260423T013943UTC-4279iKExfU@85.215.121.98
DTSTAMP:20260423T013943Z
DTSTART;TZID=Europe/Berlin:20201010T153000
DTEND;TZID=Europe/Berlin:20201010T171500
SUMMARY:K - 2. Klasse B 2020/21: Rosegg - Landskron 1b
END:VEVENT
BEGIN:VEVENT
UID:20260423T013943UTC-4367Tn821l@85.215.121.98
DTSTAMP:20260423T013943Z
DTSTART;TZID=Europe/Berlin:20201017T150000
DTEND;TZID=Europe/Berlin:20201017T164500
SUMMARY:K - 2. Klasse B 2020/21: Bad Bleiberg - Rosegg
END:VEVENT
BEGIN:VEVENT
UID:20260423T013943UTC-4377OShsI9@85.215.121.98
DTSTAMP:20260423T013943Z
DTSTART;TZID=Europe/Berlin:20201024T140000
DTEND;TZID=Europe/Berlin:20201024T154500
SUMMARY:K - 2. Klasse B 2020/21: Rosegg - Arriach
END:VEVENT
BEGIN:VEVENT
UID:20260423T013943UTC-4384fG8lrA@85.215.121.98
DTSTAMP:20260423T013943Z
DTSTART;TZID=Europe/Berlin:20201031T150000
DTEND;TZID=Europe/Berlin:20201031T164500
SUMMARY:K - 2. Klasse B 2020/21: Obermillstatt - Rosegg
END:VEVENT
BEGIN:VEVENT
UID:20260423T013943UTC-4392rvAVVO@85.215.121.98
DTSTAMP:20260423T013943Z
DTSTART;TZID=Europe/Berlin:20210320T143000
DTEND;TZID=Europe/Berlin:20210320T161500
SUMMARY:K - 2. Klasse B 2020/21: Arnoldstein - Rosegg
END:VEVENT
BEGIN:VEVENT
UID:20260423T013943UTC-4398XIuA0O@85.215.121.98
DTSTAMP:20260423T013943Z
DTSTART;TZID=Europe/Berlin:20210327T133000
DTEND;TZID=Europe/Berlin:20210327T151500
SUMMARY:K - 2. Klasse B 2020/21: Rosegg - Kleinkirchheim
END:VEVENT
BEGIN:VEVENT
UID:20260423T013943UTC-4407g5d4Vx@85.215.121.98
DTSTAMP:20260423T013943Z
DTSTART;TZID=Europe/Berlin:20210404T230000
DTEND;TZID=Europe/Berlin:20210405T004500
SUMMARY:K - 2. Klasse B 2020/21: SG SV St. Jakob/Ros/DSG Ledenitzen 1b - Ro
 segg
END:VEVENT
BEGIN:VEVENT
UID:20260423T013943UTC-4415rSU7lJ@85.215.121.98
DTSTAMP:20260423T013943Z
DTSTART;TZID=Europe/Berlin:20210410T153000
DTEND;TZID=Europe/Berlin:20210410T171500
SUMMARY:K - 2. Klasse B 2020/21: Rosegg - Bodensdorf
END:VEVENT
BEGIN:VEVENT
UID:20260423T013943UTC-4422GErOh6@85.215.121.98
DTSTAMP:20260423T013943Z
DTSTART;TZID=Europe/Berlin:20210416T230000
DTEND;TZID=Europe/Berlin:20210417T004500
SUMMARY:K - 2. Klasse B 2020/21: Rosegg - Ferndorf
END:VEVENT
BEGIN:VEVENT
UID:20260423T013943UTC-4428SvcLel@85.215.121.98
DTSTAMP:20260423T013943Z
DTSTART;TZID=Europe/Berlin:20210417T163000
DTEND;TZID=Europe/Berlin:20210417T181500
SUMMARY:K - 2. Klasse B 2020/21: Rosegg - Draschitz
END:VEVENT
BEGIN:VEVENT
UID:20260423T013943UTC-4434WktWd5@85.215.121.98
DTSTAMP:20260423T013943Z
DTSTART;TZID=Europe/Berlin:20210424T163000
DTEND;TZID=Europe/Berlin:20210424T181500
SUMMARY:K - 2. Klasse B 2020/21: Rosegg - Admira Villach 1b
END:VEVENT
BEGIN:VEVENT
UID:20260423T013943UTC-4441a60MGW@85.215.121.98
DTSTAMP:20260423T013943Z
DTSTART;TZID=Europe/Berlin:20210501T170000
DTEND;TZID=Europe/Berlin:20210501T184500
SUMMARY:K - 2. Klasse B 2020/21: Rosegg - Afritz
END:VEVENT
BEGIN:VEVENT
UID:20260423T013943UTC-444639FSbo@85.215.121.98
DTSTAMP:20260423T013943Z
DTSTART;TZID=Europe/Berlin:20210509T230000
DTEND;TZID=Europe/Berlin:20210510T004500
SUMMARY:K - 2. Klasse B 2020/21: Töplitsch - Rosegg
END:VEVENT
BEGIN:VEVENT
UID:20260423T013943UTC-44522zuHlU@85.215.121.98
DTSTAMP:20260423T013943Z
DTSTART;TZID=Europe/Berlin:20210512T180000
DTEND;TZID=Europe/Berlin:20210512T194500
SUMMARY:K - 2. Klasse B 2020/21: Rosegg - Weißenstein
END:VEVENT
BEGIN:VEVENT
UID:20260423T013943UTC-44579hhSVj@85.215.121.98
DTSTAMP:20260423T013943Z
DTSTART;TZID=Europe/Berlin:20210516T230000
DTEND;TZID=Europe/Berlin:20210517T004500
SUMMARY:K - 2. Klasse B 2020/21: Landskron 1b - Rosegg
END:VEVENT
BEGIN:VEVENT
UID:20260423T013943UTC-4463HkJANJ@85.215.121.98
DTSTAMP:20260423T013943Z
DTSTART;TZID=Europe/Berlin:20210522T180000
DTEND;TZID=Europe/Berlin:20210522T194500
SUMMARY:K - 2. Klasse B 2020/21: Rosegg - Bad Bleiberg
END:VEVENT
BEGIN:VEVENT
UID:20260423T013943UTC-4470PKjVed@85.215.121.98
DTSTAMP:20260423T013943Z
DTSTART;TZID=Europe/Berlin:20210530T150000
DTEND;TZID=Europe/Berlin:20210530T164500
SUMMARY:K - 2. Klasse B 2020/21: Arriach - Rosegg
END:VEVENT
BEGIN:VEVENT
UID:20260423T013943UTC-4476OMz4wd@85.215.121.98
DTSTAMP:20260423T013943Z
DTSTART;TZID=Europe/Berlin:20210605T180000
DTEND;TZID=Europe/Berlin:20210605T194500
SUMMARY:K - 2. Klasse B 2020/21: Rosegg - Obermillstatt
END:VEVENT
BEGIN:VEVENT
UID:20260423T013943UTC-4483uZlwrg@85.215.121.98
DTSTAMP:20260423T013943Z
DTSTART;TZID=Europe/Berlin:20210612T170000
DTEND;TZID=Europe/Berlin:20210612T184500
SUMMARY:K - 2. Klasse B 2020/21: Treffen - Rosegg
END:VEVENT
BEGIN:VEVENT
UID:20260423T013943UTC-4491okfPlZ@85.215.121.98
DTSTAMP:20260423T013943Z
DTSTART;TZID=Europe/Berlin:20210625T181500
DTEND;TZID=Europe/Berlin:20210625T200000
SUMMARY:K - 2. Klasse B 2020/21: Rosegg - Treffen
END:VEVENT
END:VCALENDAR
