BEGIN:VCALENDAR
VERSION:2.0
PRODID:-////NONSGML kigkonsult.se iCalcreator 2.18//
X-WR-TIMEZONE:Europe/Berlin
BEGIN:VTIMEZONE
TZID:Europe/Berlin
X-LIC-LOCATION:Europe/Berlin
BEGIN:STANDARD
DTSTART:20201025T030000
TZOFFSETFROM:+0200
TZOFFSETTO:+0100
RDATE:20211031T030000
TZNAME:CET
END:STANDARD
BEGIN:DAYLIGHT
DTSTART:20210328T020000
TZOFFSETFROM:+0100
TZOFFSETTO:+0200
RDATE:20220327T020000
TZNAME:CEST
END:DAYLIGHT
END:VTIMEZONE
BEGIN:VEVENT
UID:20260422T120445UTC-3724B5z1Ou@85.215.121.98
DTSTAMP:20260422T120445Z
DTSTART;TZID=Europe/Berlin:20200801T180000
DTEND;TZID=Europe/Berlin:20200801T194500
SUMMARY:K - 2. Klasse B 2020/21: Bad Bleiberg - Afritz
END:VEVENT
BEGIN:VEVENT
UID:20260422T120445UTC-4049gvsfTV@85.215.121.98
DTSTAMP:20260422T120445Z
DTSTART;TZID=Europe/Berlin:20200808T180000
DTEND;TZID=Europe/Berlin:20200808T194500
SUMMARY:K - 2. Klasse B 2020/21: Bad Bleiberg - Arriach
END:VEVENT
BEGIN:VEVENT
UID:20260422T120445UTC-4066UcXezJ@85.215.121.98
DTSTAMP:20260422T120445Z
DTSTART;TZID=Europe/Berlin:20200815T180000
DTEND;TZID=Europe/Berlin:20200815T194500
SUMMARY:K - 2. Klasse B 2020/21: Obermillstatt - Bad Bleiberg
END:VEVENT
BEGIN:VEVENT
UID:20260422T120445UTC-4073kVXukj@85.215.121.98
DTSTAMP:20260422T120445Z
DTSTART;TZID=Europe/Berlin:20200822T151500
DTEND;TZID=Europe/Berlin:20200822T170000
SUMMARY:K - 2. Klasse B 2020/21: Bad Bleiberg - Treffen
END:VEVENT
BEGIN:VEVENT
UID:20260422T120445UTC-4094epuZmr@85.215.121.98
DTSTAMP:20260422T120445Z
DTSTART;TZID=Europe/Berlin:20200829T170000
DTEND;TZID=Europe/Berlin:20200829T184500
SUMMARY:K - 2. Klasse B 2020/21: Ferndorf - Bad Bleiberg
END:VEVENT
BEGIN:VEVENT
UID:20260422T120445UTC-4101uK2kZu@85.215.121.98
DTSTAMP:20260422T120445Z
DTSTART;TZID=Europe/Berlin:20200905T160000
DTEND;TZID=Europe/Berlin:20200905T174500
SUMMARY:K - 2. Klasse B 2020/21: Bad Bleiberg - Arnoldstein
END:VEVENT
BEGIN:VEVENT
UID:20260422T120445UTC-41077aGbf1@85.215.121.98
DTSTAMP:20260422T120445Z
DTSTART;TZID=Europe/Berlin:20200912T163000
DTEND;TZID=Europe/Berlin:20200912T181500
SUMMARY:K - 2. Klasse B 2020/21: Kleinkirchheim - Bad Bleiberg
END:VEVENT
BEGIN:VEVENT
UID:20260422T120445UTC-4116jU61rX@85.215.121.98
DTSTAMP:20260422T120445Z
DTSTART;TZID=Europe/Berlin:20200919T163000
DTEND;TZID=Europe/Berlin:20200919T181500
SUMMARY:K - 2. Klasse B 2020/21: Bad Bleiberg - SG SV St. Jakob/Ros/DSG Led
 enitzen 1b
END:VEVENT
BEGIN:VEVENT
UID:20260422T120445UTC-41342uum8l@85.215.121.98
DTSTAMP:20260422T120445Z
DTSTART;TZID=Europe/Berlin:20200926T160000
DTEND;TZID=Europe/Berlin:20200926T174500
SUMMARY:K - 2. Klasse B 2020/21: Bodensdorf - Bad Bleiberg
END:VEVENT
BEGIN:VEVENT
UID:20260422T120445UTC-41418bmIlt@85.215.121.98
DTSTAMP:20260422T120445Z
DTSTART;TZID=Europe/Berlin:20201003T153000
DTEND;TZID=Europe/Berlin:20201003T171500
SUMMARY:K - 2. Klasse B 2020/21: Bad Bleiberg - Draschitz
END:VEVENT
BEGIN:VEVENT
UID:20260422T120445UTC-41488rFxBK@85.215.121.98
DTSTAMP:20260422T120445Z
DTSTART;TZID=Europe/Berlin:20201017T150000
DTEND;TZID=Europe/Berlin:20201017T164500
SUMMARY:K - 2. Klasse B 2020/21: Bad Bleiberg - Rosegg
END:VEVENT
BEGIN:VEVENT
UID:20260422T120445UTC-41567meUvO@85.215.121.98
DTSTAMP:20260422T120445Z
DTSTART;TZID=Europe/Berlin:20201024T130000
DTEND;TZID=Europe/Berlin:20201024T144500
SUMMARY:K - 2. Klasse B 2020/21: Töplitsch - Bad Bleiberg
END:VEVENT
BEGIN:VEVENT
UID:20260422T120445UTC-4165pHCoff@85.215.121.98
DTSTAMP:20260422T120445Z
DTSTART;TZID=Europe/Berlin:20201026T140000
DTEND;TZID=Europe/Berlin:20201026T154500
SUMMARY:K - 2. Klasse B 2020/21: Admira Villach 1b - Bad Bleiberg
END:VEVENT
BEGIN:VEVENT
UID:20260422T120445UTC-4174Txip2p@85.215.121.98
DTSTAMP:20260422T120445Z
DTSTART;TZID=Europe/Berlin:20201031T143000
DTEND;TZID=Europe/Berlin:20201031T161500
SUMMARY:K - 2. Klasse B 2020/21: Bad Bleiberg - Weißenstein
END:VEVENT
BEGIN:VEVENT
UID:20260422T120445UTC-4184AwCKBc@85.215.121.98
DTSTAMP:20260422T120445Z
DTSTART;TZID=Europe/Berlin:20210321T150000
DTEND;TZID=Europe/Berlin:20210321T164500
SUMMARY:K - 2. Klasse B 2020/21: Arriach - Bad Bleiberg
END:VEVENT
BEGIN:VEVENT
UID:20260422T120445UTC-42140vrMzJ@85.215.121.98
DTSTAMP:20260422T120445Z
DTSTART;TZID=Europe/Berlin:20210327T143000
DTEND;TZID=Europe/Berlin:20210327T161500
SUMMARY:K - 2. Klasse B 2020/21: Bad Bleiberg - Obermillstatt
END:VEVENT
BEGIN:VEVENT
UID:20260422T120445UTC-4221rNDVeR@85.215.121.98
DTSTAMP:20260422T120445Z
DTSTART;TZID=Europe/Berlin:20210403T150000
DTEND;TZID=Europe/Berlin:20210403T164500
SUMMARY:K - 2. Klasse B 2020/21: Treffen - Bad Bleiberg
END:VEVENT
BEGIN:VEVENT
UID:20260422T120445UTC-4229KWxtVf@85.215.121.98
DTSTAMP:20260422T120445Z
DTSTART;TZID=Europe/Berlin:20210410T150000
DTEND;TZID=Europe/Berlin:20210410T164500
SUMMARY:K - 2. Klasse B 2020/21: Bad Bleiberg - Ferndorf
END:VEVENT
BEGIN:VEVENT
UID:20260422T120445UTC-4265OUhIV6@85.215.121.98
DTSTAMP:20260422T120445Z
DTSTART;TZID=Europe/Berlin:20210416T173000
DTEND;TZID=Europe/Berlin:20210416T191500
SUMMARY:K - 2. Klasse B 2020/21: Afritz - Bad Bleiberg
END:VEVENT
BEGIN:VEVENT
UID:20260422T120445UTC-4274Acm0pM@85.215.121.98
DTSTAMP:20260422T120445Z
DTSTART;TZID=Europe/Berlin:20210418T153000
DTEND;TZID=Europe/Berlin:20210418T171500
SUMMARY:K - 2. Klasse B 2020/21: Arnoldstein - Bad Bleiberg
END:VEVENT
BEGIN:VEVENT
UID:20260422T120445UTC-4281p4HBU8@85.215.121.98
DTSTAMP:20260422T120445Z
DTSTART;TZID=Europe/Berlin:20210424T153000
DTEND;TZID=Europe/Berlin:20210424T171500
SUMMARY:K - 2. Klasse B 2020/21: Bad Bleiberg - Kleinkirchheim
END:VEVENT
BEGIN:VEVENT
UID:20260422T120445UTC-4286EViXvT@85.215.121.98
DTSTAMP:20260422T120445Z
DTSTART;TZID=Europe/Berlin:20210502T230000
DTEND;TZID=Europe/Berlin:20210503T004500
SUMMARY:K - 2. Klasse B 2020/21: SG SV St. Jakob/Ros/DSG Ledenitzen 1b - Ba
 d Bleiberg
END:VEVENT
BEGIN:VEVENT
UID:20260422T120445UTC-42936njN3U@85.215.121.98
DTSTAMP:20260422T120445Z
DTSTART;TZID=Europe/Berlin:20210508T160000
DTEND;TZID=Europe/Berlin:20210508T174500
SUMMARY:K - 2. Klasse B 2020/21: Bad Bleiberg - Bodensdorf
END:VEVENT
BEGIN:VEVENT
UID:20260422T120445UTC-42998cHutI@85.215.121.98
DTSTAMP:20260422T120445Z
DTSTART;TZID=Europe/Berlin:20210513T230000
DTEND;TZID=Europe/Berlin:20210514T004500
SUMMARY:K - 2. Klasse B 2020/21: Draschitz - Bad Bleiberg
END:VEVENT
BEGIN:VEVENT
UID:20260422T120445UTC-4305Cuf1A8@85.215.121.98
DTSTAMP:20260422T120445Z
DTSTART;TZID=Europe/Berlin:20210515T163000
DTEND;TZID=Europe/Berlin:20210515T181500
SUMMARY:K - 2. Klasse B 2020/21: Bad Bleiberg - Admira Villach 1b
END:VEVENT
BEGIN:VEVENT
UID:20260422T120445UTC-4313NAsBUD@85.215.121.98
DTSTAMP:20260422T120445Z
DTSTART;TZID=Europe/Berlin:20210522T180000
DTEND;TZID=Europe/Berlin:20210522T194500
SUMMARY:K - 2. Klasse B 2020/21: Rosegg - Bad Bleiberg
END:VEVENT
BEGIN:VEVENT
UID:20260422T120445UTC-4320F6VVB2@85.215.121.98
DTSTAMP:20260422T120445Z
DTSTART;TZID=Europe/Berlin:20210529T170000
DTEND;TZID=Europe/Berlin:20210529T184500
SUMMARY:K - 2. Klasse B 2020/21: Bad Bleiberg - Töplitsch
END:VEVENT
BEGIN:VEVENT
UID:20260422T120445UTC-4326p2bdg1@85.215.121.98
DTSTAMP:20260422T120445Z
DTSTART;TZID=Europe/Berlin:20210606T230000
DTEND;TZID=Europe/Berlin:20210607T004500
SUMMARY:K - 2. Klasse B 2020/21: Weißenstein - Bad Bleiberg
END:VEVENT
BEGIN:VEVENT
UID:20260422T120445UTC-43463SA6UT@85.215.121.98
DTSTAMP:20260422T120445Z
DTSTART;TZID=Europe/Berlin:20210612T173000
DTEND;TZID=Europe/Berlin:20210612T191500
SUMMARY:K - 2. Klasse B 2020/21: Bad Bleiberg - Landskron 1b
END:VEVENT
BEGIN:VEVENT
UID:20260422T120445UTC-43559vh5gJ@85.215.121.98
DTSTAMP:20260422T120445Z
DTSTART;TZID=Europe/Berlin:20210619T173000
DTEND;TZID=Europe/Berlin:20210619T191500
SUMMARY:K - 2. Klasse B 2020/21: Landskron 1b - Bad Bleiberg
END:VEVENT
END:VCALENDAR
