BEGIN:VCALENDAR
VERSION:2.0
PRODID:-////NONSGML kigkonsult.se iCalcreator 2.18//
X-WR-TIMEZONE:Europe/Berlin
BEGIN:VTIMEZONE
TZID:Europe/Berlin
X-LIC-LOCATION:Europe/Berlin
BEGIN:STANDARD
DTSTART:20201025T030000
TZOFFSETFROM:+0200
TZOFFSETTO:+0100
RDATE:20211031T030000
TZNAME:CET
END:STANDARD
BEGIN:DAYLIGHT
DTSTART:20210328T020000
TZOFFSETFROM:+0100
TZOFFSETTO:+0200
RDATE:20220327T020000
TZNAME:CEST
END:DAYLIGHT
END:VTIMEZONE
BEGIN:VEVENT
UID:20260422T023748UTC-1818zP7tHm@85.215.121.98
DTSTAMP:20260422T023748Z
DTSTART;TZID=Europe/Berlin:20200801T170000
DTEND;TZID=Europe/Berlin:20200801T184500
SUMMARY:K - 2. Klasse B 2020/21: Treffen - Töplitsch
END:VEVENT
BEGIN:VEVENT
UID:20260422T023748UTC-1825uK5rgB@85.215.121.98
DTSTAMP:20260422T023748Z
DTSTART;TZID=Europe/Berlin:20200808T180000
DTEND;TZID=Europe/Berlin:20200808T194500
SUMMARY:K - 2. Klasse B 2020/21: Weißenstein - Treffen
END:VEVENT
BEGIN:VEVENT
UID:20260422T023748UTC-1830kBXlx2@85.215.121.98
DTSTAMP:20260422T023748Z
DTSTART;TZID=Europe/Berlin:20200815T170000
DTEND;TZID=Europe/Berlin:20200815T184500
SUMMARY:K - 2. Klasse B 2020/21: Treffen - Landskron 1b
END:VEVENT
BEGIN:VEVENT
UID:20260422T023748UTC-1836asxx99@85.215.121.98
DTSTAMP:20260422T023748Z
DTSTART;TZID=Europe/Berlin:20200822T151500
DTEND;TZID=Europe/Berlin:20200822T170000
SUMMARY:K - 2. Klasse B 2020/21: Bad Bleiberg - Treffen
END:VEVENT
BEGIN:VEVENT
UID:20260422T023748UTC-1842OP1A0x@85.215.121.98
DTSTAMP:20260422T023748Z
DTSTART;TZID=Europe/Berlin:20200829T170000
DTEND;TZID=Europe/Berlin:20200829T184500
SUMMARY:K - 2. Klasse B 2020/21: Treffen - Arriach
END:VEVENT
BEGIN:VEVENT
UID:20260422T023748UTC-1848nJN9bS@85.215.121.98
DTSTAMP:20260422T023748Z
DTSTART;TZID=Europe/Berlin:20200905T170000
DTEND;TZID=Europe/Berlin:20200905T184500
SUMMARY:K - 2. Klasse B 2020/21: Obermillstatt - Treffen
END:VEVENT
BEGIN:VEVENT
UID:20260422T023748UTC-1855LsglOs@85.215.121.98
DTSTAMP:20260422T023748Z
DTSTART;TZID=Europe/Berlin:20200913T103000
DTEND;TZID=Europe/Berlin:20200913T121500
SUMMARY:K - 2. Klasse B 2020/21: Treffen - Afritz
END:VEVENT
BEGIN:VEVENT
UID:20260422T023748UTC-1861gp3uEu@85.215.121.98
DTSTAMP:20260422T023748Z
DTSTART;TZID=Europe/Berlin:20200919T150000
DTEND;TZID=Europe/Berlin:20200919T164500
SUMMARY:K - 2. Klasse B 2020/21: Treffen - Ferndorf
END:VEVENT
BEGIN:VEVENT
UID:20260422T023748UTC-1871kawLUh@85.215.121.98
DTSTAMP:20260422T023748Z
DTSTART;TZID=Europe/Berlin:20200926T153000
DTEND;TZID=Europe/Berlin:20200926T171500
SUMMARY:K - 2. Klasse B 2020/21: Arnoldstein - Treffen
END:VEVENT
BEGIN:VEVENT
UID:20260422T023748UTC-1877utIw8N@85.215.121.98
DTSTAMP:20260422T023748Z
DTSTART;TZID=Europe/Berlin:20201003T150000
DTEND;TZID=Europe/Berlin:20201003T164500
SUMMARY:K - 2. Klasse B 2020/21: Treffen - Kleinkirchheim
END:VEVENT
BEGIN:VEVENT
UID:20260422T023748UTC-1883vsVJt6@85.215.121.98
DTSTAMP:20260422T023748Z
DTSTART;TZID=Europe/Berlin:20201017T150000
DTEND;TZID=Europe/Berlin:20201017T164500
SUMMARY:K - 2. Klasse B 2020/21: Treffen - Bodensdorf
END:VEVENT
BEGIN:VEVENT
UID:20260422T023748UTC-1889vcBBzd@85.215.121.98
DTSTAMP:20260422T023748Z
DTSTART;TZID=Europe/Berlin:20201024T150000
DTEND;TZID=Europe/Berlin:20201024T164500
SUMMARY:K - 2. Klasse B 2020/21: Draschitz - Treffen
END:VEVENT
BEGIN:VEVENT
UID:20260422T023748UTC-1896P6UOUj@85.215.121.98
DTSTAMP:20260422T023748Z
DTSTART;TZID=Europe/Berlin:20201026T120000
DTEND;TZID=Europe/Berlin:20201026T134500
SUMMARY:K - 2. Klasse B 2020/21: SG SV St. Jakob/Ros/DSG Ledenitzen 1b - Tr
 effen
END:VEVENT
BEGIN:VEVENT
UID:20260422T023748UTC-19047b4LGO@85.215.121.98
DTSTAMP:20260422T023748Z
DTSTART;TZID=Europe/Berlin:20201031T140000
DTEND;TZID=Europe/Berlin:20201031T154500
SUMMARY:K - 2. Klasse B 2020/21: Treffen - Admira Villach 1b
END:VEVENT
BEGIN:VEVENT
UID:20260422T023748UTC-1910TunuTI@85.215.121.98
DTSTAMP:20260422T023748Z
DTSTART;TZID=Europe/Berlin:20210320T150000
DTEND;TZID=Europe/Berlin:20210320T164500
SUMMARY:K - 2. Klasse B 2020/21: Treffen - Weißenstein
END:VEVENT
BEGIN:VEVENT
UID:20260422T023748UTC-19174HbLNr@85.215.121.98
DTSTAMP:20260422T023748Z
DTSTART;TZID=Europe/Berlin:20210328T230000
DTEND;TZID=Europe/Berlin:20210329T004500
SUMMARY:K - 2. Klasse B 2020/21: Landskron 1b - Treffen
END:VEVENT
BEGIN:VEVENT
UID:20260422T023748UTC-19242Vd1PO@85.215.121.98
DTSTAMP:20260422T023748Z
DTSTART;TZID=Europe/Berlin:20210403T150000
DTEND;TZID=Europe/Berlin:20210403T164500
SUMMARY:K - 2. Klasse B 2020/21: Treffen - Bad Bleiberg
END:VEVENT
BEGIN:VEVENT
UID:20260422T023748UTC-1931GH7ghB@85.215.121.98
DTSTAMP:20260422T023748Z
DTSTART;TZID=Europe/Berlin:20210411T150000
DTEND;TZID=Europe/Berlin:20210411T164500
SUMMARY:K - 2. Klasse B 2020/21: Arriach - Treffen
END:VEVENT
BEGIN:VEVENT
UID:20260422T023748UTC-1938LoIaxt@85.215.121.98
DTSTAMP:20260422T023748Z
DTSTART;TZID=Europe/Berlin:20210416T230000
DTEND;TZID=Europe/Berlin:20210417T004500
SUMMARY:K - 2. Klasse B 2020/21: Töplitsch - Treffen
END:VEVENT
BEGIN:VEVENT
UID:20260422T023748UTC-1944UfiIuT@85.215.121.98
DTSTAMP:20260422T023748Z
DTSTART;TZID=Europe/Berlin:20210417T150000
DTEND;TZID=Europe/Berlin:20210417T164500
SUMMARY:K - 2. Klasse B 2020/21: Treffen - Obermillstatt
END:VEVENT
BEGIN:VEVENT
UID:20260422T023748UTC-19501eVmff@85.215.121.98
DTSTAMP:20260422T023748Z
DTSTART;TZID=Europe/Berlin:20210424T163000
DTEND;TZID=Europe/Berlin:20210424T181500
SUMMARY:K - 2. Klasse B 2020/21: Afritz - Treffen
END:VEVENT
BEGIN:VEVENT
UID:20260422T023748UTC-1959RU4uu1@85.215.121.98
DTSTAMP:20260422T023748Z
DTSTART;TZID=Europe/Berlin:20210501T160000
DTEND;TZID=Europe/Berlin:20210501T174500
SUMMARY:K - 2. Klasse B 2020/21: Ferndorf - Treffen
END:VEVENT
BEGIN:VEVENT
UID:20260422T023748UTC-1966axNEsX@85.215.121.98
DTSTAMP:20260422T023748Z
DTSTART;TZID=Europe/Berlin:20210508T170000
DTEND;TZID=Europe/Berlin:20210508T184500
SUMMARY:K - 2. Klasse B 2020/21: Treffen - Arnoldstein
END:VEVENT
BEGIN:VEVENT
UID:20260422T023748UTC-1972m6JVrg@85.215.121.98
DTSTAMP:20260422T023748Z
DTSTART;TZID=Europe/Berlin:20210513T110000
DTEND;TZID=Europe/Berlin:20210513T124500
SUMMARY:K - 2. Klasse B 2020/21: Kleinkirchheim - Treffen
END:VEVENT
BEGIN:VEVENT
UID:20260422T023748UTC-1978rVdn3G@85.215.121.98
DTSTAMP:20260422T023748Z
DTSTART;TZID=Europe/Berlin:20210515T170000
DTEND;TZID=Europe/Berlin:20210515T184500
SUMMARY:K - 2. Klasse B 2020/21: Treffen - SG SV St. Jakob/Ros/DSG Ledenitz
 en 1b
END:VEVENT
BEGIN:VEVENT
UID:20260422T023748UTC-1983zSsu3c@85.215.121.98
DTSTAMP:20260422T023748Z
DTSTART;TZID=Europe/Berlin:20210521T180000
DTEND;TZID=Europe/Berlin:20210521T194500
SUMMARY:K - 2. Klasse B 2020/21: Bodensdorf - Treffen
END:VEVENT
BEGIN:VEVENT
UID:20260422T023748UTC-1989tk1vt3@85.215.121.98
DTSTAMP:20260422T023748Z
DTSTART;TZID=Europe/Berlin:20210529T170000
DTEND;TZID=Europe/Berlin:20210529T184500
SUMMARY:K - 2. Klasse B 2020/21: Treffen - Draschitz
END:VEVENT
BEGIN:VEVENT
UID:20260422T023748UTC-1995FeRg78@85.215.121.98
DTSTAMP:20260422T023748Z
DTSTART;TZID=Europe/Berlin:20210606T230000
DTEND;TZID=Europe/Berlin:20210607T004500
SUMMARY:K - 2. Klasse B 2020/21: Admira Villach 1b - Treffen
END:VEVENT
BEGIN:VEVENT
UID:20260422T023748UTC-2000UWwmpu@85.215.121.98
DTSTAMP:20260422T023748Z
DTSTART;TZID=Europe/Berlin:20210612T170000
DTEND;TZID=Europe/Berlin:20210612T184500
SUMMARY:K - 2. Klasse B 2020/21: Treffen - Rosegg
END:VEVENT
BEGIN:VEVENT
UID:20260422T023748UTC-2006NvhVtE@85.215.121.98
DTSTAMP:20260422T023748Z
DTSTART;TZID=Europe/Berlin:20210625T181500
DTEND;TZID=Europe/Berlin:20210625T200000
SUMMARY:K - 2. Klasse B 2020/21: Rosegg - Treffen
END:VEVENT
END:VCALENDAR
