BEGIN:VCALENDAR
VERSION:2.0
PRODID:-////NONSGML kigkonsult.se iCalcreator 2.18//
X-WR-TIMEZONE:Europe/Berlin
BEGIN:VTIMEZONE
TZID:Europe/Berlin
X-LIC-LOCATION:Europe/Berlin
BEGIN:STANDARD
DTSTART:20201025T030000
TZOFFSETFROM:+0200
TZOFFSETTO:+0100
RDATE:20211031T030000
TZNAME:CET
END:STANDARD
BEGIN:DAYLIGHT
DTSTART:20210328T020000
TZOFFSETFROM:+0100
TZOFFSETTO:+0200
RDATE:20220327T020000
TZNAME:CEST
END:DAYLIGHT
END:VTIMEZONE
BEGIN:VEVENT
UID:20260422T105951UTC-8781GKiRCP@85.215.121.98
DTSTAMP:20260422T105951Z
DTSTART;TZID=Europe/Berlin:20200801T180000
DTEND;TZID=Europe/Berlin:20200801T194500
SUMMARY:K - 2. Klasse C 2020/21: Himmelberg - Maria Rain
END:VEVENT
BEGIN:VEVENT
UID:20260422T105951UTC-8787Cmdt9l@85.215.121.98
DTSTAMP:20260422T105951Z
DTSTART;TZID=Europe/Berlin:20200808T180000
DTEND;TZID=Europe/Berlin:20200808T194500
SUMMARY:K - 2. Klasse C 2020/21: Maria Rain - Moosburg
END:VEVENT
BEGIN:VEVENT
UID:20260422T105951UTC-8795RNzuRk@85.215.121.98
DTSTAMP:20260422T105951Z
DTSTART;TZID=Europe/Berlin:20200815T180000
DTEND;TZID=Europe/Berlin:20200815T194500
SUMMARY:K - 2. Klasse C 2020/21: SG KSK-Wörthersee/ATUS Pörtschach - Maria 
 Rain
END:VEVENT
BEGIN:VEVENT
UID:20260422T105951UTC-88010uWZcF@85.215.121.98
DTSTAMP:20260422T105951Z
DTSTART;TZID=Europe/Berlin:20200822T180000
DTEND;TZID=Europe/Berlin:20200822T194500
SUMMARY:K - 2. Klasse C 2020/21: Maria Rain - Feistritz/Ros.
END:VEVENT
BEGIN:VEVENT
UID:20260422T105951UTC-8809voNxL5@85.215.121.98
DTSTAMP:20260422T105951Z
DTSTART;TZID=Europe/Berlin:20200830T170000
DTEND;TZID=Europe/Berlin:20200830T184500
SUMMARY:K - 2. Klasse C 2020/21: Wietersdorf - Maria Rain
END:VEVENT
BEGIN:VEVENT
UID:20260422T105951UTC-8817uSDR1u@85.215.121.98
DTSTAMP:20260422T105951Z
DTSTART;TZID=Europe/Berlin:20200905T170000
DTEND;TZID=Europe/Berlin:20200905T184500
SUMMARY:K - 2. Klasse C 2020/21: Maria Rain - NextGen St. Veit
END:VEVENT
BEGIN:VEVENT
UID:20260422T105951UTC-88222CVUAw@85.215.121.98
DTSTAMP:20260422T105951Z
DTSTART;TZID=Europe/Berlin:20200912T160000
DTEND;TZID=Europe/Berlin:20200912T174500
SUMMARY:K - 2. Klasse C 2020/21: Kraig 1b - Maria Rain
END:VEVENT
BEGIN:VEVENT
UID:20260422T105951UTC-8830p1MA6W@85.215.121.98
DTSTAMP:20260422T105951Z
DTSTART;TZID=Europe/Berlin:20200919T160000
DTEND;TZID=Europe/Berlin:20200919T174500
SUMMARY:K - 2. Klasse C 2020/21: Maria Rain - Weitensfeld
END:VEVENT
BEGIN:VEVENT
UID:20260422T105951UTC-8838zWWsCs@85.215.121.98
DTSTAMP:20260422T105951Z
DTSTART;TZID=Europe/Berlin:20201003T150000
DTEND;TZID=Europe/Berlin:20201003T164500
SUMMARY:K - 2. Klasse C 2020/21: Maria Rain - Sörg
END:VEVENT
BEGIN:VEVENT
UID:20260422T105951UTC-8845NsmxZf@85.215.121.98
DTSTAMP:20260422T105951Z
DTSTART;TZID=Europe/Berlin:20201010T150000
DTEND;TZID=Europe/Berlin:20201010T164500
SUMMARY:K - 2. Klasse C 2020/21: Viktring - Maria Rain
END:VEVENT
BEGIN:VEVENT
UID:20260422T105951UTC-8851zaUb3f@85.215.121.98
DTSTAMP:20260422T105951Z
DTSTART;TZID=Europe/Berlin:20201017T150000
DTEND;TZID=Europe/Berlin:20201017T164500
SUMMARY:K - 2. Klasse C 2020/21: Maria Rain - St. Urban
END:VEVENT
BEGIN:VEVENT
UID:20260422T105951UTC-8856uVOtvj@85.215.121.98
DTSTAMP:20260422T105951Z
DTSTART;TZID=Europe/Berlin:20201024T140000
DTEND;TZID=Europe/Berlin:20201024T154500
SUMMARY:K - 2. Klasse C 2020/21: Straßburg - Maria Rain
END:VEVENT
BEGIN:VEVENT
UID:20260422T105951UTC-8860WHMVl5@85.215.121.98
DTSTAMP:20260422T105951Z
DTSTART;TZID=Europe/Berlin:20201031T150000
DTEND;TZID=Europe/Berlin:20201031T164500
SUMMARY:K - 2. Klasse C 2020/21: Maria Rain - Gurk
END:VEVENT
BEGIN:VEVENT
UID:20260422T105951UTC-8867NtVHrM@85.215.121.98
DTSTAMP:20260422T105951Z
DTSTART;TZID=Europe/Berlin:20210321T150000
DTEND;TZID=Europe/Berlin:20210321T164500
SUMMARY:K - 2. Klasse C 2020/21: Moosburg - Maria Rain
END:VEVENT
BEGIN:VEVENT
UID:20260422T105951UTC-8871vvaKXv@85.215.121.98
DTSTAMP:20260422T105951Z
DTSTART;TZID=Europe/Berlin:20210327T150000
DTEND;TZID=Europe/Berlin:20210327T164500
SUMMARY:K - 2. Klasse C 2020/21: Maria Rain - SG KSK-Wörthersee/ATUS Pörtsc
 hach
END:VEVENT
BEGIN:VEVENT
UID:20260422T105951UTC-8877Lx3BUU@85.215.121.98
DTSTAMP:20260422T105951Z
DTSTART;TZID=Europe/Berlin:20210403T150000
DTEND;TZID=Europe/Berlin:20210403T164500
SUMMARY:K - 2. Klasse C 2020/21: Feistritz/Ros. - Maria Rain
END:VEVENT
BEGIN:VEVENT
UID:20260422T105951UTC-8884S4ugTu@85.215.121.98
DTSTAMP:20260422T105951Z
DTSTART;TZID=Europe/Berlin:20210410T150000
DTEND;TZID=Europe/Berlin:20210410T164500
SUMMARY:K - 2. Klasse C 2020/21: Maria Rain - Wietersdorf
END:VEVENT
BEGIN:VEVENT
UID:20260422T105951UTC-8890rb4aut@85.215.121.98
DTSTAMP:20260422T105951Z
DTSTART;TZID=Europe/Berlin:20210416T230000
DTEND;TZID=Europe/Berlin:20210417T004500
SUMMARY:K - 2. Klasse C 2020/21: Maria Rain - Himmelberg
END:VEVENT
BEGIN:VEVENT
UID:20260422T105951UTC-8899FR7nkR@85.215.121.98
DTSTAMP:20260422T105951Z
DTSTART;TZID=Europe/Berlin:20210418T230000
DTEND;TZID=Europe/Berlin:20210419T004500
SUMMARY:K - 2. Klasse C 2020/21: NextGen St. Veit - Maria Rain
END:VEVENT
BEGIN:VEVENT
UID:20260422T105951UTC-8905TJ6jKC@85.215.121.98
DTSTAMP:20260422T105951Z
DTSTART;TZID=Europe/Berlin:20210425T230000
DTEND;TZID=Europe/Berlin:20210426T004500
SUMMARY:K - 2. Klasse C 2020/21: Maria Rain - Kraig 1b
END:VEVENT
BEGIN:VEVENT
UID:20260422T105951UTC-8910spTVE9@85.215.121.98
DTSTAMP:20260422T105951Z
DTSTART;TZID=Europe/Berlin:20210502T230000
DTEND;TZID=Europe/Berlin:20210503T004500
SUMMARY:K - 2. Klasse C 2020/21: Weitensfeld - Maria Rain
END:VEVENT
BEGIN:VEVENT
UID:20260422T105951UTC-8915M1OC8o@85.215.121.98
DTSTAMP:20260422T105951Z
DTSTART;TZID=Europe/Berlin:20210513T230000
DTEND;TZID=Europe/Berlin:20210514T004500
SUMMARY:K - 2. Klasse C 2020/21: Sörg - Maria Rain
END:VEVENT
BEGIN:VEVENT
UID:20260422T105951UTC-8920PkuOT8@85.215.121.98
DTSTAMP:20260422T105951Z
DTSTART;TZID=Europe/Berlin:20210516T230000
DTEND;TZID=Europe/Berlin:20210517T004500
SUMMARY:K - 2. Klasse C 2020/21: Maria Rain - Viktring
END:VEVENT
BEGIN:VEVENT
UID:20260422T105951UTC-89253uNCPf@85.215.121.98
DTSTAMP:20260422T105951Z
DTSTART;TZID=Europe/Berlin:20210522T143000
DTEND;TZID=Europe/Berlin:20210522T161500
SUMMARY:K - 2. Klasse C 2020/21: St. Urban - Maria Rain
END:VEVENT
BEGIN:VEVENT
UID:20260422T105951UTC-8931rtSGBm@85.215.121.98
DTSTAMP:20260422T105951Z
DTSTART;TZID=Europe/Berlin:20210529T160000
DTEND;TZID=Europe/Berlin:20210529T174500
SUMMARY:K - 2. Klasse C 2020/21: Maria Rain - Straßburg
END:VEVENT
BEGIN:VEVENT
UID:20260422T105951UTC-8939erTr9c@85.215.121.98
DTSTAMP:20260422T105951Z
DTSTART;TZID=Europe/Berlin:20210605T160000
DTEND;TZID=Europe/Berlin:20210605T174500
SUMMARY:K - 2. Klasse C 2020/21: Gurk - Maria Rain
END:VEVENT
BEGIN:VEVENT
UID:20260422T105951UTC-894487EjP7@85.215.121.98
DTSTAMP:20260422T105951Z
DTSTART;TZID=Europe/Berlin:20210612T160000
DTEND;TZID=Europe/Berlin:20210612T174500
SUMMARY:K - 2. Klasse C 2020/21: Maria Rain - Techelsberg
END:VEVENT
BEGIN:VEVENT
UID:20260422T105951UTC-8950Ae34Xt@85.215.121.98
DTSTAMP:20260422T105951Z
DTSTART;TZID=Europe/Berlin:20210627T170000
DTEND;TZID=Europe/Berlin:20210627T184500
SUMMARY:K - 2. Klasse C 2020/21: Techelsberg - Maria Rain
END:VEVENT
END:VCALENDAR
