BEGIN:VCALENDAR
VERSION:2.0
PRODID:-////NONSGML kigkonsult.se iCalcreator 2.18//
X-WR-TIMEZONE:Europe/Berlin
BEGIN:VTIMEZONE
TZID:Europe/Berlin
X-LIC-LOCATION:Europe/Berlin
BEGIN:STANDARD
DTSTART:20201025T030000
TZOFFSETFROM:+0200
TZOFFSETTO:+0100
RDATE:20211031T030000
TZNAME:CET
END:STANDARD
BEGIN:DAYLIGHT
DTSTART:20210328T020000
TZOFFSETFROM:+0100
TZOFFSETTO:+0200
RDATE:20220327T020000
TZNAME:CEST
END:DAYLIGHT
END:VTIMEZONE
BEGIN:VEVENT
UID:20260424T114240UTC-6534hFVkZS@85.215.121.98
DTSTAMP:20260424T114240Z
DTSTART;TZID=Europe/Berlin:20200802T160000
DTEND;TZID=Europe/Berlin:20200802T174500
SUMMARY:K - 2. Klasse D 2020/21: Frantschach - ASV 1b
END:VEVENT
BEGIN:VEVENT
UID:20260424T114240UTC-6543nt3PPs@85.215.121.98
DTSTAMP:20260424T114240Z
DTSTART;TZID=Europe/Berlin:20200808T170000
DTEND;TZID=Europe/Berlin:20200808T184500
SUMMARY:K - 2. Klasse D 2020/21: Reichenfels - Frantschach
END:VEVENT
BEGIN:VEVENT
UID:20260424T114240UTC-65506n38th@85.215.121.98
DTSTAMP:20260424T114240Z
DTSTART;TZID=Europe/Berlin:20200816T170000
DTEND;TZID=Europe/Berlin:20200816T184500
SUMMARY:K - 2. Klasse D 2020/21: Frantschach - Preitenegg
END:VEVENT
BEGIN:VEVENT
UID:20260424T114240UTC-6555nhLwis@85.215.121.98
DTSTAMP:20260424T114240Z
DTSTART;TZID=Europe/Berlin:20200823T173000
DTEND;TZID=Europe/Berlin:20200823T191500
SUMMARY:K - 2. Klasse D 2020/21: SG SV Magdalensberg/ASKÖ Poggersdorf Young
 sters - Frantschach
END:VEVENT
BEGIN:VEVENT
UID:20260424T114240UTC-6562n1pK4E@85.215.121.98
DTSTAMP:20260424T114240Z
DTSTART;TZID=Europe/Berlin:20200830T160000
DTEND;TZID=Europe/Berlin:20200830T174500
SUMMARY:K - 2. Klasse D 2020/21: Frantschach - KAC 1909 Juniors
END:VEVENT
BEGIN:VEVENT
UID:20260424T114240UTC-6569Vr4A6k@85.215.121.98
DTSTAMP:20260424T114240Z
DTSTART;TZID=Europe/Berlin:20200905T160000
DTEND;TZID=Europe/Berlin:20200905T174500
SUMMARY:K - 2. Klasse D 2020/21: Maria Rojach - Frantschach
END:VEVENT
BEGIN:VEVENT
UID:20260424T114240UTC-6579AHfwDu@85.215.121.98
DTSTAMP:20260424T114240Z
DTSTART;TZID=Europe/Berlin:20200913T160000
DTEND;TZID=Europe/Berlin:20200913T174500
SUMMARY:K - 2. Klasse D 2020/21: Frantschach - St. Paul
END:VEVENT
BEGIN:VEVENT
UID:20260424T114240UTC-6614g8JgB8@85.215.121.98
DTSTAMP:20260424T114240Z
DTSTART;TZID=Europe/Berlin:20200920T130000
DTEND;TZID=Europe/Berlin:20200920T144500
SUMMARY:K - 2. Klasse D 2020/21: ASV 1b - Frantschach
END:VEVENT
BEGIN:VEVENT
UID:20260424T114240UTC-6622Z27Z36@85.215.121.98
DTSTAMP:20260424T114240Z
DTSTART;TZID=Europe/Berlin:20200927T230000
DTEND;TZID=Europe/Berlin:20200928T004500
SUMMARY:K - 2. Klasse D 2020/21: Frantschach - Reichenfels
END:VEVENT
BEGIN:VEVENT
UID:20260424T114240UTC-66276G0wTE@85.215.121.98
DTSTAMP:20260424T114240Z
DTSTART;TZID=Europe/Berlin:20201004T160000
DTEND;TZID=Europe/Berlin:20201004T174500
SUMMARY:K - 2. Klasse D 2020/21: Preitenegg - Frantschach
END:VEVENT
BEGIN:VEVENT
UID:20260424T114240UTC-6633smTD7G@85.215.121.98
DTSTAMP:20260424T114240Z
DTSTART;TZID=Europe/Berlin:20201011T150000
DTEND;TZID=Europe/Berlin:20201011T164500
SUMMARY:K - 2. Klasse D 2020/21: Frantschach - SG SV Magdalensberg/ASKÖ Pog
 gersdorf Youngsters
END:VEVENT
BEGIN:VEVENT
UID:20260424T114240UTC-66538p8MJ6@85.215.121.98
DTSTAMP:20260424T114240Z
DTSTART;TZID=Europe/Berlin:20201018T153000
DTEND;TZID=Europe/Berlin:20201018T171500
SUMMARY:K - 2. Klasse D 2020/21: KAC 1909 Juniors - Frantschach
END:VEVENT
BEGIN:VEVENT
UID:20260424T114240UTC-6660sNUNZP@85.215.121.98
DTSTAMP:20260424T114240Z
DTSTART;TZID=Europe/Berlin:20201025T150000
DTEND;TZID=Europe/Berlin:20201025T164500
SUMMARY:K - 2. Klasse D 2020/21: Frantschach - Maria Rojach
END:VEVENT
BEGIN:VEVENT
UID:20260424T114240UTC-6674jvCUCX@85.215.121.98
DTSTAMP:20260424T114240Z
DTSTART;TZID=Europe/Berlin:20201031T150000
DTEND;TZID=Europe/Berlin:20201031T164500
SUMMARY:K - 2. Klasse D 2020/21: St. Paul - Frantschach
END:VEVENT
BEGIN:VEVENT
UID:20260424T114240UTC-6680ejObHK@85.215.121.98
DTSTAMP:20260424T114240Z
DTSTART;TZID=Europe/Berlin:20210314T230000
DTEND;TZID=Europe/Berlin:20210315T004500
SUMMARY:K - 2. Klasse D 2020/21: Frantschach - ASV 1b
END:VEVENT
BEGIN:VEVENT
UID:20260424T114240UTC-6685AN96DH@85.215.121.98
DTSTAMP:20260424T114240Z
DTSTART;TZID=Europe/Berlin:20210321T230000
DTEND;TZID=Europe/Berlin:20210322T004500
SUMMARY:K - 2. Klasse D 2020/21: Reichenfels - Frantschach
END:VEVENT
BEGIN:VEVENT
UID:20260424T114240UTC-6715oLpnkf@85.215.121.98
DTSTAMP:20260424T114240Z
DTSTART;TZID=Europe/Berlin:20210328T230000
DTEND;TZID=Europe/Berlin:20210329T004500
SUMMARY:K - 2. Klasse D 2020/21: Frantschach - Preitenegg
END:VEVENT
BEGIN:VEVENT
UID:20260424T114240UTC-6721cAPSUK@85.215.121.98
DTSTAMP:20260424T114240Z
DTSTART;TZID=Europe/Berlin:20210404T230000
DTEND;TZID=Europe/Berlin:20210405T004500
SUMMARY:K - 2. Klasse D 2020/21: SG SV Magdalensberg/ASKÖ Poggersdorf Young
 sters - Frantschach
END:VEVENT
BEGIN:VEVENT
UID:20260424T114240UTC-6727xbPBfb@85.215.121.98
DTSTAMP:20260424T114240Z
DTSTART;TZID=Europe/Berlin:20210411T230000
DTEND;TZID=Europe/Berlin:20210412T004500
SUMMARY:K - 2. Klasse D 2020/21: Frantschach - KAC 1909 Juniors
END:VEVENT
BEGIN:VEVENT
UID:20260424T114240UTC-67358WRjAK@85.215.121.98
DTSTAMP:20260424T114240Z
DTSTART;TZID=Europe/Berlin:20210418T230000
DTEND;TZID=Europe/Berlin:20210419T004500
SUMMARY:K - 2. Klasse D 2020/21: Maria Rojach - Frantschach
END:VEVENT
BEGIN:VEVENT
UID:20260424T114240UTC-6742vAtkh0@85.215.121.98
DTSTAMP:20260424T114240Z
DTSTART;TZID=Europe/Berlin:20210425T230000
DTEND;TZID=Europe/Berlin:20210426T004500
SUMMARY:K - 2. Klasse D 2020/21: Frantschach - St. Paul
END:VEVENT
BEGIN:VEVENT
UID:20260424T114240UTC-6750pE0mU4@85.215.121.98
DTSTAMP:20260424T114240Z
DTSTART;TZID=Europe/Berlin:20210502T230000
DTEND;TZID=Europe/Berlin:20210503T004500
SUMMARY:K - 2. Klasse D 2020/21: ASV 1b - Frantschach
END:VEVENT
BEGIN:VEVENT
UID:20260424T114240UTC-6767KKx1AL@85.215.121.98
DTSTAMP:20260424T114240Z
DTSTART;TZID=Europe/Berlin:20210509T230000
DTEND;TZID=Europe/Berlin:20210510T004500
SUMMARY:K - 2. Klasse D 2020/21: Frantschach - Reichenfels
END:VEVENT
BEGIN:VEVENT
UID:20260424T114240UTC-6773rohMmI@85.215.121.98
DTSTAMP:20260424T114240Z
DTSTART;TZID=Europe/Berlin:20210516T230000
DTEND;TZID=Europe/Berlin:20210517T004500
SUMMARY:K - 2. Klasse D 2020/21: Preitenegg - Frantschach
END:VEVENT
BEGIN:VEVENT
UID:20260424T114240UTC-67795cvUsk@85.215.121.98
DTSTAMP:20260424T114240Z
DTSTART;TZID=Europe/Berlin:20210523T230000
DTEND;TZID=Europe/Berlin:20210524T004500
SUMMARY:K - 2. Klasse D 2020/21: Frantschach - SG SV Magdalensberg/ASKÖ Pog
 gersdorf Youngsters
END:VEVENT
BEGIN:VEVENT
UID:20260424T114240UTC-6785niJTvt@85.215.121.98
DTSTAMP:20260424T114240Z
DTSTART;TZID=Europe/Berlin:20210530T230000
DTEND;TZID=Europe/Berlin:20210531T004500
SUMMARY:K - 2. Klasse D 2020/21: KAC 1909 Juniors - Frantschach
END:VEVENT
BEGIN:VEVENT
UID:20260424T114240UTC-6791ZiVdJf@85.215.121.98
DTSTAMP:20260424T114240Z
DTSTART;TZID=Europe/Berlin:20210606T230000
DTEND;TZID=Europe/Berlin:20210607T004500
SUMMARY:K - 2. Klasse D 2020/21: Frantschach - Maria Rojach
END:VEVENT
BEGIN:VEVENT
UID:20260424T114240UTC-68158DGIbk@85.215.121.98
DTSTAMP:20260424T114240Z
DTSTART;TZID=Europe/Berlin:20210613T230000
DTEND;TZID=Europe/Berlin:20210614T004500
SUMMARY:K - 2. Klasse D 2020/21: St. Paul - Frantschach
END:VEVENT
END:VCALENDAR
