BEGIN:VCALENDAR
VERSION:2.0
PRODID:-////NONSGML kigkonsult.se iCalcreator 2.18//
X-WR-TIMEZONE:Europe/Berlin
BEGIN:VTIMEZONE
TZID:Europe/Berlin
X-LIC-LOCATION:Europe/Berlin
BEGIN:STANDARD
DTSTART:20191027T030000
TZOFFSETFROM:+0200
TZOFFSETTO:+0100
RDATE:20201025T030000
TZNAME:CET
END:STANDARD
BEGIN:DAYLIGHT
DTSTART:20200329T020000
TZOFFSETFROM:+0100
TZOFFSETTO:+0200
RDATE:20210328T020000
TZNAME:CEST
END:DAYLIGHT
END:VTIMEZONE
BEGIN:VEVENT
UID:20260424T120213UTC-7965EVO5Xl@85.215.121.98
DTSTAMP:20260424T120213Z
DTSTART;TZID=Europe/Berlin:20190728T170000
DTEND;TZID=Europe/Berlin:20190728T184500
SUMMARY:K - 2. Klasse B 2019/20: Afritz - Ferndorf
END:VEVENT
BEGIN:VEVENT
UID:20260424T120213UTC-7975ahbTmH@85.215.121.98
DTSTAMP:20260424T120213Z
DTSTART;TZID=Europe/Berlin:20190803T150000
DTEND;TZID=Europe/Berlin:20190803T164500
SUMMARY:K - 2. Klasse B 2019/20: Bad Bleiberg - Afritz
END:VEVENT
BEGIN:VEVENT
UID:20260424T120213UTC-7985cbp3tt@85.215.121.98
DTSTAMP:20260424T120213Z
DTSTART;TZID=Europe/Berlin:20190811T173000
DTEND;TZID=Europe/Berlin:20190811T191500
SUMMARY:K - 2. Klasse B 2019/20: Afritz - Kleinkirchheim
END:VEVENT
BEGIN:VEVENT
UID:20260424T120213UTC-7990UpNOxk@85.215.121.98
DTSTAMP:20260424T120213Z
DTSTART;TZID=Europe/Berlin:20190816T180000
DTEND;TZID=Europe/Berlin:20190816T194500
SUMMARY:K - 2. Klasse B 2019/20: Obermillstatt - Afritz
END:VEVENT
BEGIN:VEVENT
UID:20260424T120213UTC-7996rU0M5x@85.215.121.98
DTSTAMP:20260424T120213Z
DTSTART;TZID=Europe/Berlin:20190824T173000
DTEND;TZID=Europe/Berlin:20190824T191500
SUMMARY:K - 2. Klasse B 2019/20: Afritz - Treffen
END:VEVENT
BEGIN:VEVENT
UID:20260424T120213UTC-8002HRCmo5@85.215.121.98
DTSTAMP:20260424T120213Z
DTSTART;TZID=Europe/Berlin:20190831T170000
DTEND;TZID=Europe/Berlin:20190831T184500
SUMMARY:K - 2. Klasse B 2019/20: Arnoldstein - Afritz
END:VEVENT
BEGIN:VEVENT
UID:20260424T120213UTC-8008ADXRMV@85.215.121.98
DTSTAMP:20260424T120213Z
DTSTART;TZID=Europe/Berlin:20190908T163000
DTEND;TZID=Europe/Berlin:20190908T181500
SUMMARY:K - 2. Klasse B 2019/20: Afritz - Admira Villach
END:VEVENT
BEGIN:VEVENT
UID:20260424T120213UTC-8014WBT6ZV@85.215.121.98
DTSTAMP:20260424T120213Z
DTSTART;TZID=Europe/Berlin:20190915T150000
DTEND;TZID=Europe/Berlin:20190915T164500
SUMMARY:K - 2. Klasse B 2019/20: Arriach - Afritz
END:VEVENT
BEGIN:VEVENT
UID:20260424T120213UTC-8020fZl4av@85.215.121.98
DTSTAMP:20260424T120213Z
DTSTART;TZID=Europe/Berlin:20190921T153000
DTEND;TZID=Europe/Berlin:20190921T171500
SUMMARY:K - 2. Klasse B 2019/20: Afritz - Rosegg
END:VEVENT
BEGIN:VEVENT
UID:20260424T120213UTC-8027Br5VmE@85.215.121.98
DTSTAMP:20260424T120213Z
DTSTART;TZID=Europe/Berlin:20190929T160000
DTEND;TZID=Europe/Berlin:20190929T174500
SUMMARY:K - 2. Klasse B 2019/20: Draschitz - Afritz
END:VEVENT
BEGIN:VEVENT
UID:20260424T120213UTC-8032mPuWux@85.215.121.98
DTSTAMP:20260424T120213Z
DTSTART;TZID=Europe/Berlin:20191005T150000
DTEND;TZID=Europe/Berlin:20191005T164500
SUMMARY:K - 2. Klasse B 2019/20: Afritz - Spittal/Drau
END:VEVENT
BEGIN:VEVENT
UID:20260424T120213UTC-8038vxUjil@85.215.121.98
DTSTAMP:20260424T120213Z
DTSTART;TZID=Europe/Berlin:20191012T153000
DTEND;TZID=Europe/Berlin:20191012T171500
SUMMARY:K - 2. Klasse B 2019/20: SG SK Weißenstein/SV Töplitsch - Afritz
END:VEVENT
BEGIN:VEVENT
UID:20260424T120213UTC-80455PSVDa@85.215.121.98
DTSTAMP:20260424T120213Z
DTSTART;TZID=Europe/Berlin:20191019T143000
DTEND;TZID=Europe/Berlin:20191019T161500
SUMMARY:K - 2. Klasse B 2019/20: Afritz - Gitschtal
END:VEVENT
BEGIN:VEVENT
UID:20260424T120213UTC-8050vjnjAl@85.215.121.98
DTSTAMP:20260424T120213Z
DTSTART;TZID=Europe/Berlin:20191026T143000
DTEND;TZID=Europe/Berlin:20191026T161500
SUMMARY:K - 2. Klasse B 2019/20: Ferndorf - Afritz
END:VEVENT
BEGIN:VEVENT
UID:20260424T120213UTC-8055mbFc3v@85.215.121.98
DTSTAMP:20260424T120213Z
DTSTART;TZID=Europe/Berlin:20200321T150000
DTEND;TZID=Europe/Berlin:20200321T164500
SUMMARY:K - 2. Klasse B 2019/20: Afritz - Bad Bleiberg
END:VEVENT
BEGIN:VEVENT
UID:20260424T120213UTC-8061plJ1nM@85.215.121.98
DTSTAMP:20260424T120213Z
DTSTART;TZID=Europe/Berlin:20200328T150000
DTEND;TZID=Europe/Berlin:20200328T164500
SUMMARY:K - 2. Klasse B 2019/20: Kleinkirchheim - Afritz
END:VEVENT
BEGIN:VEVENT
UID:20260424T120213UTC-8067k3hm7r@85.215.121.98
DTSTAMP:20260424T120213Z
DTSTART;TZID=Europe/Berlin:20200404T150000
DTEND;TZID=Europe/Berlin:20200404T164500
SUMMARY:K - 2. Klasse B 2019/20: Afritz - Obermillstatt
END:VEVENT
BEGIN:VEVENT
UID:20260424T120213UTC-8073woCOKi@85.215.121.98
DTSTAMP:20260424T120213Z
DTSTART;TZID=Europe/Berlin:20200411T150000
DTEND;TZID=Europe/Berlin:20200411T164500
SUMMARY:K - 2. Klasse B 2019/20: Treffen - Afritz
END:VEVENT
BEGIN:VEVENT
UID:20260424T120213UTC-8079jKeKVu@85.215.121.98
DTSTAMP:20260424T120213Z
DTSTART;TZID=Europe/Berlin:20200418T160000
DTEND;TZID=Europe/Berlin:20200418T174500
SUMMARY:K - 2. Klasse B 2019/20: Afritz - Arnoldstein
END:VEVENT
BEGIN:VEVENT
UID:20260424T120213UTC-8089tcWueL@85.215.121.98
DTSTAMP:20260424T120213Z
DTSTART;TZID=Europe/Berlin:20200426T160000
DTEND;TZID=Europe/Berlin:20200426T174500
SUMMARY:K - 2. Klasse B 2019/20: Admira Villach - Afritz
END:VEVENT
BEGIN:VEVENT
UID:20260424T120213UTC-80961MeD2k@85.215.121.98
DTSTAMP:20260424T120213Z
DTSTART;TZID=Europe/Berlin:20200502T160000
DTEND;TZID=Europe/Berlin:20200502T174500
SUMMARY:K - 2. Klasse B 2019/20: Afritz - Arriach
END:VEVENT
BEGIN:VEVENT
UID:20260424T120213UTC-8103Ud8GVr@85.215.121.98
DTSTAMP:20260424T120213Z
DTSTART;TZID=Europe/Berlin:20200509T170000
DTEND;TZID=Europe/Berlin:20200509T184500
SUMMARY:K - 2. Klasse B 2019/20: Rosegg - Afritz
END:VEVENT
BEGIN:VEVENT
UID:20260424T120213UTC-8109cDkBOC@85.215.121.98
DTSTAMP:20260424T120213Z
DTSTART;TZID=Europe/Berlin:20200516T160000
DTEND;TZID=Europe/Berlin:20200516T174500
SUMMARY:K - 2. Klasse B 2019/20: Afritz - Draschitz
END:VEVENT
BEGIN:VEVENT
UID:20260424T120213UTC-8115K59gd6@85.215.121.98
DTSTAMP:20260424T120213Z
DTSTART;TZID=Europe/Berlin:20200522T193000
DTEND;TZID=Europe/Berlin:20200522T211500
SUMMARY:K - 2. Klasse B 2019/20: Spittal/Drau - Afritz
END:VEVENT
BEGIN:VEVENT
UID:20260424T120213UTC-8120Kc8v4R@85.215.121.98
DTSTAMP:20260424T120213Z
DTSTART;TZID=Europe/Berlin:20200606T160000
DTEND;TZID=Europe/Berlin:20200606T174500
SUMMARY:K - 2. Klasse B 2019/20: Afritz - SG SK Weißenstein/SV Töplitsch
END:VEVENT
BEGIN:VEVENT
UID:20260424T120213UTC-8126jCjVVp@85.215.121.98
DTSTAMP:20260424T120213Z
DTSTART;TZID=Europe/Berlin:20200614T150000
DTEND;TZID=Europe/Berlin:20200614T164500
SUMMARY:K - 2. Klasse B 2019/20: Gitschtal - Afritz
END:VEVENT
END:VCALENDAR
