BEGIN:VCALENDAR
VERSION:2.0
PRODID:-////NONSGML kigkonsult.se iCalcreator 2.18//
X-WR-TIMEZONE:Europe/Berlin
BEGIN:VTIMEZONE
TZID:Europe/Berlin
X-LIC-LOCATION:Europe/Berlin
BEGIN:STANDARD
DTSTART:20201025T030000
TZOFFSETFROM:+0200
TZOFFSETTO:+0100
RDATE:20211031T030000
TZNAME:CET
END:STANDARD
BEGIN:DAYLIGHT
DTSTART:20210328T020000
TZOFFSETFROM:+0100
TZOFFSETTO:+0200
TZNAME:CEST
END:DAYLIGHT
END:VTIMEZONE
BEGIN:VEVENT
UID:20260424T131949UTC-8155OIXRk2@85.215.121.98
DTSTAMP:20260424T131949Z
DTSTART;TZID=Europe/Berlin:20200830T110000
DTEND;TZID=Europe/Berlin:20200830T124500
SUMMARY:ÖFB Cup 2020/21: Dornbirner Sportverein - TSV Hartberg
END:VEVENT
BEGIN:VEVENT
UID:20260424T131949UTC-8290CRtaCX@85.215.121.98
DTSTAMP:20260424T131949Z
DTSTART;TZID=Europe/Berlin:20201017T150000
DTEND;TZID=Europe/Berlin:20201017T164500
SUMMARY:ÖFB Cup 2020/21: Gmünd - TSV Hartberg
END:VEVENT
BEGIN:VEVENT
UID:20260424T131949UTC-8296UX56pu@85.215.121.98
DTSTAMP:20260424T131949Z
DTSTART;TZID=Europe/Berlin:20201125T171500
DTEND;TZID=Europe/Berlin:20201125T190000
SUMMARY:ÖFB Cup 2020/21: FK Austria Wien - TSV Hartberg
END:VEVENT
END:VCALENDAR
