BEGIN:VCALENDAR
VERSION:2.0
PRODID:-////NONSGML kigkonsult.se iCalcreator 2.18//
X-WR-TIMEZONE:Europe/Berlin
BEGIN:VTIMEZONE
TZID:Europe/Berlin
X-LIC-LOCATION:Europe/Berlin
BEGIN:STANDARD
DTSTART:20201025T030000
TZOFFSETFROM:+0200
TZOFFSETTO:+0100
RDATE:20211031T030000
TZNAME:CET
END:STANDARD
BEGIN:DAYLIGHT
DTSTART:20210328T020000
TZOFFSETFROM:+0100
TZOFFSETTO:+0200
TZNAME:CEST
END:DAYLIGHT
END:VTIMEZONE
BEGIN:VEVENT
UID:20260424T093417UTC-9899CJRXKW@85.215.121.98
DTSTAMP:20260424T093417Z
DTSTART;TZID=Europe/Berlin:20200802T163000
DTEND;TZID=Europe/Berlin:20200802T181500
SUMMARY:Eliteliga Vorarlberg 2020/21: FC Wolfurt - FC Rotenberg
END:VEVENT
BEGIN:VEVENT
UID:20260424T093417UTC-9915F2W60S@85.215.121.98
DTSTAMP:20260424T093417Z
DTSTART;TZID=Europe/Berlin:20200808T170000
DTEND;TZID=Europe/Berlin:20200808T184500
SUMMARY:Eliteliga Vorarlberg 2020/21: SC Austria Lustenau Amateure - FC Wol
 furt
END:VEVENT
BEGIN:VEVENT
UID:20260424T093417UTC-9985UnIvSP@85.215.121.98
DTSTAMP:20260424T093417Z
DTSTART;TZID=Europe/Berlin:20200815T170000
DTEND;TZID=Europe/Berlin:20200815T184500
SUMMARY:Eliteliga Vorarlberg 2020/21: FC Wolfurt - SC Schwarz Weiss Bregenz
END:VEVENT
BEGIN:VEVENT
UID:20260424T093418UTC-0054Ks7Icx@85.215.121.98
DTSTAMP:20260424T093418Z
DTSTART;TZID=Europe/Berlin:20200823T160000
DTEND;TZID=Europe/Berlin:20200823T174500
SUMMARY:Eliteliga Vorarlberg 2020/21: RW Rankweil - FC Wolfurt
END:VEVENT
BEGIN:VEVENT
UID:20260424T093418UTC-0075H0u6jM@85.215.121.98
DTSTAMP:20260424T093418Z
DTSTART;TZID=Europe/Berlin:20200901T174500
DTEND;TZID=Europe/Berlin:20200901T193000
SUMMARY:Eliteliga Vorarlberg 2020/21: FC Wolfurt - FC Lauterach
END:VEVENT
BEGIN:VEVENT
UID:20260424T093418UTC-01555lPK8m@85.215.121.98
DTSTAMP:20260424T093418Z
DTSTART;TZID=Europe/Berlin:20200905T173000
DTEND;TZID=Europe/Berlin:20200905T191500
SUMMARY:Eliteliga Vorarlberg 2020/21: Dornbirner Sportverein - FC Wolfurt
END:VEVENT
BEGIN:VEVENT
UID:20260424T093418UTC-0225pJ5Ml1@85.215.121.98
DTSTAMP:20260424T093418Z
DTSTART;TZID=Europe/Berlin:20200927T160000
DTEND;TZID=Europe/Berlin:20200927T174500
SUMMARY:Eliteliga Vorarlberg 2020/21: FC Wolfurt - SC Austria Lustenau Amat
 eure
END:VEVENT
BEGIN:VEVENT
UID:20260424T093418UTC-0325oxmLsz@85.215.121.98
DTSTAMP:20260424T093418Z
DTSTART;TZID=Europe/Berlin:20201007T183000
DTEND;TZID=Europe/Berlin:20201007T201500
SUMMARY:Eliteliga Vorarlberg 2020/21: VfB Hohenems - FC Wolfurt
END:VEVENT
BEGIN:VEVENT
UID:20260424T093418UTC-0395n69pkN@85.215.121.98
DTSTAMP:20260424T093418Z
DTSTART;TZID=Europe/Berlin:20201010T160000
DTEND;TZID=Europe/Berlin:20201010T174500
SUMMARY:Eliteliga Vorarlberg 2020/21: SC Schwarz Weiss Bregenz - FC Wolfurt
END:VEVENT
BEGIN:VEVENT
UID:20260424T093418UTC-0435mlMkdU@85.215.121.98
DTSTAMP:20260424T093418Z
DTSTART;TZID=Europe/Berlin:20201018T160000
DTEND;TZID=Europe/Berlin:20201018T174500
SUMMARY:Eliteliga Vorarlberg 2020/21: FC Wolfurt - RW Rankweil
END:VEVENT
BEGIN:VEVENT
UID:20260424T093418UTC-0475SS7et5@85.215.121.98
DTSTAMP:20260424T093418Z
DTSTART;TZID=Europe/Berlin:20201024T153000
DTEND;TZID=Europe/Berlin:20201024T171500
SUMMARY:Eliteliga Vorarlberg 2020/21: FC Lauterach - FC Wolfurt
END:VEVENT
BEGIN:VEVENT
UID:20260424T093418UTC-0515JV2WTu@85.215.121.98
DTSTAMP:20260424T093418Z
DTSTART;TZID=Europe/Berlin:20201031T143000
DTEND;TZID=Europe/Berlin:20201031T161500
SUMMARY:Eliteliga Vorarlberg 2020/21: FC Wolfurt - Dornbirner Sportverein
END:VEVENT
BEGIN:VEVENT
UID:20260424T093418UTC-0554rVCFBd@85.215.121.98
DTSTAMP:20260424T093418Z
DTSTART;TZID=Europe/Berlin:20201107T160000
DTEND;TZID=Europe/Berlin:20201107T174500
SUMMARY:Eliteliga Vorarlberg 2020/21: VfB Hohenems - FC Wolfurt
END:VEVENT
BEGIN:VEVENT
UID:20260424T093418UTC-0594UXZsuf@85.215.121.98
DTSTAMP:20260424T093418Z
DTSTART;TZID=Europe/Berlin:20201115T140000
DTEND;TZID=Europe/Berlin:20201115T154500
SUMMARY:Eliteliga Vorarlberg 2020/21: FC Wolfurt - SC Röthis
END:VEVENT
BEGIN:VEVENT
UID:20260424T093418UTC-0634a8LtGX@85.215.121.98
DTSTAMP:20260424T093418Z
DTSTART;TZID=Europe/Berlin:20201121T140000
DTEND;TZID=Europe/Berlin:20201121T154500
SUMMARY:Eliteliga Vorarlberg 2020/21: FC Rotenberg - FC Wolfurt
END:VEVENT
BEGIN:VEVENT
UID:20260424T093418UTC-0673C1DGgB@85.215.121.98
DTSTAMP:20260424T093418Z
DTSTART;TZID=Europe/Berlin:20201128T140000
DTEND;TZID=Europe/Berlin:20201128T154500
SUMMARY:Eliteliga Vorarlberg 2020/21: SC Röthis - FC Wolfurt
END:VEVENT
END:VCALENDAR
