BEGIN:VCALENDAR
VERSION:2.0
PRODID:-////NONSGML kigkonsult.se iCalcreator 2.18//
X-WR-TIMEZONE:Europe/Berlin
BEGIN:VTIMEZONE
TZID:Europe/Berlin
X-LIC-LOCATION:Europe/Berlin
BEGIN:STANDARD
DTSTART:20191027T030000
TZOFFSETFROM:+0200
TZOFFSETTO:+0100
RDATE:20201025T030000
TZNAME:CET
END:STANDARD
BEGIN:DAYLIGHT
DTSTART:20200329T020000
TZOFFSETFROM:+0100
TZOFFSETTO:+0200
RDATE:20210328T020000
TZNAME:CEST
END:DAYLIGHT
END:VTIMEZONE
BEGIN:VEVENT
UID:20260424T072951UTC-21431swiC0@85.215.121.98
DTSTAMP:20260424T072951Z
DTSTART;TZID=Europe/Berlin:20190727T180000
DTEND;TZID=Europe/Berlin:20190727T194500
SUMMARY:K - 1. Klasse A 2019/20: Egg - Lurnfeld
END:VEVENT
BEGIN:VEVENT
UID:20260424T072951UTC-2236nJMhjv@85.215.121.98
DTSTAMP:20260424T072951Z
DTSTART;TZID=Europe/Berlin:20190803T180000
DTEND;TZID=Europe/Berlin:20190803T194500
SUMMARY:K - 1. Klasse A 2019/20: Egg - Dölsach
END:VEVENT
BEGIN:VEVENT
UID:20260424T072951UTC-2242TFADps@85.215.121.98
DTSTAMP:20260424T072951Z
DTSTART;TZID=Europe/Berlin:20190810T180000
DTEND;TZID=Europe/Berlin:20190810T194500
SUMMARY:K - 1. Klasse A 2019/20: Sillian - Egg
END:VEVENT
BEGIN:VEVENT
UID:20260424T072951UTC-2248FBvHJ9@85.215.121.98
DTSTAMP:20260424T072951Z
DTSTART;TZID=Europe/Berlin:20190817T170000
DTEND;TZID=Europe/Berlin:20190817T184500
SUMMARY:K - 1. Klasse A 2019/20: Egg - SG Virgental/TSU Virgen
END:VEVENT
BEGIN:VEVENT
UID:20260424T072951UTC-2254wbjRaa@85.215.121.98
DTSTAMP:20260424T072951Z
DTSTART;TZID=Europe/Berlin:20190824T183000
DTEND;TZID=Europe/Berlin:20190824T201500
SUMMARY:K - 1. Klasse A 2019/20: Oberes Mölltal - Egg
END:VEVENT
BEGIN:VEVENT
UID:20260424T072951UTC-2261NoUzPc@85.215.121.98
DTSTAMP:20260424T072951Z
DTSTART;TZID=Europe/Berlin:20190831T170000
DTEND;TZID=Europe/Berlin:20190831T184500
SUMMARY:K - 1. Klasse A 2019/20: Egg - Dellach/Dr.
END:VEVENT
BEGIN:VEVENT
UID:20260424T072951UTC-2268w5KwTd@85.215.121.98
DTSTAMP:20260424T072951Z
DTSTART;TZID=Europe/Berlin:20190907T170000
DTEND;TZID=Europe/Berlin:20190907T184500
SUMMARY:K - 1. Klasse A 2019/20: Kötschach - Egg
END:VEVENT
BEGIN:VEVENT
UID:20260424T072951UTC-22739pXpFA@85.215.121.98
DTSTAMP:20260424T072951Z
DTSTART;TZID=Europe/Berlin:20190914T163000
DTEND;TZID=Europe/Berlin:20190914T181500
SUMMARY:K - 1. Klasse A 2019/20: Egg - Oberlienz
END:VEVENT
BEGIN:VEVENT
UID:20260424T072951UTC-2278a0jVS9@85.215.121.98
DTSTAMP:20260424T072951Z
DTSTART;TZID=Europe/Berlin:20190922T160000
DTEND;TZID=Europe/Berlin:20190922T174500
SUMMARY:K - 1. Klasse A 2019/20: Tristach - Egg
END:VEVENT
BEGIN:VEVENT
UID:20260424T072951UTC-2284Gm6KAG@85.215.121.98
DTSTAMP:20260424T072951Z
DTSTART;TZID=Europe/Berlin:20190929T160000
DTEND;TZID=Europe/Berlin:20190929T174500
SUMMARY:K - 1. Klasse A 2019/20: Egg - Penk
END:VEVENT
BEGIN:VEVENT
UID:20260424T072951UTC-2289STPp9f@85.215.121.98
DTSTAMP:20260424T072951Z
DTSTART;TZID=Europe/Berlin:20191005T150000
DTEND;TZID=Europe/Berlin:20191005T164500
SUMMARY:K - 1. Klasse A 2019/20: SK Kirchbach - Egg
END:VEVENT
BEGIN:VEVENT
UID:20260424T072951UTC-2295MFNFR6@85.215.121.98
DTSTAMP:20260424T072951Z
DTSTART;TZID=Europe/Berlin:20191013T150000
DTEND;TZID=Europe/Berlin:20191013T164500
SUMMARY:K - 1. Klasse A 2019/20: Egg - Mölltal
END:VEVENT
BEGIN:VEVENT
UID:20260424T072951UTC-2299Ftvbul@85.215.121.98
DTSTAMP:20260424T072951Z
DTSTART;TZID=Europe/Berlin:20191020T150000
DTEND;TZID=Europe/Berlin:20191020T164500
SUMMARY:K - 1. Klasse A 2019/20: Irschen - Egg
END:VEVENT
BEGIN:VEVENT
UID:20260424T072951UTC-23062v64LE@85.215.121.98
DTSTAMP:20260424T072951Z
DTSTART;TZID=Europe/Berlin:20191026T150000
DTEND;TZID=Europe/Berlin:20191026T164500
SUMMARY:K - 1. Klasse A 2019/20: Lurnfeld - Egg
END:VEVENT
BEGIN:VEVENT
UID:20260424T072951UTC-2314B1rwai@85.215.121.98
DTSTAMP:20260424T072951Z
DTSTART;TZID=Europe/Berlin:20200321T150000
DTEND;TZID=Europe/Berlin:20200321T164500
SUMMARY:K - 1. Klasse A 2019/20: Dölsach - Egg
END:VEVENT
BEGIN:VEVENT
UID:20260424T072951UTC-2319Xxrx6P@85.215.121.98
DTSTAMP:20260424T072951Z
DTSTART;TZID=Europe/Berlin:20200329T230000
DTEND;TZID=Europe/Berlin:20200330T004500
SUMMARY:K - 1. Klasse A 2019/20: Egg - Sillian
END:VEVENT
BEGIN:VEVENT
UID:20260424T072951UTC-2324FuAJuR@85.215.121.98
DTSTAMP:20260424T072951Z
DTSTART;TZID=Europe/Berlin:20200405T160000
DTEND;TZID=Europe/Berlin:20200405T174500
SUMMARY:K - 1. Klasse A 2019/20: SG Virgental/TSU Virgen - Egg
END:VEVENT
BEGIN:VEVENT
UID:20260424T072951UTC-2330VowbrD@85.215.121.98
DTSTAMP:20260424T072951Z
DTSTART;TZID=Europe/Berlin:20200412T230000
DTEND;TZID=Europe/Berlin:20200413T004500
SUMMARY:K - 1. Klasse A 2019/20: Egg - Oberes Mölltal
END:VEVENT
BEGIN:VEVENT
UID:20260424T072951UTC-2335UoVcuu@85.215.121.98
DTSTAMP:20260424T072951Z
DTSTART;TZID=Europe/Berlin:20200419T150000
DTEND;TZID=Europe/Berlin:20200419T164500
SUMMARY:K - 1. Klasse A 2019/20: Dellach/Dr. - Egg
END:VEVENT
BEGIN:VEVENT
UID:20260424T072951UTC-234093FvDb@85.215.121.98
DTSTAMP:20260424T072951Z
DTSTART;TZID=Europe/Berlin:20200426T230000
DTEND;TZID=Europe/Berlin:20200427T004500
SUMMARY:K - 1. Klasse A 2019/20: Egg - Kötschach
END:VEVENT
BEGIN:VEVENT
UID:20260424T072951UTC-2346VDEVOl@85.215.121.98
DTSTAMP:20260424T072951Z
DTSTART;TZID=Europe/Berlin:20200502T160000
DTEND;TZID=Europe/Berlin:20200502T174500
SUMMARY:K - 1. Klasse A 2019/20: Oberlienz - Egg
END:VEVENT
BEGIN:VEVENT
UID:20260424T072951UTC-2353Tbdkmi@85.215.121.98
DTSTAMP:20260424T072951Z
DTSTART;TZID=Europe/Berlin:20200510T230000
DTEND;TZID=Europe/Berlin:20200511T004500
SUMMARY:K - 1. Klasse A 2019/20: Egg - Tristach
END:VEVENT
BEGIN:VEVENT
UID:20260424T072951UTC-23600UkFHE@85.215.121.98
DTSTAMP:20260424T072951Z
DTSTART;TZID=Europe/Berlin:20200516T163000
DTEND;TZID=Europe/Berlin:20200516T181500
SUMMARY:K - 1. Klasse A 2019/20: Penk - Egg
END:VEVENT
BEGIN:VEVENT
UID:20260424T072951UTC-2365DUXAZu@85.215.121.98
DTSTAMP:20260424T072951Z
DTSTART;TZID=Europe/Berlin:20200521T230000
DTEND;TZID=Europe/Berlin:20200522T004500
SUMMARY:K - 1. Klasse A 2019/20: Egg - SK Kirchbach
END:VEVENT
BEGIN:VEVENT
UID:20260424T072951UTC-2371WdFI3v@85.215.121.98
DTSTAMP:20260424T072951Z
DTSTART;TZID=Europe/Berlin:20200524T160000
DTEND;TZID=Europe/Berlin:20200524T174500
SUMMARY:K - 1. Klasse A 2019/20: Mölltal - Egg
END:VEVENT
BEGIN:VEVENT
UID:20260424T072951UTC-2377P8zsLe@85.215.121.98
DTSTAMP:20260424T072951Z
DTSTART;TZID=Europe/Berlin:20200607T230000
DTEND;TZID=Europe/Berlin:20200608T004500
SUMMARY:K - 1. Klasse A 2019/20: Egg - Irschen
END:VEVENT
END:VCALENDAR
