BEGIN:VCALENDAR
VERSION:2.0
PRODID:-////NONSGML kigkonsult.se iCalcreator 2.18//
X-WR-TIMEZONE:Europe/Amsterdam
BEGIN:VTIMEZONE
TZID:Europe/Amsterdam
X-LIC-LOCATION:Europe/Amsterdam
BEGIN:STANDARD
DTSTART:20181028T030000
TZOFFSETFROM:+0200
TZOFFSETTO:+0100
RDATE:20191027T030000
TZNAME:CET
END:STANDARD
BEGIN:DAYLIGHT
DTSTART:20190331T020000
TZOFFSETFROM:+0100
TZOFFSETTO:+0200
RDATE:20200329T020000
TZNAME:CEST
END:DAYLIGHT
END:VTIMEZONE
BEGIN:VEVENT
UID:20260422T053803UTC-4878EEzZjA@85.215.121.98
DTSTAMP:20260422T053803Z
DTSTART;TZID=Europe/Amsterdam:20180728T170000
DTEND;TZID=Europe/Amsterdam:20180728T184500
SUMMARY:K - 2. Klasse C 2018/19: Wietersdorf - Sörg
END:VEVENT
BEGIN:VEVENT
UID:20260422T053803UTC-48857OZhls@85.215.121.98
DTSTAMP:20260422T053803Z
DTSTART;TZID=Europe/Amsterdam:20180804T170000
DTEND;TZID=Europe/Amsterdam:20180804T184500
SUMMARY:K - 2. Klasse C 2018/19: Sörg - St. Veit SC
END:VEVENT
BEGIN:VEVENT
UID:20260422T053803UTC-4902uAVZva@85.215.121.98
DTSTAMP:20260422T053803Z
DTSTART;TZID=Europe/Amsterdam:20180811T170000
DTEND;TZID=Europe/Amsterdam:20180811T184500
SUMMARY:K - 2. Klasse C 2018/19: Gurk - Sörg
END:VEVENT
BEGIN:VEVENT
UID:20260422T053803UTC-4908ulvsJM@85.215.121.98
DTSTAMP:20260422T053803Z
DTSTART;TZID=Europe/Amsterdam:20180818T170000
DTEND;TZID=Europe/Amsterdam:20180818T184500
SUMMARY:K - 2. Klasse C 2018/19: Sörg - Straßburg
END:VEVENT
BEGIN:VEVENT
UID:20260422T053803UTC-491496LD18@85.215.121.98
DTSTAMP:20260422T053803Z
DTSTART;TZID=Europe/Amsterdam:20180825T180000
DTEND;TZID=Europe/Amsterdam:20180825T194500
SUMMARY:K - 2. Klasse C 2018/19: SG SV Magdalensberg/WSG Brückl - Sörg
END:VEVENT
BEGIN:VEVENT
UID:20260422T053803UTC-4920MMkWjb@85.215.121.98
DTSTAMP:20260422T053803Z
DTSTART;TZID=Europe/Amsterdam:20180901T170000
DTEND;TZID=Europe/Amsterdam:20180901T184500
SUMMARY:K - 2. Klasse C 2018/19: Sörg - Weitensfeld
END:VEVENT
BEGIN:VEVENT
UID:20260422T053803UTC-4927x7FPeR@85.215.121.98
DTSTAMP:20260422T053803Z
DTSTART;TZID=Europe/Amsterdam:20180908T170000
DTEND;TZID=Europe/Amsterdam:20180908T184500
SUMMARY:K - 2. Klasse C 2018/19: Kraig 1b - Sörg
END:VEVENT
BEGIN:VEVENT
UID:20260422T053803UTC-4932ZuO1Vz@85.215.121.98
DTSTAMP:20260422T053803Z
DTSTART;TZID=Europe/Amsterdam:20180915T163000
DTEND;TZID=Europe/Amsterdam:20180915T181500
SUMMARY:K - 2. Klasse C 2018/19: Sörg - Moosburg
END:VEVENT
BEGIN:VEVENT
UID:20260422T053803UTC-4937Dh5xw9@85.215.121.98
DTSTAMP:20260422T053803Z
DTSTART;TZID=Europe/Amsterdam:20180922T170000
DTEND;TZID=Europe/Amsterdam:20180922T184500
SUMMARY:K - 2. Klasse C 2018/19: Himmelberg - Sörg
END:VEVENT
BEGIN:VEVENT
UID:20260422T053803UTC-49426tu8GJ@85.215.121.98
DTSTAMP:20260422T053803Z
DTSTART;TZID=Europe/Amsterdam:20181007T160000
DTEND;TZID=Europe/Amsterdam:20181007T174500
SUMMARY:K - 2. Klasse C 2018/19: St. Jakob/Ros. 1b - Sörg
END:VEVENT
BEGIN:VEVENT
UID:20260422T053803UTC-4947RrfVGR@85.215.121.98
DTSTAMP:20260422T053803Z
DTSTART;TZID=Europe/Amsterdam:20181013T153000
DTEND;TZID=Europe/Amsterdam:20181013T171500
SUMMARY:K - 2. Klasse C 2018/19: Sörg - KAC 1909 Juniors
END:VEVENT
BEGIN:VEVENT
UID:20260422T053803UTC-4953TS90KX@85.215.121.98
DTSTAMP:20260422T053803Z
DTSTART;TZID=Europe/Amsterdam:20181021T160000
DTEND;TZID=Europe/Amsterdam:20181021T174500
SUMMARY:K - 2. Klasse C 2018/19: SG ASKÖ Techelsberg/Union Köstenberg - Sör
 g
END:VEVENT
BEGIN:VEVENT
UID:20260422T053803UTC-4961Wv7hLu@85.215.121.98
DTSTAMP:20260422T053803Z
DTSTART;TZID=Europe/Amsterdam:20181028T140000
DTEND;TZID=Europe/Amsterdam:20181028T154500
SUMMARY:K - 2. Klasse C 2018/19: Sörg - Wietersdorf
END:VEVENT
BEGIN:VEVENT
UID:20260422T053803UTC-4966hAnX2S@85.215.121.98
DTSTAMP:20260422T053803Z
DTSTART;TZID=Europe/Amsterdam:20190330T183000
DTEND;TZID=Europe/Amsterdam:20190330T201500
SUMMARY:K - 2. Klasse C 2018/19: St. Veit SC - Sörg
END:VEVENT
BEGIN:VEVENT
UID:20260422T053803UTC-4973GlRlUn@85.215.121.98
DTSTAMP:20260422T053803Z
DTSTART;TZID=Europe/Amsterdam:20190406T153000
DTEND;TZID=Europe/Amsterdam:20190406T171500
SUMMARY:K - 2. Klasse C 2018/19: Sörg - Gurk
END:VEVENT
BEGIN:VEVENT
UID:20260422T053803UTC-4979OzJfVp@85.215.121.98
DTSTAMP:20260422T053803Z
DTSTART;TZID=Europe/Amsterdam:20190413T150000
DTEND;TZID=Europe/Amsterdam:20190413T164500
SUMMARY:K - 2. Klasse C 2018/19: Straßburg - Sörg
END:VEVENT
BEGIN:VEVENT
UID:20260422T053803UTC-4984OaD2Ur@85.215.121.98
DTSTAMP:20260422T053803Z
DTSTART;TZID=Europe/Amsterdam:20190420T160000
DTEND;TZID=Europe/Amsterdam:20190420T174500
SUMMARY:K - 2. Klasse C 2018/19: Sörg - SG SV Magdalensberg/WSG Brückl
END:VEVENT
BEGIN:VEVENT
UID:20260422T053803UTC-49892kpJRR@85.215.121.98
DTSTAMP:20260422T053803Z
DTSTART;TZID=Europe/Amsterdam:20190427T140000
DTEND;TZID=Europe/Amsterdam:20190427T154500
SUMMARY:K - 2. Klasse C 2018/19: Weitensfeld - Sörg
END:VEVENT
BEGIN:VEVENT
UID:20260422T053803UTC-4994oiom86@85.215.121.98
DTSTAMP:20260422T053803Z
DTSTART;TZID=Europe/Amsterdam:20190501T110000
DTEND;TZID=Europe/Amsterdam:20190501T124500
SUMMARY:K - 2. Klasse C 2018/19: Sörg - Kraig 1b
END:VEVENT
BEGIN:VEVENT
UID:20260422T053803UTC-50002VAJoA@85.215.121.98
DTSTAMP:20260422T053803Z
DTSTART;TZID=Europe/Amsterdam:20190511T150000
DTEND;TZID=Europe/Amsterdam:20190511T164500
SUMMARY:K - 2. Klasse C 2018/19: Moosburg - Sörg
END:VEVENT
BEGIN:VEVENT
UID:20260422T053803UTC-500532wKfw@85.215.121.98
DTSTAMP:20260422T053803Z
DTSTART;TZID=Europe/Amsterdam:20190519T160000
DTEND;TZID=Europe/Amsterdam:20190519T174500
SUMMARY:K - 2. Klasse C 2018/19: Sörg - Himmelberg
END:VEVENT
BEGIN:VEVENT
UID:20260422T053803UTC-5010gVv9oU@85.215.121.98
DTSTAMP:20260422T053803Z
DTSTART;TZID=Europe/Amsterdam:20190601T163000
DTEND;TZID=Europe/Amsterdam:20190601T181500
SUMMARY:K - 2. Klasse C 2018/19: Sörg - St. Jakob/Ros. 1b
END:VEVENT
BEGIN:VEVENT
UID:20260422T053803UTC-50167kE2vJ@85.215.121.98
DTSTAMP:20260422T053803Z
DTSTART;TZID=Europe/Amsterdam:20190608T173000
DTEND;TZID=Europe/Amsterdam:20190608T191500
SUMMARY:K - 2. Klasse C 2018/19: KAC 1909 Juniors - Sörg
END:VEVENT
BEGIN:VEVENT
UID:20260422T053803UTC-502168MVNa@85.215.121.98
DTSTAMP:20260422T053803Z
DTSTART;TZID=Europe/Amsterdam:20190615T170000
DTEND;TZID=Europe/Amsterdam:20190615T184500
SUMMARY:K - 2. Klasse C 2018/19: Sörg - SG ASKÖ Techelsberg/Union Köstenber
 g
END:VEVENT
END:VCALENDAR
