BEGIN:VCALENDAR
VERSION:2.0
PRODID:-////NONSGML kigkonsult.se iCalcreator 2.18//
X-WR-TIMEZONE:Europe/Amsterdam
BEGIN:VTIMEZONE
TZID:Europe/Amsterdam
X-LIC-LOCATION:Europe/Amsterdam
BEGIN:STANDARD
DTSTART:20181028T030000
TZOFFSETFROM:+0200
TZOFFSETTO:+0100
RDATE:20191027T030000
TZNAME:CET
END:STANDARD
BEGIN:DAYLIGHT
DTSTART:20190331T020000
TZOFFSETFROM:+0100
TZOFFSETTO:+0200
RDATE:20200329T020000
TZNAME:CEST
END:DAYLIGHT
END:VTIMEZONE
BEGIN:VEVENT
UID:20260420T120433UTC-9858Iksiwh@85.215.121.98
DTSTAMP:20260420T120433Z
DTSTART;TZID=Europe/Amsterdam:20180728T180000
DTEND;TZID=Europe/Amsterdam:20180728T194500
SUMMARY:K - 2. Klasse C 2018/19: Himmelberg - Weitensfeld
END:VEVENT
BEGIN:VEVENT
UID:20260420T120433UTC-9945M7zGsm@85.215.121.98
DTSTAMP:20260420T120433Z
DTSTART;TZID=Europe/Amsterdam:20180804T170000
DTEND;TZID=Europe/Amsterdam:20180804T184500
SUMMARY:K - 2. Klasse C 2018/19: Weitensfeld - St. Jakob/Ros. 1b
END:VEVENT
BEGIN:VEVENT
UID:20260420T120433UTC-9984SlrWmS@85.215.121.98
DTSTAMP:20260420T120433Z
DTSTART;TZID=Europe/Amsterdam:20180812T180000
DTEND;TZID=Europe/Amsterdam:20180812T194500
SUMMARY:K - 2. Klasse C 2018/19: SG ASKÖ Techelsberg/Union Köstenberg - Wei
 tensfeld
END:VEVENT
BEGIN:VEVENT
UID:20260420T120433UTC-9991NvmCK5@85.215.121.98
DTSTAMP:20260420T120433Z
DTSTART;TZID=Europe/Amsterdam:20180815T103000
DTEND;TZID=Europe/Amsterdam:20180815T121500
SUMMARY:K - 2. Klasse C 2018/19: Weitensfeld - St. Veit SC
END:VEVENT
BEGIN:VEVENT
UID:20260420T120434UTC-0024VZzx21@85.215.121.98
DTSTAMP:20260420T120434Z
DTSTART;TZID=Europe/Amsterdam:20180825T170000
DTEND;TZID=Europe/Amsterdam:20180825T184500
SUMMARY:K - 2. Klasse C 2018/19: Straßburg - Weitensfeld
END:VEVENT
BEGIN:VEVENT
UID:20260420T120434UTC-0064V4wGcz@85.215.121.98
DTSTAMP:20260420T120434Z
DTSTART;TZID=Europe/Amsterdam:20180901T170000
DTEND;TZID=Europe/Amsterdam:20180901T184500
SUMMARY:K - 2. Klasse C 2018/19: Sörg - Weitensfeld
END:VEVENT
BEGIN:VEVENT
UID:20260420T120434UTC-0071ZarwZJ@85.215.121.98
DTSTAMP:20260420T120434Z
DTSTART;TZID=Europe/Amsterdam:20180908T170000
DTEND;TZID=Europe/Amsterdam:20180908T184500
SUMMARY:K - 2. Klasse C 2018/19: Weitensfeld - Moosburg
END:VEVENT
BEGIN:VEVENT
UID:20260420T120434UTC-0077Rs2kWh@85.215.121.98
DTSTAMP:20260420T120434Z
DTSTART;TZID=Europe/Amsterdam:20180922T160000
DTEND;TZID=Europe/Amsterdam:20180922T174500
SUMMARY:K - 2. Klasse C 2018/19: Weitensfeld - KAC 1909 Juniors
END:VEVENT
BEGIN:VEVENT
UID:20260420T120434UTC-010401IcVm@85.215.121.98
DTSTAMP:20260420T120434Z
DTSTART;TZID=Europe/Amsterdam:20180929T160000
DTEND;TZID=Europe/Amsterdam:20180929T174500
SUMMARY:K - 2. Klasse C 2018/19: Wietersdorf - Weitensfeld
END:VEVENT
BEGIN:VEVENT
UID:20260420T120434UTC-0111VsXAKe@85.215.121.98
DTSTAMP:20260420T120434Z
DTSTART;TZID=Europe/Amsterdam:20181006T140000
DTEND;TZID=Europe/Amsterdam:20181006T154500
SUMMARY:K - 2. Klasse C 2018/19: Weitensfeld - Gurk
END:VEVENT
BEGIN:VEVENT
UID:20260420T120434UTC-0144FdoIbl@85.215.121.98
DTSTAMP:20260420T120434Z
DTSTART;TZID=Europe/Amsterdam:20181013T160000
DTEND;TZID=Europe/Amsterdam:20181013T174500
SUMMARY:K - 2. Klasse C 2018/19: SG SV Magdalensberg/WSG Brückl - Weitensfe
 ld
END:VEVENT
BEGIN:VEVENT
UID:20260420T120434UTC-0185dSVSAc@85.215.121.98
DTSTAMP:20260420T120434Z
DTSTART;TZID=Europe/Amsterdam:20181020T160000
DTEND;TZID=Europe/Amsterdam:20181020T174500
SUMMARY:K - 2. Klasse C 2018/19: Weitensfeld - Kraig 1b
END:VEVENT
BEGIN:VEVENT
UID:20260420T120434UTC-0224sn29gg@85.215.121.98
DTSTAMP:20260420T120434Z
DTSTART;TZID=Europe/Amsterdam:20181027T160000
DTEND;TZID=Europe/Amsterdam:20181027T174500
SUMMARY:K - 2. Klasse C 2018/19: Weitensfeld - Himmelberg
END:VEVENT
BEGIN:VEVENT
UID:20260420T120434UTC-0294m8ulTL@85.215.121.98
DTSTAMP:20260420T120434Z
DTSTART;TZID=Europe/Amsterdam:20190331T230000
DTEND;TZID=Europe/Amsterdam:20190401T004500
SUMMARY:K - 2. Klasse C 2018/19: St. Jakob/Ros. 1b - Weitensfeld
END:VEVENT
BEGIN:VEVENT
UID:20260420T120434UTC-0346LLOKTu@85.215.121.98
DTSTAMP:20260420T120434Z
DTSTART;TZID=Europe/Amsterdam:20190406T140000
DTEND;TZID=Europe/Amsterdam:20190406T154500
SUMMARY:K - 2. Klasse C 2018/19: Weitensfeld - SG ASKÖ Techelsberg/Union Kö
 stenberg
END:VEVENT
BEGIN:VEVENT
UID:20260420T120434UTC-03844uRZtP@85.215.121.98
DTSTAMP:20260420T120434Z
DTSTART;TZID=Europe/Amsterdam:20190412T190000
DTEND;TZID=Europe/Amsterdam:20190412T204500
SUMMARY:K - 2. Klasse C 2018/19: St. Veit SC - Weitensfeld
END:VEVENT
BEGIN:VEVENT
UID:20260420T120434UTC-04241OPUO8@85.215.121.98
DTSTAMP:20260420T120434Z
DTSTART;TZID=Europe/Amsterdam:20190420T140000
DTEND;TZID=Europe/Amsterdam:20190420T154500
SUMMARY:K - 2. Klasse C 2018/19: Weitensfeld - Straßburg
END:VEVENT
BEGIN:VEVENT
UID:20260420T120434UTC-0494nH1fsB@85.215.121.98
DTSTAMP:20260420T120434Z
DTSTART;TZID=Europe/Amsterdam:20190427T140000
DTEND;TZID=Europe/Amsterdam:20190427T154500
SUMMARY:K - 2. Klasse C 2018/19: Weitensfeld - Sörg
END:VEVENT
BEGIN:VEVENT
UID:20260420T120434UTC-0534ssL6St@85.215.121.98
DTSTAMP:20260420T120434Z
DTSTART;TZID=Europe/Amsterdam:20190505T150000
DTEND;TZID=Europe/Amsterdam:20190505T164500
SUMMARY:K - 2. Klasse C 2018/19: Moosburg - Weitensfeld
END:VEVENT
BEGIN:VEVENT
UID:20260420T120434UTC-0574pKKZd0@85.215.121.98
DTSTAMP:20260420T120434Z
DTSTART;TZID=Europe/Amsterdam:20190519T160000
DTEND;TZID=Europe/Amsterdam:20190519T174500
SUMMARY:K - 2. Klasse C 2018/19: KAC 1909 Juniors - Weitensfeld
END:VEVENT
BEGIN:VEVENT
UID:20260420T120434UTC-0593IvSiOU@85.215.121.98
DTSTAMP:20260420T120434Z
DTSTART;TZID=Europe/Amsterdam:20190525T140000
DTEND;TZID=Europe/Amsterdam:20190525T154500
SUMMARY:K - 2. Klasse C 2018/19: Weitensfeld - Wietersdorf
END:VEVENT
BEGIN:VEVENT
UID:20260420T120434UTC-0624tVWlTu@85.215.121.98
DTSTAMP:20260420T120434Z
DTSTART;TZID=Europe/Amsterdam:20190601T173000
DTEND;TZID=Europe/Amsterdam:20190601T191500
SUMMARY:K - 2. Klasse C 2018/19: Gurk - Weitensfeld
END:VEVENT
BEGIN:VEVENT
UID:20260420T120434UTC-0632x1hoF1@85.215.121.98
DTSTAMP:20260420T120434Z
DTSTART;TZID=Europe/Amsterdam:20190608T120000
DTEND;TZID=Europe/Amsterdam:20190608T134500
SUMMARY:K - 2. Klasse C 2018/19: Weitensfeld - SG SV Magdalensberg/WSG Brüc
 kl
END:VEVENT
BEGIN:VEVENT
UID:20260420T120434UTC-0640xnf8FW@85.215.121.98
DTSTAMP:20260420T120434Z
DTSTART;TZID=Europe/Amsterdam:20190616T110000
DTEND;TZID=Europe/Amsterdam:20190616T124500
SUMMARY:K - 2. Klasse C 2018/19: Kraig 1b - Weitensfeld
END:VEVENT
END:VCALENDAR
