BEGIN:VCALENDAR
VERSION:2.0
PRODID:-////NONSGML kigkonsult.se iCalcreator 2.18//
X-WR-TIMEZONE:Europe/Amsterdam
BEGIN:VTIMEZONE
TZID:Europe/Amsterdam
X-LIC-LOCATION:Europe/Amsterdam
BEGIN:STANDARD
DTSTART:20181028T030000
TZOFFSETFROM:+0200
TZOFFSETTO:+0100
RDATE:20191027T030000
TZNAME:CET
END:STANDARD
BEGIN:DAYLIGHT
DTSTART:20190331T020000
TZOFFSETFROM:+0100
TZOFFSETTO:+0200
RDATE:20200329T020000
TZNAME:CEST
END:DAYLIGHT
END:VTIMEZONE
BEGIN:VEVENT
UID:20260422T074745UTC-4611i7COBD@85.215.121.98
DTSTAMP:20260422T074745Z
DTSTART;TZID=Europe/Amsterdam:20180729T180000
DTEND;TZID=Europe/Amsterdam:20180729T194500
SUMMARY:K - 1. Klasse D 2018/19: Eitweg - Mittlern
END:VEVENT
BEGIN:VEVENT
UID:20260422T074745UTC-4618D9Xjnp@85.215.121.98
DTSTAMP:20260422T074745Z
DTSTART;TZID=Europe/Amsterdam:20180803T200000
DTEND;TZID=Europe/Amsterdam:20180803T214500
SUMMARY:K - 1. Klasse D 2018/19: Mittlern - Klopeiner See
END:VEVENT
BEGIN:VEVENT
UID:20260422T074745UTC-4624oWvlN0@85.215.121.98
DTSTAMP:20260422T074745Z
DTSTART;TZID=Europe/Amsterdam:20180811T183000
DTEND;TZID=Europe/Amsterdam:20180811T201500
SUMMARY:K - 1. Klasse D 2018/19: Kühnsdorf - Mittlern
END:VEVENT
BEGIN:VEVENT
UID:20260422T074745UTC-4631J5svmD@85.215.121.98
DTSTAMP:20260422T074745Z
DTSTART;TZID=Europe/Amsterdam:20180818T190000
DTEND;TZID=Europe/Amsterdam:20180818T204500
SUMMARY:K - 1. Klasse D 2018/19: Mittlern - Lavamünd
END:VEVENT
BEGIN:VEVENT
UID:20260422T074745UTC-4637Vjn6j3@85.215.121.98
DTSTAMP:20260422T074745Z
DTSTART;TZID=Europe/Amsterdam:20180901T180000
DTEND;TZID=Europe/Amsterdam:20180901T194500
SUMMARY:K - 1. Klasse D 2018/19: Mittlern - SC Ebental
END:VEVENT
BEGIN:VEVENT
UID:20260422T074745UTC-4644ZEIBuP@85.215.121.98
DTSTAMP:20260422T074745Z
DTSTART;TZID=Europe/Amsterdam:20180905T173000
DTEND;TZID=Europe/Amsterdam:20180905T191500
SUMMARY:K - 1. Klasse D 2018/19: Ferlach DSG - Mittlern
END:VEVENT
BEGIN:VEVENT
UID:20260422T074745UTC-46502IKTig@85.215.121.98
DTSTAMP:20260422T074745Z
DTSTART;TZID=Europe/Amsterdam:20180909T163000
DTEND;TZID=Europe/Amsterdam:20180909T181500
SUMMARY:K - 1. Klasse D 2018/19: Tainach - Mittlern
END:VEVENT
BEGIN:VEVENT
UID:20260422T074745UTC-4656eRvjL2@85.215.121.98
DTSTAMP:20260422T074745Z
DTSTART;TZID=Europe/Amsterdam:20180916T160000
DTEND;TZID=Europe/Amsterdam:20180916T174500
SUMMARY:K - 1. Klasse D 2018/19: SAK 1b - Mittlern
END:VEVENT
BEGIN:VEVENT
UID:20260422T074745UTC-4662jnLJ6o@85.215.121.98
DTSTAMP:20260422T074745Z
DTSTART;TZID=Europe/Amsterdam:20180922T183000
DTEND;TZID=Europe/Amsterdam:20180922T201500
SUMMARY:K - 1. Klasse D 2018/19: Mittlern - St. Stefan/Lav.
END:VEVENT
BEGIN:VEVENT
UID:20260422T074745UTC-4669nBmMeI@85.215.121.98
DTSTAMP:20260422T074745Z
DTSTART;TZID=Europe/Amsterdam:20181005T190000
DTEND;TZID=Europe/Amsterdam:20181005T204500
SUMMARY:K - 1. Klasse D 2018/19: Mittlern - Eberndorf
END:VEVENT
BEGIN:VEVENT
UID:20260422T074745UTC-4676MHbb0U@85.215.121.98
DTSTAMP:20260422T074745Z
DTSTART;TZID=Europe/Amsterdam:20181013T150000
DTEND;TZID=Europe/Amsterdam:20181013T164500
SUMMARY:K - 1. Klasse D 2018/19: Bad St. Leonhard - Mittlern
END:VEVENT
BEGIN:VEVENT
UID:20260422T074745UTC-4682I1MIK8@85.215.121.98
DTSTAMP:20260422T074745Z
DTSTART;TZID=Europe/Amsterdam:20181021T150000
DTEND;TZID=Europe/Amsterdam:20181021T164500
SUMMARY:K - 1. Klasse D 2018/19: Mittlern - St. Margareten/Ros.
END:VEVENT
BEGIN:VEVENT
UID:20260422T074745UTC-46890vSU5X@85.215.121.98
DTSTAMP:20260422T074745Z
DTSTART;TZID=Europe/Amsterdam:20181027T150000
DTEND;TZID=Europe/Amsterdam:20181027T164500
SUMMARY:K - 1. Klasse D 2018/19: Griffen - Mittlern
END:VEVENT
BEGIN:VEVENT
UID:20260422T074745UTC-4696WVGJX9@85.215.121.98
DTSTAMP:20260422T074745Z
DTSTART;TZID=Europe/Amsterdam:20181103T150000
DTEND;TZID=Europe/Amsterdam:20181103T164500
SUMMARY:K - 1. Klasse D 2018/19: Mittlern - Haimburg
END:VEVENT
BEGIN:VEVENT
UID:20260422T074745UTC-4702KGKWLG@85.215.121.98
DTSTAMP:20260422T074745Z
DTSTART;TZID=Europe/Amsterdam:20181111T140000
DTEND;TZID=Europe/Amsterdam:20181111T154500
SUMMARY:K - 1. Klasse D 2018/19: Mittlern - Eitweg
END:VEVENT
BEGIN:VEVENT
UID:20260422T074745UTC-4708b3R45U@85.215.121.98
DTSTAMP:20260422T074745Z
DTSTART;TZID=Europe/Amsterdam:20190323T140000
DTEND;TZID=Europe/Amsterdam:20190323T154500
SUMMARY:K - 1. Klasse D 2018/19: Klopeiner See - Mittlern
END:VEVENT
BEGIN:VEVENT
UID:20260422T074745UTC-4714GERl7x@85.215.121.98
DTSTAMP:20260422T074745Z
DTSTART;TZID=Europe/Amsterdam:20190330T153000
DTEND;TZID=Europe/Amsterdam:20190330T171500
SUMMARY:K - 1. Klasse D 2018/19: Mittlern - Kühnsdorf
END:VEVENT
BEGIN:VEVENT
UID:20260422T074745UTC-4722Vv6ufj@85.215.121.98
DTSTAMP:20260422T074745Z
DTSTART;TZID=Europe/Amsterdam:20190406T150000
DTEND;TZID=Europe/Amsterdam:20190406T164500
SUMMARY:K - 1. Klasse D 2018/19: Lavamünd - Mittlern
END:VEVENT
BEGIN:VEVENT
UID:20260422T074745UTC-47301wBIL1@85.215.121.98
DTSTAMP:20260422T074745Z
DTSTART;TZID=Europe/Amsterdam:20190414T160000
DTEND;TZID=Europe/Amsterdam:20190414T174500
SUMMARY:K - 1. Klasse D 2018/19: Mittlern - Ferlach DSG
END:VEVENT
BEGIN:VEVENT
UID:20260422T074745UTC-473667b11C@85.215.121.98
DTSTAMP:20260422T074745Z
DTSTART;TZID=Europe/Amsterdam:20190421T160000
DTEND;TZID=Europe/Amsterdam:20190421T174500
SUMMARY:K - 1. Klasse D 2018/19: SC Ebental - Mittlern
END:VEVENT
BEGIN:VEVENT
UID:20260422T074745UTC-4742eV0uIU@85.215.121.98
DTSTAMP:20260422T074745Z
DTSTART;TZID=Europe/Amsterdam:20190427T170000
DTEND;TZID=Europe/Amsterdam:20190427T184500
SUMMARY:K - 1. Klasse D 2018/19: Mittlern - Tainach
END:VEVENT
BEGIN:VEVENT
UID:20260422T074745UTC-4748LVNsAJ@85.215.121.98
DTSTAMP:20260422T074745Z
DTSTART;TZID=Europe/Amsterdam:20190501T183000
DTEND;TZID=Europe/Amsterdam:20190501T201500
SUMMARY:K - 1. Klasse D 2018/19: Mittlern - SAK 1b
END:VEVENT
BEGIN:VEVENT
UID:20260422T074745UTC-4757vJb8tv@85.215.121.98
DTSTAMP:20260422T074745Z
DTSTART;TZID=Europe/Amsterdam:20190504T170000
DTEND;TZID=Europe/Amsterdam:20190504T184500
SUMMARY:K - 1. Klasse D 2018/19: St. Stefan/Lav. - Mittlern
END:VEVENT
BEGIN:VEVENT
UID:20260422T074745UTC-47637Fxu9o@85.215.121.98
DTSTAMP:20260422T074745Z
DTSTART;TZID=Europe/Amsterdam:20190519T153000
DTEND;TZID=Europe/Amsterdam:20190519T171500
SUMMARY:K - 1. Klasse D 2018/19: Eberndorf - Mittlern
END:VEVENT
BEGIN:VEVENT
UID:20260422T074745UTC-4769TV8BFB@85.215.121.98
DTSTAMP:20260422T074745Z
DTSTART;TZID=Europe/Amsterdam:20190526T170000
DTEND;TZID=Europe/Amsterdam:20190526T184500
SUMMARY:K - 1. Klasse D 2018/19: Mittlern - Bad St. Leonhard
END:VEVENT
BEGIN:VEVENT
UID:20260422T074745UTC-4775uz23eG@85.215.121.98
DTSTAMP:20260422T074745Z
DTSTART;TZID=Europe/Amsterdam:20190530T153000
DTEND;TZID=Europe/Amsterdam:20190530T171500
SUMMARY:K - 1. Klasse D 2018/19: St. Margareten/Ros. - Mittlern
END:VEVENT
BEGIN:VEVENT
UID:20260422T074745UTC-4780419hHz@85.215.121.98
DTSTAMP:20260422T074745Z
DTSTART;TZID=Europe/Amsterdam:20190601T163000
DTEND;TZID=Europe/Amsterdam:20190601T181500
SUMMARY:K - 1. Klasse D 2018/19: Mittlern - Griffen
END:VEVENT
BEGIN:VEVENT
UID:20260422T074745UTC-4787T7lVlb@85.215.121.98
DTSTAMP:20260422T074745Z
DTSTART;TZID=Europe/Amsterdam:20190608T170000
DTEND;TZID=Europe/Amsterdam:20190608T184500
SUMMARY:K - 1. Klasse D 2018/19: Haimburg - Mittlern
END:VEVENT
END:VCALENDAR
