BEGIN:VCALENDAR
VERSION:2.0
PRODID:-////NONSGML kigkonsult.se iCalcreator 2.18//
X-WR-TIMEZONE:Europe/Amsterdam
BEGIN:VTIMEZONE
TZID:Europe/Amsterdam
X-LIC-LOCATION:Europe/Amsterdam
BEGIN:STANDARD
DTSTART:20181028T030000
TZOFFSETFROM:+0200
TZOFFSETTO:+0100
RDATE:20191027T030000
TZNAME:CET
END:STANDARD
BEGIN:DAYLIGHT
DTSTART:20190331T020000
TZOFFSETFROM:+0100
TZOFFSETTO:+0200
RDATE:20200329T020000
TZNAME:CEST
END:DAYLIGHT
END:VTIMEZONE
BEGIN:VEVENT
UID:20260424T072927UTC-5471VawUvn@85.215.121.98
DTSTAMP:20260424T072927Z
DTSTART;TZID=Europe/Amsterdam:20180728T180000
DTEND;TZID=Europe/Amsterdam:20180728T194500
SUMMARY:K - 1. Klasse C 2018/19: Friesach - SV Oberes Metnitztal
END:VEVENT
BEGIN:VEVENT
UID:20260424T072927UTC-5478m7cLhD@85.215.121.98
DTSTAMP:20260424T072927Z
DTSTART;TZID=Europe/Amsterdam:20180804T170000
DTEND;TZID=Europe/Amsterdam:20180804T184500
SUMMARY:K - 1. Klasse C 2018/19: SG KSK-Wörthersee/ATUS Pörtschach - Friesa
 ch
END:VEVENT
BEGIN:VEVENT
UID:20260424T072927UTC-5483beHknl@85.215.121.98
DTSTAMP:20260424T072927Z
DTSTART;TZID=Europe/Amsterdam:20180811T180000
DTEND;TZID=Europe/Amsterdam:20180811T194500
SUMMARY:K - 1. Klasse C 2018/19: Friesach - Guttaring
END:VEVENT
BEGIN:VEVENT
UID:20260424T072927UTC-5489M1F6c0@85.215.121.98
DTSTAMP:20260424T072927Z
DTSTART;TZID=Europe/Amsterdam:20180818T180000
DTEND;TZID=Europe/Amsterdam:20180818T194500
SUMMARY:K - 1. Klasse C 2018/19: Treibach Juniors - Friesach
END:VEVENT
BEGIN:VEVENT
UID:20260424T072927UTC-5495KvlWT2@85.215.121.98
DTSTAMP:20260424T072927Z
DTSTART;TZID=Europe/Amsterdam:20180825T173000
DTEND;TZID=Europe/Amsterdam:20180825T191500
SUMMARY:K - 1. Klasse C 2018/19: Friesach - Oberglan
END:VEVENT
BEGIN:VEVENT
UID:20260424T072927UTC-5500TbDHnn@85.215.121.98
DTSTAMP:20260424T072927Z
DTSTART;TZID=Europe/Amsterdam:20180902T110000
DTEND;TZID=Europe/Amsterdam:20180902T124500
SUMMARY:K - 1. Klasse C 2018/19: Steuerberg - Friesach
END:VEVENT
BEGIN:VEVENT
UID:20260424T072927UTC-55075JvUjI@85.215.121.98
DTSTAMP:20260424T072927Z
DTSTART;TZID=Europe/Amsterdam:20180908T160000
DTEND;TZID=Europe/Amsterdam:20180908T174500
SUMMARY:K - 1. Klasse C 2018/19: Friesach - SC-Reichenau/Falkert
END:VEVENT
BEGIN:VEVENT
UID:20260424T072927UTC-5515moIXuv@85.215.121.98
DTSTAMP:20260424T072927Z
DTSTART;TZID=Europe/Amsterdam:20180915T160000
DTEND;TZID=Europe/Amsterdam:20180915T174500
SUMMARY:K - 1. Klasse C 2018/19: Friesach - Austria Klagenfurt Amat.
END:VEVENT
BEGIN:VEVENT
UID:20260424T072927UTC-5520RJBwtd@85.215.121.98
DTSTAMP:20260424T072927Z
DTSTART;TZID=Europe/Amsterdam:20180923T160000
DTEND;TZID=Europe/Amsterdam:20180923T174500
SUMMARY:K - 1. Klasse C 2018/19: Launsdorf - Friesach
END:VEVENT
BEGIN:VEVENT
UID:20260424T072927UTC-5526vtRs3o@85.215.121.98
DTSTAMP:20260424T072927Z
DTSTART;TZID=Europe/Amsterdam:20180929T153000
DTEND;TZID=Europe/Amsterdam:20180929T171500
SUMMARY:K - 1. Klasse C 2018/19: Friesach - SV Glanegg
END:VEVENT
BEGIN:VEVENT
UID:20260424T072927UTC-5531D4z0wU@85.215.121.98
DTSTAMP:20260424T072927Z
DTSTART;TZID=Europe/Amsterdam:20181006T150000
DTEND;TZID=Europe/Amsterdam:20181006T164500
SUMMARY:K - 1. Klasse C 2018/19: Feistritz/Ros. - Friesach
END:VEVENT
BEGIN:VEVENT
UID:20260424T072927UTC-5537I95Mvf@85.215.121.98
DTSTAMP:20260424T072927Z
DTSTART;TZID=Europe/Amsterdam:20181013T150000
DTEND;TZID=Europe/Amsterdam:20181013T164500
SUMMARY:K - 1. Klasse C 2018/19: Friesach - St. Urban
END:VEVENT
BEGIN:VEVENT
UID:20260424T072927UTC-55464VknuV@85.215.121.98
DTSTAMP:20260424T072927Z
DTSTART;TZID=Europe/Amsterdam:20181020T143000
DTEND;TZID=Europe/Amsterdam:20181020T161500
SUMMARY:K - 1. Klasse C 2018/19: Kappel - Friesach
END:VEVENT
BEGIN:VEVENT
UID:20260424T072927UTC-5552VkF0Uc@85.215.121.98
DTSTAMP:20260424T072927Z
DTSTART;TZID=Europe/Amsterdam:20181027T143000
DTEND;TZID=Europe/Amsterdam:20181027T161500
SUMMARY:K - 1. Klasse C 2018/19: Friesach - HSV
END:VEVENT
BEGIN:VEVENT
UID:20260424T072927UTC-5558EVpHFr@85.215.121.98
DTSTAMP:20260424T072927Z
DTSTART;TZID=Europe/Amsterdam:20181104T143000
DTEND;TZID=Europe/Amsterdam:20181104T161500
SUMMARY:K - 1. Klasse C 2018/19: Liebenfels - Friesach
END:VEVENT
BEGIN:VEVENT
UID:20260424T072927UTC-5565vvrV9O@85.215.121.98
DTSTAMP:20260424T072927Z
DTSTART;TZID=Europe/Amsterdam:20181110T140000
DTEND;TZID=Europe/Amsterdam:20181110T154500
SUMMARY:K - 1. Klasse C 2018/19: SV Oberes Metnitztal - Friesach
END:VEVENT
BEGIN:VEVENT
UID:20260424T072927UTC-5571xejmnl@85.215.121.98
DTSTAMP:20260424T072927Z
DTSTART;TZID=Europe/Amsterdam:20190323T140000
DTEND;TZID=Europe/Amsterdam:20190323T154500
SUMMARY:K - 1. Klasse C 2018/19: Friesach - SG KSK-Wörthersee/ATUS Pörtscha
 ch
END:VEVENT
BEGIN:VEVENT
UID:20260424T072927UTC-5577DugbIw@85.215.121.98
DTSTAMP:20260424T072927Z
DTSTART;TZID=Europe/Amsterdam:20190330T160000
DTEND;TZID=Europe/Amsterdam:20190330T174500
SUMMARY:K - 1. Klasse C 2018/19: Guttaring - Friesach
END:VEVENT
BEGIN:VEVENT
UID:20260424T072927UTC-5582a1VXtN@85.215.121.98
DTSTAMP:20260424T072927Z
DTSTART;TZID=Europe/Amsterdam:20190406T143000
DTEND;TZID=Europe/Amsterdam:20190406T161500
SUMMARY:K - 1. Klasse C 2018/19: Friesach - Treibach Juniors
END:VEVENT
BEGIN:VEVENT
UID:20260424T072927UTC-5588NbVIPu@85.215.121.98
DTSTAMP:20260424T072927Z
DTSTART;TZID=Europe/Amsterdam:20190413T160000
DTEND;TZID=Europe/Amsterdam:20190413T174500
SUMMARY:K - 1. Klasse C 2018/19: Oberglan - Friesach
END:VEVENT
BEGIN:VEVENT
UID:20260424T072927UTC-55968ZULXO@85.215.121.98
DTSTAMP:20260424T072927Z
DTSTART;TZID=Europe/Amsterdam:20190421T153000
DTEND;TZID=Europe/Amsterdam:20190421T171500
SUMMARY:K - 1. Klasse C 2018/19: Friesach - Steuerberg
END:VEVENT
BEGIN:VEVENT
UID:20260424T072927UTC-5606ux0vlf@85.215.121.98
DTSTAMP:20260424T072927Z
DTSTART;TZID=Europe/Amsterdam:20190427T153000
DTEND;TZID=Europe/Amsterdam:20190427T171500
SUMMARY:K - 1. Klasse C 2018/19: SC-Reichenau/Falkert - Friesach
END:VEVENT
BEGIN:VEVENT
UID:20260424T072927UTC-5611EsdUox@85.215.121.98
DTSTAMP:20260424T072927Z
DTSTART;TZID=Europe/Amsterdam:20190504T160000
DTEND;TZID=Europe/Amsterdam:20190504T174500
SUMMARY:K - 1. Klasse C 2018/19: Friesach - Launsdorf
END:VEVENT
BEGIN:VEVENT
UID:20260424T072927UTC-5618XOHv2E@85.215.121.98
DTSTAMP:20260424T072927Z
DTSTART;TZID=Europe/Amsterdam:20190510T190000
DTEND;TZID=Europe/Amsterdam:20190510T204500
SUMMARY:K - 1. Klasse C 2018/19: Austria Klagenfurt Amat. - Friesach
END:VEVENT
BEGIN:VEVENT
UID:20260424T072927UTC-5624fUkduL@85.215.121.98
DTSTAMP:20260424T072927Z
DTSTART;TZID=Europe/Amsterdam:20190512T170000
DTEND;TZID=Europe/Amsterdam:20190512T184500
SUMMARY:K - 1. Klasse C 2018/19: SV Glanegg - Friesach
END:VEVENT
BEGIN:VEVENT
UID:20260424T072927UTC-56297VwSip@85.215.121.98
DTSTAMP:20260424T072927Z
DTSTART;TZID=Europe/Amsterdam:20190518T160000
DTEND;TZID=Europe/Amsterdam:20190518T174500
SUMMARY:K - 1. Klasse C 2018/19: Friesach - Feistritz/Ros.
END:VEVENT
BEGIN:VEVENT
UID:20260424T072927UTC-56374hviuS@85.215.121.98
DTSTAMP:20260424T072927Z
DTSTART;TZID=Europe/Amsterdam:20190526T140000
DTEND;TZID=Europe/Amsterdam:20190526T154500
SUMMARY:K - 1. Klasse C 2018/19: St. Urban - Friesach
END:VEVENT
BEGIN:VEVENT
UID:20260424T072927UTC-5644X2ZfuT@85.215.121.98
DTSTAMP:20260424T072927Z
DTSTART;TZID=Europe/Amsterdam:20190529T183000
DTEND;TZID=Europe/Amsterdam:20190529T201500
SUMMARY:K - 1. Klasse C 2018/19: Friesach - Kappel
END:VEVENT
BEGIN:VEVENT
UID:20260424T072927UTC-5650JzL4WV@85.215.121.98
DTSTAMP:20260424T072927Z
DTSTART;TZID=Europe/Amsterdam:20190601T173000
DTEND;TZID=Europe/Amsterdam:20190601T191500
SUMMARY:K - 1. Klasse C 2018/19: HSV - Friesach
END:VEVENT
BEGIN:VEVENT
UID:20260424T072927UTC-5656lGir2H@85.215.121.98
DTSTAMP:20260424T072927Z
DTSTART;TZID=Europe/Amsterdam:20190608T170000
DTEND;TZID=Europe/Amsterdam:20190608T184500
SUMMARY:K - 1. Klasse C 2018/19: Friesach - Liebenfels
END:VEVENT
END:VCALENDAR
