BEGIN:VCALENDAR
VERSION:2.0
PRODID:-////NONSGML kigkonsult.se iCalcreator 2.18//
X-WR-TIMEZONE:Europe/Amsterdam
BEGIN:VTIMEZONE
TZID:Europe/Amsterdam
X-LIC-LOCATION:Europe/Amsterdam
BEGIN:STANDARD
DTSTART:20181028T030000
TZOFFSETFROM:+0200
TZOFFSETTO:+0100
RDATE:20191027T030000
TZNAME:CET
END:STANDARD
BEGIN:DAYLIGHT
DTSTART:20190331T020000
TZOFFSETFROM:+0100
TZOFFSETTO:+0200
RDATE:20200329T020000
TZNAME:CEST
END:DAYLIGHT
END:VTIMEZONE
BEGIN:VEVENT
UID:20260424T132022UTC-7517Z2lUN9@85.215.121.98
DTSTAMP:20260424T132022Z
DTSTART;TZID=Europe/Amsterdam:20180728T183000
DTEND;TZID=Europe/Amsterdam:20180728T201500
SUMMARY:K - 1. Klasse A 2018/19: Sillian - Dellach/Dr.
END:VEVENT
BEGIN:VEVENT
UID:20260424T132022UTC-7523XUoWZG@85.215.121.98
DTSTAMP:20260424T132022Z
DTSTART;TZID=Europe/Amsterdam:20180805T173000
DTEND;TZID=Europe/Amsterdam:20180805T191500
SUMMARY:K - 1. Klasse A 2018/19: Prägraten - Sillian
END:VEVENT
BEGIN:VEVENT
UID:20260424T132022UTC-7530i6Ov76@85.215.121.98
DTSTAMP:20260424T132022Z
DTSTART;TZID=Europe/Amsterdam:20180811T180000
DTEND;TZID=Europe/Amsterdam:20180811T194500
SUMMARY:K - 1. Klasse A 2018/19: Sillian - Malta
END:VEVENT
BEGIN:VEVENT
UID:20260424T132022UTC-7536FxvbSl@85.215.121.98
DTSTAMP:20260424T132022Z
DTSTART;TZID=Europe/Amsterdam:20180817T193000
DTEND;TZID=Europe/Amsterdam:20180817T211500
SUMMARY:K - 1. Klasse A 2018/19: Sillian - Egg
END:VEVENT
BEGIN:VEVENT
UID:20260424T132022UTC-7541sXHL52@85.215.121.98
DTSTAMP:20260424T132022Z
DTSTART;TZID=Europe/Amsterdam:20180825T160000
DTEND;TZID=Europe/Amsterdam:20180825T174500
SUMMARY:K - 1. Klasse A 2018/19: SC Mühldorf - Sillian
END:VEVENT
BEGIN:VEVENT
UID:20260424T132022UTC-7547B7he9u@85.215.121.98
DTSTAMP:20260424T132022Z
DTSTART;TZID=Europe/Amsterdam:20180901T153000
DTEND;TZID=Europe/Amsterdam:20180901T171500
SUMMARY:K - 1. Klasse A 2018/19: Sillian - Lurnfeld
END:VEVENT
BEGIN:VEVENT
UID:20260424T132022UTC-7552IbfMpt@85.215.121.98
DTSTAMP:20260424T132022Z
DTSTART;TZID=Europe/Amsterdam:20180909T180000
DTEND;TZID=Europe/Amsterdam:20180909T194500
SUMMARY:K - 1. Klasse A 2018/19: Matrei i.O. 1b - Sillian
END:VEVENT
BEGIN:VEVENT
UID:20260424T132022UTC-7558Ggnavk@85.215.121.98
DTSTAMP:20260424T132022Z
DTSTART;TZID=Europe/Amsterdam:20180915T153000
DTEND;TZID=Europe/Amsterdam:20180915T171500
SUMMARY:K - 1. Klasse A 2018/19: Sillian - Irschen
END:VEVENT
BEGIN:VEVENT
UID:20260424T132022UTC-7564S3Elof@85.215.121.98
DTSTAMP:20260424T132022Z
DTSTART;TZID=Europe/Amsterdam:20180922T163000
DTEND;TZID=Europe/Amsterdam:20180922T181500
SUMMARY:K - 1. Klasse A 2018/19: Oberlienz - Sillian
END:VEVENT
BEGIN:VEVENT
UID:20260424T132022UTC-7569OvKAxI@85.215.121.98
DTSTAMP:20260424T132022Z
DTSTART;TZID=Europe/Amsterdam:20180929T150000
DTEND;TZID=Europe/Amsterdam:20180929T164500
SUMMARY:K - 1. Klasse A 2018/19: Sillian - Dölsach
END:VEVENT
BEGIN:VEVENT
UID:20260424T132022UTC-7575VvUhe8@85.215.121.98
DTSTAMP:20260424T132022Z
DTSTART;TZID=Europe/Amsterdam:20181006T130000
DTEND;TZID=Europe/Amsterdam:20181006T144500
SUMMARY:K - 1. Klasse A 2018/19: Kötschach - Sillian
END:VEVENT
BEGIN:VEVENT
UID:20260424T132022UTC-7580E2EulK@85.215.121.98
DTSTAMP:20260424T132022Z
DTSTART;TZID=Europe/Amsterdam:20181013T140000
DTEND;TZID=Europe/Amsterdam:20181013T154500
SUMMARY:K - 1. Klasse A 2018/19: Sillian - Hermagor
END:VEVENT
BEGIN:VEVENT
UID:20260424T132022UTC-7586xlh2cR@85.215.121.98
DTSTAMP:20260424T132022Z
DTSTART;TZID=Europe/Amsterdam:20181021T150000
DTEND;TZID=Europe/Amsterdam:20181021T164500
SUMMARY:K - 1. Klasse A 2018/19: TSU Virgen - Sillian
END:VEVENT
BEGIN:VEVENT
UID:20260424T132022UTC-7596Z2iJOv@85.215.121.98
DTSTAMP:20260424T132022Z
DTSTART;TZID=Europe/Amsterdam:20181026T153000
DTEND;TZID=Europe/Amsterdam:20181026T171500
SUMMARY:K - 1. Klasse A 2018/19: Sillian - Tristach
END:VEVENT
BEGIN:VEVENT
UID:20260424T132022UTC-7601Z8Ht4E@85.215.121.98
DTSTAMP:20260424T132022Z
DTSTART;TZID=Europe/Amsterdam:20181103T170000
DTEND;TZID=Europe/Amsterdam:20181103T184500
SUMMARY:K - 1. Klasse A 2018/19: Mölltal - Sillian
END:VEVENT
BEGIN:VEVENT
UID:20260424T132022UTC-76074RIjPO@85.215.121.98
DTSTAMP:20260424T132022Z
DTSTART;TZID=Europe/Amsterdam:20190323T150000
DTEND;TZID=Europe/Amsterdam:20190323T164500
SUMMARY:K - 1. Klasse A 2018/19: Sillian - Prägraten
END:VEVENT
BEGIN:VEVENT
UID:20260424T132022UTC-7612Giejuk@85.215.121.98
DTSTAMP:20260424T132022Z
DTSTART;TZID=Europe/Amsterdam:20190330T160000
DTEND;TZID=Europe/Amsterdam:20190330T174500
SUMMARY:K - 1. Klasse A 2018/19: Malta - Sillian
END:VEVENT
BEGIN:VEVENT
UID:20260424T132022UTC-7620UUWv3t@85.215.121.98
DTSTAMP:20260424T132022Z
DTSTART;TZID=Europe/Amsterdam:20190406T150000
DTEND;TZID=Europe/Amsterdam:20190406T164500
SUMMARY:K - 1. Klasse A 2018/19: Egg - Sillian
END:VEVENT
BEGIN:VEVENT
UID:20260424T132022UTC-7625A4VUpF@85.215.121.98
DTSTAMP:20260424T132022Z
DTSTART;TZID=Europe/Amsterdam:20190413T160000
DTEND;TZID=Europe/Amsterdam:20190413T174500
SUMMARY:K - 1. Klasse A 2018/19: Sillian - SC Mühldorf
END:VEVENT
BEGIN:VEVENT
UID:20260424T132022UTC-7631nuGmrm@85.215.121.98
DTSTAMP:20260424T132022Z
DTSTART;TZID=Europe/Amsterdam:20190421T160000
DTEND;TZID=Europe/Amsterdam:20190421T174500
SUMMARY:K - 1. Klasse A 2018/19: Lurnfeld - Sillian
END:VEVENT
BEGIN:VEVENT
UID:20260424T132022UTC-7637uVoxKj@85.215.121.98
DTSTAMP:20260424T132022Z
DTSTART;TZID=Europe/Amsterdam:20190426T180000
DTEND;TZID=Europe/Amsterdam:20190426T194500
SUMMARY:K - 1. Klasse A 2018/19: Dellach/Dr. - Sillian
END:VEVENT
BEGIN:VEVENT
UID:20260424T132022UTC-76448TTin6@85.215.121.98
DTSTAMP:20260424T132022Z
DTSTART;TZID=Europe/Amsterdam:20190504T160000
DTEND;TZID=Europe/Amsterdam:20190504T174500
SUMMARY:K - 1. Klasse A 2018/19: Sillian - Oberlienz
END:VEVENT
BEGIN:VEVENT
UID:20260424T132022UTC-76481UJ9Kg@85.215.121.98
DTSTAMP:20260424T132022Z
DTSTART;TZID=Europe/Amsterdam:20190510T193000
DTEND;TZID=Europe/Amsterdam:20190510T211500
SUMMARY:K - 1. Klasse A 2018/19: Sillian - Matrei i.O. 1b
END:VEVENT
BEGIN:VEVENT
UID:20260424T132022UTC-76549FUzm3@85.215.121.98
DTSTAMP:20260424T132022Z
DTSTART;TZID=Europe/Amsterdam:20190512T170000
DTEND;TZID=Europe/Amsterdam:20190512T184500
SUMMARY:K - 1. Klasse A 2018/19: Dölsach - Sillian
END:VEVENT
BEGIN:VEVENT
UID:20260424T132022UTC-7660NaVf4v@85.215.121.98
DTSTAMP:20260424T132022Z
DTSTART;TZID=Europe/Amsterdam:20190518T170000
DTEND;TZID=Europe/Amsterdam:20190518T184500
SUMMARY:K - 1. Klasse A 2018/19: Sillian - Kötschach
END:VEVENT
BEGIN:VEVENT
UID:20260424T132022UTC-7665VXWdLD@85.215.121.98
DTSTAMP:20260424T132022Z
DTSTART;TZID=Europe/Amsterdam:20190524T183000
DTEND;TZID=Europe/Amsterdam:20190524T201500
SUMMARY:K - 1. Klasse A 2018/19: Irschen - Sillian
END:VEVENT
BEGIN:VEVENT
UID:20260424T132022UTC-7671tOl4Us@85.215.121.98
DTSTAMP:20260424T132022Z
DTSTART;TZID=Europe/Amsterdam:20190526T150000
DTEND;TZID=Europe/Amsterdam:20190526T164500
SUMMARY:K - 1. Klasse A 2018/19: Hermagor - Sillian
END:VEVENT
BEGIN:VEVENT
UID:20260424T132022UTC-7677g7kLeF@85.215.121.98
DTSTAMP:20260424T132022Z
DTSTART;TZID=Europe/Amsterdam:20190530T170000
DTEND;TZID=Europe/Amsterdam:20190530T184500
SUMMARY:K - 1. Klasse A 2018/19: Sillian - TSU Virgen
END:VEVENT
BEGIN:VEVENT
UID:20260424T132022UTC-7681TJo3EN@85.215.121.98
DTSTAMP:20260424T132022Z
DTSTART;TZID=Europe/Amsterdam:20190601T173000
DTEND;TZID=Europe/Amsterdam:20190601T191500
SUMMARY:K - 1. Klasse A 2018/19: Tristach - Sillian
END:VEVENT
BEGIN:VEVENT
UID:20260424T132022UTC-76873nwBMc@85.215.121.98
DTSTAMP:20260424T132022Z
DTSTART;TZID=Europe/Amsterdam:20190608T183000
DTEND;TZID=Europe/Amsterdam:20190608T201500
SUMMARY:K - 1. Klasse A 2018/19: Sillian - Mölltal
END:VEVENT
END:VCALENDAR
