BEGIN:VCALENDAR
VERSION:2.0
PRODID:-////NONSGML kigkonsult.se iCalcreator 2.18//
X-WR-TIMEZONE:Europe/Amsterdam
BEGIN:VTIMEZONE
TZID:Europe/Amsterdam
X-LIC-LOCATION:Europe/Amsterdam
BEGIN:STANDARD
DTSTART:20171029T030000
TZOFFSETFROM:+0200
TZOFFSETTO:+0100
RDATE:20181028T030000
TZNAME:CET
END:STANDARD
BEGIN:DAYLIGHT
DTSTART:20180325T020000
TZOFFSETFROM:+0100
TZOFFSETTO:+0200
RDATE:20190331T020000
TZNAME:CEST
END:DAYLIGHT
END:VTIMEZONE
BEGIN:VEVENT
UID:20260424T050138UTC-62896OdG1W@85.215.121.98
DTSTAMP:20260424T050138Z
DTSTART;TZID=Europe/Amsterdam:20170811T193000
DTEND;TZID=Europe/Amsterdam:20170811T211000
SUMMARY:N - 2. Klasse Ost/Mitte 2017/18: SC Lanzendorf - Münchendorf
END:VEVENT
BEGIN:VEVENT
UID:20260424T050138UTC-6300BnWWUS@85.215.121.98
DTSTAMP:20260424T050138Z
DTSTART;TZID=Europe/Amsterdam:20170819T170000
DTEND;TZID=Europe/Amsterdam:20170819T184000
SUMMARY:N - 2. Klasse Ost/Mitte 2017/18: Velm - SC Lanzendorf
END:VEVENT
BEGIN:VEVENT
UID:20260424T050138UTC-6308dlCUcr@85.215.121.98
DTSTAMP:20260424T050138Z
DTSTART;TZID=Europe/Amsterdam:20170825T193000
DTEND;TZID=Europe/Amsterdam:20170825T211000
SUMMARY:N - 2. Klasse Ost/Mitte 2017/18: SC Lanzendorf - Achau
END:VEVENT
BEGIN:VEVENT
UID:20260424T050138UTC-6314aukxXc@85.215.121.98
DTSTAMP:20260424T050138Z
DTSTART;TZID=Europe/Amsterdam:20170902T163000
DTEND;TZID=Europe/Amsterdam:20170902T181000
SUMMARY:N - 2. Klasse Ost/Mitte 2017/18: ASK Erlaa Torpedo 03 - SC Lanzendo
 rf
END:VEVENT
BEGIN:VEVENT
UID:20260424T050138UTC-63205j2pU9@85.215.121.98
DTSTAMP:20260424T050138Z
DTSTART;TZID=Europe/Amsterdam:20170908T193000
DTEND;TZID=Europe/Amsterdam:20170908T211000
SUMMARY:N - 2. Klasse Ost/Mitte 2017/18: SC Lanzendorf - Ebergassing
END:VEVENT
BEGIN:VEVENT
UID:20260424T050138UTC-6331NjlVeD@85.215.121.98
DTSTAMP:20260424T050138Z
DTSTART;TZID=Europe/Amsterdam:20170915T200000
DTEND;TZID=Europe/Amsterdam:20170915T214000
SUMMARY:N - 2. Klasse Ost/Mitte 2017/18: Moosbrunn - SC Lanzendorf
END:VEVENT
BEGIN:VEVENT
UID:20260424T050138UTC-6341bwDPvd@85.215.121.98
DTSTAMP:20260424T050138Z
DTSTART;TZID=Europe/Amsterdam:20170922T193000
DTEND;TZID=Europe/Amsterdam:20170922T211000
SUMMARY:N - 2. Klasse Ost/Mitte 2017/18: SC Lanzendorf - Hinterbrühl
END:VEVENT
BEGIN:VEVENT
UID:20260424T050138UTC-6348POjVat@85.215.121.98
DTSTAMP:20260424T050138Z
DTSTART;TZID=Europe/Amsterdam:20171001T110000
DTEND;TZID=Europe/Amsterdam:20171001T124000
SUMMARY:N - 2. Klasse Ost/Mitte 2017/18: Zwölfaxing - SC Lanzendorf
END:VEVENT
BEGIN:VEVENT
UID:20260424T050138UTC-6355UuzkDn@85.215.121.98
DTSTAMP:20260424T050138Z
DTSTART;TZID=Europe/Amsterdam:20171006T184500
DTEND;TZID=Europe/Amsterdam:20171006T202500
SUMMARY:N - 2. Klasse Ost/Mitte 2017/18: SC Lanzendorf - Laxenburg
END:VEVENT
BEGIN:VEVENT
UID:20260424T050138UTC-6366Zt6huu@85.215.121.98
DTSTAMP:20260424T050138Z
DTSTART;TZID=Europe/Amsterdam:20171014T153000
DTEND;TZID=Europe/Amsterdam:20171014T171000
SUMMARY:N - 2. Klasse Ost/Mitte 2017/18: Siebenhirten/Wien - SC Lanzendorf
END:VEVENT
BEGIN:VEVENT
UID:20260424T050138UTC-6374jvJf9N@85.215.121.98
DTSTAMP:20260424T050138Z
DTSTART;TZID=Europe/Amsterdam:20171020T193000
DTEND;TZID=Europe/Amsterdam:20171020T211000
SUMMARY:N - 2. Klasse Ost/Mitte 2017/18: SC Lanzendorf - Gumpoldskirchen
END:VEVENT
BEGIN:VEVENT
UID:20260424T050138UTC-6385DDk8eB@85.215.121.98
DTSTAMP:20260424T050138Z
DTSTART;TZID=Europe/Amsterdam:20171101T160000
DTEND;TZID=Europe/Amsterdam:20171101T174000
SUMMARY:N - 2. Klasse Ost/Mitte 2017/18: Mödling SC - SC Lanzendorf
END:VEVENT
BEGIN:VEVENT
UID:20260424T050138UTC-6391OM9DOo@85.215.121.98
DTSTAMP:20260424T050138Z
DTSTART;TZID=Europe/Amsterdam:20171103T193000
DTEND;TZID=Europe/Amsterdam:20171103T211000
SUMMARY:N - 2. Klasse Ost/Mitte 2017/18: SC Lanzendorf - Mitterndorf
END:VEVENT
BEGIN:VEVENT
UID:20260424T050138UTC-6398Uadl2O@85.215.121.98
DTSTAMP:20260424T050138Z
DTSTART;TZID=Europe/Amsterdam:20180317T153000
DTEND;TZID=Europe/Amsterdam:20180317T171000
SUMMARY:N - 2. Klasse Ost/Mitte 2017/18: Münchendorf - SC Lanzendorf
END:VEVENT
BEGIN:VEVENT
UID:20260424T050138UTC-6404nx1TnW@85.215.121.98
DTSTAMP:20260424T050138Z
DTSTART;TZID=Europe/Amsterdam:20180323T184500
DTEND;TZID=Europe/Amsterdam:20180323T202500
SUMMARY:N - 2. Klasse Ost/Mitte 2017/18: SC Lanzendorf - Velm
END:VEVENT
BEGIN:VEVENT
UID:20260424T050138UTC-64122sOFRL@85.215.121.98
DTSTAMP:20260424T050138Z
DTSTART;TZID=Europe/Amsterdam:20180331T163000
DTEND;TZID=Europe/Amsterdam:20180331T181000
SUMMARY:N - 2. Klasse Ost/Mitte 2017/18: Achau - SC Lanzendorf
END:VEVENT
BEGIN:VEVENT
UID:20260424T050138UTC-6418ofV62I@85.215.121.98
DTSTAMP:20260424T050138Z
DTSTART;TZID=Europe/Amsterdam:20180406T193000
DTEND;TZID=Europe/Amsterdam:20180406T211000
SUMMARY:N - 2. Klasse Ost/Mitte 2017/18: SC Lanzendorf - ASK Erlaa Torpedo 
 03
END:VEVENT
BEGIN:VEVENT
UID:20260424T050138UTC-6424Zoihk0@85.215.121.98
DTSTAMP:20260424T050138Z
DTSTART;TZID=Europe/Amsterdam:20180414T163000
DTEND;TZID=Europe/Amsterdam:20180414T181000
SUMMARY:N - 2. Klasse Ost/Mitte 2017/18: Ebergassing - SC Lanzendorf
END:VEVENT
BEGIN:VEVENT
UID:20260424T050138UTC-6430cAGuHG@85.215.121.98
DTSTAMP:20260424T050138Z
DTSTART;TZID=Europe/Amsterdam:20180420T193000
DTEND;TZID=Europe/Amsterdam:20180420T211000
SUMMARY:N - 2. Klasse Ost/Mitte 2017/18: SC Lanzendorf - Moosbrunn
END:VEVENT
BEGIN:VEVENT
UID:20260424T050138UTC-6437smdGT0@85.215.121.98
DTSTAMP:20260424T050138Z
DTSTART;TZID=Europe/Amsterdam:20180429T163000
DTEND;TZID=Europe/Amsterdam:20180429T181000
SUMMARY:N - 2. Klasse Ost/Mitte 2017/18: Hinterbrühl - SC Lanzendorf
END:VEVENT
BEGIN:VEVENT
UID:20260424T050138UTC-644302zUUj@85.215.121.98
DTSTAMP:20260424T050138Z
DTSTART;TZID=Europe/Amsterdam:20180507T193000
DTEND;TZID=Europe/Amsterdam:20180507T211000
SUMMARY:N - 2. Klasse Ost/Mitte 2017/18: SC Lanzendorf - Zwölfaxing
END:VEVENT
BEGIN:VEVENT
UID:20260424T050138UTC-6450vuSuuN@85.215.121.98
DTSTAMP:20260424T050138Z
DTSTART;TZID=Europe/Amsterdam:20180512T163000
DTEND;TZID=Europe/Amsterdam:20180512T181000
SUMMARY:N - 2. Klasse Ost/Mitte 2017/18: Laxenburg - SC Lanzendorf
END:VEVENT
BEGIN:VEVENT
UID:20260424T050138UTC-6459ed0avU@85.215.121.98
DTSTAMP:20260424T050138Z
DTSTART;TZID=Europe/Amsterdam:20180520T170000
DTEND;TZID=Europe/Amsterdam:20180520T184000
SUMMARY:N - 2. Klasse Ost/Mitte 2017/18: SC Lanzendorf - Siebenhirten/Wien
END:VEVENT
BEGIN:VEVENT
UID:20260424T050138UTC-6468f4DOMN@85.215.121.98
DTSTAMP:20260424T050138Z
DTSTART;TZID=Europe/Amsterdam:20180525T193000
DTEND;TZID=Europe/Amsterdam:20180525T211000
SUMMARY:N - 2. Klasse Ost/Mitte 2017/18: Gumpoldskirchen - SC Lanzendorf
END:VEVENT
BEGIN:VEVENT
UID:20260424T050138UTC-6475bUUje7@85.215.121.98
DTSTAMP:20260424T050138Z
DTSTART;TZID=Europe/Amsterdam:20180601T193000
DTEND;TZID=Europe/Amsterdam:20180601T211000
SUMMARY:N - 2. Klasse Ost/Mitte 2017/18: SC Lanzendorf - Mödling SC
END:VEVENT
BEGIN:VEVENT
UID:20260424T050138UTC-6482ogVSme@85.215.121.98
DTSTAMP:20260424T050138Z
DTSTART;TZID=Europe/Amsterdam:20180610T173000
DTEND;TZID=Europe/Amsterdam:20180610T191000
SUMMARY:N - 2. Klasse Ost/Mitte 2017/18: Mitterndorf - SC Lanzendorf
END:VEVENT
END:VCALENDAR
