BEGIN:VCALENDAR
VERSION:2.0
PRODID:-////NONSGML kigkonsult.se iCalcreator 2.18//
X-WR-TIMEZONE:Europe/Amsterdam
BEGIN:VTIMEZONE
TZID:Europe/Amsterdam
X-LIC-LOCATION:Europe/Amsterdam
BEGIN:STANDARD
DTSTART:20171029T030000
TZOFFSETFROM:+0200
TZOFFSETTO:+0100
RDATE:20181028T030000
TZNAME:CET
END:STANDARD
BEGIN:DAYLIGHT
DTSTART:20180325T020000
TZOFFSETFROM:+0100
TZOFFSETTO:+0200
RDATE:20190331T020000
TZNAME:CEST
END:DAYLIGHT
END:VTIMEZONE
BEGIN:VEVENT
UID:20260424T213224UTC-19396DTs2P@85.215.121.98
DTSTAMP:20260424T213224Z
DTSTART;TZID=Europe/Amsterdam:20170813T170000
DTEND;TZID=Europe/Amsterdam:20170813T184000
SUMMARY:N - 2. Klasse Ost/Mitte 2017/18: Achau - Gumpoldskirchen
END:VEVENT
BEGIN:VEVENT
UID:20260424T213224UTC-2089ghF9vj@85.215.121.98
DTSTAMP:20260424T213224Z
DTSTART;TZID=Europe/Amsterdam:20170820T170000
DTEND;TZID=Europe/Amsterdam:20170820T184000
SUMMARY:N - 2. Klasse Ost/Mitte 2017/18: ASK Erlaa Torpedo 03 - Gumpoldskir
 chen
END:VEVENT
BEGIN:VEVENT
UID:20260424T213224UTC-2096uI6feJ@85.215.121.98
DTSTAMP:20260424T213224Z
DTSTART;TZID=Europe/Amsterdam:20170825T193000
DTEND;TZID=Europe/Amsterdam:20170825T211000
SUMMARY:N - 2. Klasse Ost/Mitte 2017/18: Gumpoldskirchen - Ebergassing
END:VEVENT
BEGIN:VEVENT
UID:20260424T213224UTC-21656DHTgp@85.215.121.98
DTSTAMP:20260424T213224Z
DTSTART;TZID=Europe/Amsterdam:20170902T163000
DTEND;TZID=Europe/Amsterdam:20170902T181000
SUMMARY:N - 2. Klasse Ost/Mitte 2017/18: Moosbrunn - Gumpoldskirchen
END:VEVENT
BEGIN:VEVENT
UID:20260424T213224UTC-2172S6nbUO@85.215.121.98
DTSTAMP:20260424T213224Z
DTSTART;TZID=Europe/Amsterdam:20170908T193000
DTEND;TZID=Europe/Amsterdam:20170908T211000
SUMMARY:N - 2. Klasse Ost/Mitte 2017/18: Gumpoldskirchen - Hinterbrühl
END:VEVENT
BEGIN:VEVENT
UID:20260424T213224UTC-2179cJkj7i@85.215.121.98
DTSTAMP:20260424T213224Z
DTSTART;TZID=Europe/Amsterdam:20170916T160000
DTEND;TZID=Europe/Amsterdam:20170916T174000
SUMMARY:N - 2. Klasse Ost/Mitte 2017/18: Zwölfaxing - Gumpoldskirchen
END:VEVENT
BEGIN:VEVENT
UID:20260424T213224UTC-2185HFMUfj@85.215.121.98
DTSTAMP:20260424T213224Z
DTSTART;TZID=Europe/Amsterdam:20170922T193000
DTEND;TZID=Europe/Amsterdam:20170922T211000
SUMMARY:N - 2. Klasse Ost/Mitte 2017/18: Gumpoldskirchen - Laxenburg
END:VEVENT
BEGIN:VEVENT
UID:20260424T213224UTC-2190vuJdax@85.215.121.98
DTSTAMP:20260424T213224Z
DTSTART;TZID=Europe/Amsterdam:20170930T153000
DTEND;TZID=Europe/Amsterdam:20170930T171000
SUMMARY:N - 2. Klasse Ost/Mitte 2017/18: Siebenhirten/Wien - Gumpoldskirche
 n
END:VEVENT
BEGIN:VEVENT
UID:20260424T213224UTC-21961Cvvnw@85.215.121.98
DTSTAMP:20260424T213224Z
DTSTART;TZID=Europe/Amsterdam:20171006T183000
DTEND;TZID=Europe/Amsterdam:20171006T201000
SUMMARY:N - 2. Klasse Ost/Mitte 2017/18: Gumpoldskirchen - Mitterndorf
END:VEVENT
BEGIN:VEVENT
UID:20260424T213224UTC-220257wpBW@85.215.121.98
DTSTAMP:20260424T213224Z
DTSTART;TZID=Europe/Amsterdam:20171013T193000
DTEND;TZID=Europe/Amsterdam:20171013T211000
SUMMARY:N - 2. Klasse Ost/Mitte 2017/18: Gumpoldskirchen - Mödling SC
END:VEVENT
BEGIN:VEVENT
UID:20260424T213224UTC-22555U5Nen@85.215.121.98
DTSTAMP:20260424T213224Z
DTSTART;TZID=Europe/Amsterdam:20171020T193000
DTEND;TZID=Europe/Amsterdam:20171020T211000
SUMMARY:N - 2. Klasse Ost/Mitte 2017/18: SC Lanzendorf - Gumpoldskirchen
END:VEVENT
BEGIN:VEVENT
UID:20260424T213224UTC-22623sebo8@85.215.121.98
DTSTAMP:20260424T213224Z
DTSTART;TZID=Europe/Amsterdam:20171101T160000
DTEND;TZID=Europe/Amsterdam:20171101T174000
SUMMARY:N - 2. Klasse Ost/Mitte 2017/18: Gumpoldskirchen - Münchendorf
END:VEVENT
BEGIN:VEVENT
UID:20260424T213224UTC-2269vtEnlR@85.215.121.98
DTSTAMP:20260424T213224Z
DTSTART;TZID=Europe/Amsterdam:20171105T140000
DTEND;TZID=Europe/Amsterdam:20171105T154000
SUMMARY:N - 2. Klasse Ost/Mitte 2017/18: Velm - Gumpoldskirchen
END:VEVENT
BEGIN:VEVENT
UID:20260424T213224UTC-22759k45oG@85.215.121.98
DTSTAMP:20260424T213224Z
DTSTART;TZID=Europe/Amsterdam:20180331T163000
DTEND;TZID=Europe/Amsterdam:20180331T181000
SUMMARY:N - 2. Klasse Ost/Mitte 2017/18: Ebergassing - Gumpoldskirchen
END:VEVENT
BEGIN:VEVENT
UID:20260424T213224UTC-2281Wmt4jt@85.215.121.98
DTSTAMP:20260424T213224Z
DTSTART;TZID=Europe/Amsterdam:20180406T193000
DTEND;TZID=Europe/Amsterdam:20180406T211000
SUMMARY:N - 2. Klasse Ost/Mitte 2017/18: Gumpoldskirchen - Moosbrunn
END:VEVENT
BEGIN:VEVENT
UID:20260424T213224UTC-2335Mrtjtj@85.215.121.98
DTSTAMP:20260424T213224Z
DTSTART;TZID=Europe/Amsterdam:20180410T200000
DTEND;TZID=Europe/Amsterdam:20180410T214000
SUMMARY:N - 2. Klasse Ost/Mitte 2017/18: Gumpoldskirchen - Achau
END:VEVENT
BEGIN:VEVENT
UID:20260424T213224UTC-2341IVAcjx@85.215.121.98
DTSTAMP:20260424T213224Z
DTSTART;TZID=Europe/Amsterdam:20180415T163000
DTEND;TZID=Europe/Amsterdam:20180415T181000
SUMMARY:N - 2. Klasse Ost/Mitte 2017/18: Hinterbrühl - Gumpoldskirchen
END:VEVENT
BEGIN:VEVENT
UID:20260424T213224UTC-2350dUViuD@85.215.121.98
DTSTAMP:20260424T213224Z
DTSTART;TZID=Europe/Amsterdam:20180417T200000
DTEND;TZID=Europe/Amsterdam:20180417T214000
SUMMARY:N - 2. Klasse Ost/Mitte 2017/18: Gumpoldskirchen - ASK Erlaa Torped
 o 03
END:VEVENT
BEGIN:VEVENT
UID:20260424T213224UTC-2356S2Vw3S@85.215.121.98
DTSTAMP:20260424T213224Z
DTSTART;TZID=Europe/Amsterdam:20180420T193000
DTEND;TZID=Europe/Amsterdam:20180420T211000
SUMMARY:N - 2. Klasse Ost/Mitte 2017/18: Gumpoldskirchen - Zwölfaxing
END:VEVENT
BEGIN:VEVENT
UID:20260424T213224UTC-2361vUeNZx@85.215.121.98
DTSTAMP:20260424T213224Z
DTSTART;TZID=Europe/Amsterdam:20180429T163000
DTEND;TZID=Europe/Amsterdam:20180429T181000
SUMMARY:N - 2. Klasse Ost/Mitte 2017/18: Laxenburg - Gumpoldskirchen
END:VEVENT
BEGIN:VEVENT
UID:20260424T213224UTC-2370C9kmNz@85.215.121.98
DTSTAMP:20260424T213224Z
DTSTART;TZID=Europe/Amsterdam:20180504T193000
DTEND;TZID=Europe/Amsterdam:20180504T211000
SUMMARY:N - 2. Klasse Ost/Mitte 2017/18: Gumpoldskirchen - Siebenhirten/Wie
 n
END:VEVENT
BEGIN:VEVENT
UID:20260424T213224UTC-2376ooj93g@85.215.121.98
DTSTAMP:20260424T213224Z
DTSTART;TZID=Europe/Amsterdam:20180513T163000
DTEND;TZID=Europe/Amsterdam:20180513T181000
SUMMARY:N - 2. Klasse Ost/Mitte 2017/18: Mitterndorf - Gumpoldskirchen
END:VEVENT
BEGIN:VEVENT
UID:20260424T213224UTC-2383rhXOBv@85.215.121.98
DTSTAMP:20260424T213224Z
DTSTART;TZID=Europe/Amsterdam:20180519T170000
DTEND;TZID=Europe/Amsterdam:20180519T184000
SUMMARY:N - 2. Klasse Ost/Mitte 2017/18: Mödling SC - Gumpoldskirchen
END:VEVENT
BEGIN:VEVENT
UID:20260424T213224UTC-2390JgB8T4@85.215.121.98
DTSTAMP:20260424T213224Z
DTSTART;TZID=Europe/Amsterdam:20180525T193000
DTEND;TZID=Europe/Amsterdam:20180525T211000
SUMMARY:N - 2. Klasse Ost/Mitte 2017/18: Gumpoldskirchen - SC Lanzendorf
END:VEVENT
BEGIN:VEVENT
UID:20260424T213224UTC-2396u87HSc@85.215.121.98
DTSTAMP:20260424T213224Z
DTSTART;TZID=Europe/Amsterdam:20180603T173000
DTEND;TZID=Europe/Amsterdam:20180603T191000
SUMMARY:N - 2. Klasse Ost/Mitte 2017/18: Münchendorf - Gumpoldskirchen
END:VEVENT
BEGIN:VEVENT
UID:20260424T213224UTC-2402dKfwTV@85.215.121.98
DTSTAMP:20260424T213224Z
DTSTART;TZID=Europe/Amsterdam:20180608T193000
DTEND;TZID=Europe/Amsterdam:20180608T211000
SUMMARY:N - 2. Klasse Ost/Mitte 2017/18: Gumpoldskirchen - Velm
END:VEVENT
END:VCALENDAR
