BEGIN:VCALENDAR
VERSION:2.0
PRODID:-////NONSGML kigkonsult.se iCalcreator 2.18//
X-WR-TIMEZONE:Europe/Amsterdam
BEGIN:VTIMEZONE
TZID:Europe/Amsterdam
X-LIC-LOCATION:Europe/Amsterdam
BEGIN:STANDARD
DTSTART:20171029T030000
TZOFFSETFROM:+0200
TZOFFSETTO:+0100
RDATE:20181028T030000
TZNAME:CET
END:STANDARD
BEGIN:DAYLIGHT
DTSTART:20180325T020000
TZOFFSETFROM:+0100
TZOFFSETTO:+0200
RDATE:20190331T020000
TZNAME:CEST
END:DAYLIGHT
END:VTIMEZONE
BEGIN:VEVENT
UID:20260424T050056UTC-5492Ndcw9r@85.215.121.98
DTSTAMP:20260424T050056Z
DTSTART;TZID=Europe/Amsterdam:20170729T170000
DTEND;TZID=Europe/Amsterdam:20170729T184000
SUMMARY:K - 1. Klasse B 2017/18: Feffernitz - Töplitsch
END:VEVENT
BEGIN:VEVENT
UID:20260424T050056UTC-5645shMtJE@85.215.121.98
DTSTAMP:20260424T050056Z
DTSTART;TZID=Europe/Amsterdam:20170804T190000
DTEND;TZID=Europe/Amsterdam:20170804T204000
SUMMARY:K - 1. Klasse B 2017/18: Atus Velden - Feffernitz
END:VEVENT
BEGIN:VEVENT
UID:20260424T050056UTC-5665c4Pr8k@85.215.121.98
DTSTAMP:20260424T050056Z
DTSTART;TZID=Europe/Amsterdam:20170813T170000
DTEND;TZID=Europe/Amsterdam:20170813T184000
SUMMARY:K - 1. Klasse B 2017/18: Feffernitz - Ledenitzen
END:VEVENT
BEGIN:VEVENT
UID:20260424T050056UTC-5672DSZVMk@85.215.121.98
DTSTAMP:20260424T050056Z
DTSTART;TZID=Europe/Amsterdam:20170815T170000
DTEND;TZID=Europe/Amsterdam:20170815T184000
SUMMARY:K - 1. Klasse B 2017/18: Admira Villach - Feffernitz
END:VEVENT
BEGIN:VEVENT
UID:20260424T050056UTC-5685K0n3ev@85.215.121.98
DTSTAMP:20260424T050056Z
DTSTART;TZID=Europe/Amsterdam:20170820T170000
DTEND;TZID=Europe/Amsterdam:20170820T184000
SUMMARY:K - 1. Klasse B 2017/18: Feffernitz - Maria Gail
END:VEVENT
BEGIN:VEVENT
UID:20260424T050056UTC-5692aLpUoh@85.215.121.98
DTSTAMP:20260424T050056Z
DTSTART;TZID=Europe/Amsterdam:20170826T170000
DTEND;TZID=Europe/Amsterdam:20170826T184000
SUMMARY:K - 1. Klasse B 2017/18: Bodensdorf - Feffernitz
END:VEVENT
BEGIN:VEVENT
UID:20260424T050056UTC-5701v5sr5H@85.215.121.98
DTSTAMP:20260424T050056Z
DTSTART;TZID=Europe/Amsterdam:20170903T163000
DTEND;TZID=Europe/Amsterdam:20170903T181000
SUMMARY:K - 1. Klasse B 2017/18: Feffernitz - Bad Bleiberg
END:VEVENT
BEGIN:VEVENT
UID:20260424T050056UTC-5707vl0nvw@85.215.121.98
DTSTAMP:20260424T050056Z
DTSTART;TZID=Europe/Amsterdam:20170910T163000
DTEND;TZID=Europe/Amsterdam:20170910T181000
SUMMARY:K - 1. Klasse B 2017/18: Feffernitz - Schiefling
END:VEVENT
BEGIN:VEVENT
UID:20260424T050056UTC-5744bVNcmm@85.215.121.98
DTSTAMP:20260424T050056Z
DTSTART;TZID=Europe/Amsterdam:20170917T160000
DTEND;TZID=Europe/Amsterdam:20170917T174000
SUMMARY:K - 1. Klasse B 2017/18: Stockenboi - Feffernitz
END:VEVENT
BEGIN:VEVENT
UID:20260424T050056UTC-5755Xglpuv@85.215.121.98
DTSTAMP:20260424T050056Z
DTSTART;TZID=Europe/Amsterdam:20170924T160000
DTEND;TZID=Europe/Amsterdam:20170924T174000
SUMMARY:K - 1. Klasse B 2017/18: Feffernitz - Faakersee
END:VEVENT
BEGIN:VEVENT
UID:20260424T050056UTC-5763a68Avk@85.215.121.98
DTSTAMP:20260424T050056Z
DTSTART;TZID=Europe/Amsterdam:20171001T103000
DTEND;TZID=Europe/Amsterdam:20171001T121000
SUMMARY:K - 1. Klasse B 2017/18: St. Egyden - Feffernitz
END:VEVENT
BEGIN:VEVENT
UID:20260424T050056UTC-5773ZSuR1W@85.215.121.98
DTSTAMP:20260424T050056Z
DTSTART;TZID=Europe/Amsterdam:20171008T153000
DTEND;TZID=Europe/Amsterdam:20171008T171000
SUMMARY:K - 1. Klasse B 2017/18: Feffernitz - Rothenthurn
END:VEVENT
BEGIN:VEVENT
UID:20260424T050056UTC-5780sII0vv@85.215.121.98
DTSTAMP:20260424T050056Z
DTSTART;TZID=Europe/Amsterdam:20171015T153000
DTEND;TZID=Europe/Amsterdam:20171015T171000
SUMMARY:K - 1. Klasse B 2017/18: Magdalen - Feffernitz
END:VEVENT
BEGIN:VEVENT
UID:20260424T050056UTC-57869vjdWA@85.215.121.98
DTSTAMP:20260424T050056Z
DTSTART;TZID=Europe/Amsterdam:20171022T150000
DTEND;TZID=Europe/Amsterdam:20171022T164000
SUMMARY:K - 1. Klasse B 2017/18: Feffernitz - Feistritz/Ros.
END:VEVENT
BEGIN:VEVENT
UID:20260424T050056UTC-5793ufHxS6@85.215.121.98
DTSTAMP:20260424T050056Z
DTSTART;TZID=Europe/Amsterdam:20171028T150000
DTEND;TZID=Europe/Amsterdam:20171028T164000
SUMMARY:K - 1. Klasse B 2017/18: SV Wernberg - Feffernitz
END:VEVENT
BEGIN:VEVENT
UID:20260424T050056UTC-58001GgfNv@85.215.121.98
DTSTAMP:20260424T050056Z
DTSTART;TZID=Europe/Amsterdam:20171104T150000
DTEND;TZID=Europe/Amsterdam:20171104T164000
SUMMARY:K - 1. Klasse B 2017/18: Töplitsch - Feffernitz
END:VEVENT
BEGIN:VEVENT
UID:20260424T050056UTC-5807OWj2ui@85.215.121.98
DTSTAMP:20260424T050056Z
DTSTART;TZID=Europe/Amsterdam:20180325T230000
DTEND;TZID=Europe/Amsterdam:20180326T004000
SUMMARY:K - 1. Klasse B 2017/18: Feffernitz - Atus Velden
END:VEVENT
BEGIN:VEVENT
UID:20260424T050056UTC-5813cIXoJd@85.215.121.98
DTSTAMP:20260424T050056Z
DTSTART;TZID=Europe/Amsterdam:20180401T230000
DTEND;TZID=Europe/Amsterdam:20180402T004000
SUMMARY:K - 1. Klasse B 2017/18: Ledenitzen - Feffernitz
END:VEVENT
BEGIN:VEVENT
UID:20260424T050056UTC-5823uKPNAF@85.215.121.98
DTSTAMP:20260424T050056Z
DTSTART;TZID=Europe/Amsterdam:20180408T230000
DTEND;TZID=Europe/Amsterdam:20180409T004000
SUMMARY:K - 1. Klasse B 2017/18: Feffernitz - Admira Villach
END:VEVENT
BEGIN:VEVENT
UID:20260424T050056UTC-5832mJE4XU@85.215.121.98
DTSTAMP:20260424T050056Z
DTSTART;TZID=Europe/Amsterdam:20180415T230000
DTEND;TZID=Europe/Amsterdam:20180416T004000
SUMMARY:K - 1. Klasse B 2017/18: Maria Gail - Feffernitz
END:VEVENT
BEGIN:VEVENT
UID:20260424T050056UTC-5839U1snOs@85.215.121.98
DTSTAMP:20260424T050056Z
DTSTART;TZID=Europe/Amsterdam:20180422T230000
DTEND;TZID=Europe/Amsterdam:20180423T004000
SUMMARY:K - 1. Klasse B 2017/18: Feffernitz - Bodensdorf
END:VEVENT
BEGIN:VEVENT
UID:20260424T050056UTC-584550JU4I@85.215.121.98
DTSTAMP:20260424T050056Z
DTSTART;TZID=Europe/Amsterdam:20180429T230000
DTEND;TZID=Europe/Amsterdam:20180430T004000
SUMMARY:K - 1. Klasse B 2017/18: Bad Bleiberg - Feffernitz
END:VEVENT
BEGIN:VEVENT
UID:20260424T050056UTC-5851h66xjF@85.215.121.98
DTSTAMP:20260424T050056Z
DTSTART;TZID=Europe/Amsterdam:20180506T230000
DTEND;TZID=Europe/Amsterdam:20180507T004000
SUMMARY:K - 1. Klasse B 2017/18: Schiefling - Feffernitz
END:VEVENT
BEGIN:VEVENT
UID:20260424T050056UTC-5859G3Xdkb@85.215.121.98
DTSTAMP:20260424T050056Z
DTSTART;TZID=Europe/Amsterdam:20180510T230000
DTEND;TZID=Europe/Amsterdam:20180511T004000
SUMMARY:K - 1. Klasse B 2017/18: Feffernitz - Stockenboi
END:VEVENT
BEGIN:VEVENT
UID:20260424T050056UTC-58658cx0zN@85.215.121.98
DTSTAMP:20260424T050056Z
DTSTART;TZID=Europe/Amsterdam:20180513T230000
DTEND;TZID=Europe/Amsterdam:20180514T004000
SUMMARY:K - 1. Klasse B 2017/18: Faakersee - Feffernitz
END:VEVENT
BEGIN:VEVENT
UID:20260424T050056UTC-5873IBRxCt@85.215.121.98
DTSTAMP:20260424T050056Z
DTSTART;TZID=Europe/Amsterdam:20180520T230000
DTEND;TZID=Europe/Amsterdam:20180521T004000
SUMMARY:K - 1. Klasse B 2017/18: Feffernitz - St. Egyden
END:VEVENT
BEGIN:VEVENT
UID:20260424T050056UTC-5881OlUXuM@85.215.121.98
DTSTAMP:20260424T050056Z
DTSTART;TZID=Europe/Amsterdam:20180527T230000
DTEND;TZID=Europe/Amsterdam:20180528T004000
SUMMARY:K - 1. Klasse B 2017/18: Rothenthurn - Feffernitz
END:VEVENT
BEGIN:VEVENT
UID:20260424T050056UTC-5889NSpljR@85.215.121.98
DTSTAMP:20260424T050056Z
DTSTART;TZID=Europe/Amsterdam:20180603T230000
DTEND;TZID=Europe/Amsterdam:20180604T004000
SUMMARY:K - 1. Klasse B 2017/18: Feffernitz - Magdalen
END:VEVENT
BEGIN:VEVENT
UID:20260424T050056UTC-5896GVlKr4@85.215.121.98
DTSTAMP:20260424T050056Z
DTSTART;TZID=Europe/Amsterdam:20180610T230000
DTEND;TZID=Europe/Amsterdam:20180611T004000
SUMMARY:K - 1. Klasse B 2017/18: Feistritz/Ros. - Feffernitz
END:VEVENT
BEGIN:VEVENT
UID:20260424T050056UTC-5902Czj2av@85.215.121.98
DTSTAMP:20260424T050056Z
DTSTART;TZID=Europe/Amsterdam:20180617T230000
DTEND;TZID=Europe/Amsterdam:20180618T004000
SUMMARY:K - 1. Klasse B 2017/18: Feffernitz - SV Wernberg
END:VEVENT
END:VCALENDAR
