BEGIN:VCALENDAR
VERSION:2.0
PRODID:-////NONSGML kigkonsult.se iCalcreator 2.18//
X-WR-TIMEZONE:Europe/Amsterdam
BEGIN:VTIMEZONE
TZID:Europe/Amsterdam
X-LIC-LOCATION:Europe/Amsterdam
BEGIN:STANDARD
DTSTART:20161030T030000
TZOFFSETFROM:+0200
TZOFFSETTO:+0100
RDATE:20171029T030000
TZNAME:CET
END:STANDARD
BEGIN:DAYLIGHT
DTSTART:20170326T020000
TZOFFSETFROM:+0100
TZOFFSETTO:+0200
RDATE:20180325T020000
TZNAME:CEST
END:DAYLIGHT
END:VTIMEZONE
BEGIN:VEVENT
UID:20260422T223957UTC-7150AH5tzi@85.215.121.98
DTSTAMP:20260422T223957Z
DTSTART;TZID=Europe/Amsterdam:20160730T180000
DTEND;TZID=Europe/Amsterdam:20160730T194000
SUMMARY:K - 1. Klasse D 2016/17: Rückersdorf - Grafenstein
END:VEVENT
BEGIN:VEVENT
UID:20260422T223957UTC-7278L5SsTk@85.215.121.98
DTSTAMP:20260422T223957Z
DTSTART;TZID=Europe/Amsterdam:20160806T190000
DTEND;TZID=Europe/Amsterdam:20160806T204000
SUMMARY:K - 1. Klasse D 2016/17: Grafenstein - Reichenfels
END:VEVENT
BEGIN:VEVENT
UID:20260422T223957UTC-7286EbXmuC@85.215.121.98
DTSTAMP:20260422T223957Z
DTSTART;TZID=Europe/Amsterdam:20160813T170000
DTEND;TZID=Europe/Amsterdam:20160813T184000
SUMMARY:K - 1. Klasse D 2016/17: St. Paul - Grafenstein
END:VEVENT
BEGIN:VEVENT
UID:20260422T223957UTC-7304Ht81Mt@85.215.121.98
DTSTAMP:20260422T223957Z
DTSTART;TZID=Europe/Amsterdam:20160821T173000
DTEND;TZID=Europe/Amsterdam:20160821T191000
SUMMARY:K - 1. Klasse D 2016/17: Grafenstein - Eitweg
END:VEVENT
BEGIN:VEVENT
UID:20260422T223957UTC-7335E9M8Kd@85.215.121.98
DTSTAMP:20260422T223957Z
DTSTART;TZID=Europe/Amsterdam:20160827T160000
DTEND;TZID=Europe/Amsterdam:20160827T174000
SUMMARY:K - 1. Klasse D 2016/17: St. Stefan/Lav. - Grafenstein
END:VEVENT
BEGIN:VEVENT
UID:20260422T223957UTC-7342h87CXo@85.215.121.98
DTSTAMP:20260422T223957Z
DTSTART;TZID=Europe/Amsterdam:20160903T160000
DTEND;TZID=Europe/Amsterdam:20160903T174000
SUMMARY:K - 1. Klasse D 2016/17: Grafenstein - Eberndorf
END:VEVENT
BEGIN:VEVENT
UID:20260422T223957UTC-7348NUA4Pl@85.215.121.98
DTSTAMP:20260422T223957Z
DTSTART;TZID=Europe/Amsterdam:20160911T110000
DTEND;TZID=Europe/Amsterdam:20160911T124000
SUMMARY:K - 1. Klasse D 2016/17: Gallizien - Grafenstein
END:VEVENT
BEGIN:VEVENT
UID:20260422T223957UTC-7355KSdH6p@85.215.121.98
DTSTAMP:20260422T223957Z
DTSTART;TZID=Europe/Amsterdam:20160918T170000
DTEND;TZID=Europe/Amsterdam:20160918T184000
SUMMARY:K - 1. Klasse D 2016/17: Ruden - Grafenstein
END:VEVENT
BEGIN:VEVENT
UID:20260422T223957UTC-7361O9hM9a@85.215.121.98
DTSTAMP:20260422T223957Z
DTSTART;TZID=Europe/Amsterdam:20160924T163000
DTEND;TZID=Europe/Amsterdam:20160924T181000
SUMMARY:K - 1. Klasse D 2016/17: Grafenstein - Griffen
END:VEVENT
BEGIN:VEVENT
UID:20260422T223957UTC-736772R6nC@85.215.121.98
DTSTAMP:20260422T223957Z
DTSTART;TZID=Europe/Amsterdam:20161001T153000
DTEND;TZID=Europe/Amsterdam:20161001T171000
SUMMARY:K - 1. Klasse D 2016/17: Bad St. Leonhard - Grafenstein
END:VEVENT
BEGIN:VEVENT
UID:20260422T223957UTC-7373W0rm7o@85.215.121.98
DTSTAMP:20260422T223957Z
DTSTART;TZID=Europe/Amsterdam:20161008T150000
DTEND;TZID=Europe/Amsterdam:20161008T164000
SUMMARY:K - 1. Klasse D 2016/17: Grafenstein - Lavamünd
END:VEVENT
BEGIN:VEVENT
UID:20260422T223957UTC-7393dxMm2H@85.215.121.98
DTSTAMP:20260422T223957Z
DTSTART;TZID=Europe/Amsterdam:20161016T160000
DTEND;TZID=Europe/Amsterdam:20161016T174000
SUMMARY:K - 1. Klasse D 2016/17: Mittlern - Grafenstein
END:VEVENT
BEGIN:VEVENT
UID:20260422T223957UTC-739971Xwp1@85.215.121.98
DTSTAMP:20260422T223957Z
DTSTART;TZID=Europe/Amsterdam:20161021T193000
DTEND;TZID=Europe/Amsterdam:20161021T211000
SUMMARY:K - 1. Klasse D 2016/17: Grafenstein - Ferlach DSG
END:VEVENT
BEGIN:VEVENT
UID:20260422T223957UTC-7436T4OwnR@85.215.121.98
DTSTAMP:20260422T223957Z
DTSTART;TZID=Europe/Amsterdam:20161026T150000
DTEND;TZID=Europe/Amsterdam:20161026T164000
SUMMARY:K - 1. Klasse D 2016/17: SAK 1b - Grafenstein
END:VEVENT
BEGIN:VEVENT
UID:20260422T223957UTC-74443skPxd@85.215.121.98
DTSTAMP:20260422T223957Z
DTSTART;TZID=Europe/Amsterdam:20161029T160000
DTEND;TZID=Europe/Amsterdam:20161029T174000
SUMMARY:K - 1. Klasse D 2016/17: Grafenstein - St. Margareten/Ros.
END:VEVENT
BEGIN:VEVENT
UID:20260422T223957UTC-7454eTIGoU@85.215.121.98
DTSTAMP:20260422T223957Z
DTSTART;TZID=Europe/Amsterdam:20161105T150000
DTEND;TZID=Europe/Amsterdam:20161105T164000
SUMMARY:K - 1. Klasse D 2016/17: Grafenstein - Rückersdorf
END:VEVENT
BEGIN:VEVENT
UID:20260422T223957UTC-7461EJmAvw@85.215.121.98
DTSTAMP:20260422T223957Z
DTSTART;TZID=Europe/Amsterdam:20170325T150000
DTEND;TZID=Europe/Amsterdam:20170325T164000
SUMMARY:K - 1. Klasse D 2016/17: Reichenfels - Grafenstein
END:VEVENT
BEGIN:VEVENT
UID:20260422T223957UTC-7467KW5LCv@85.215.121.98
DTSTAMP:20260422T223957Z
DTSTART;TZID=Europe/Amsterdam:20170401T160000
DTEND;TZID=Europe/Amsterdam:20170401T174000
SUMMARY:K - 1. Klasse D 2016/17: Grafenstein - St. Paul
END:VEVENT
BEGIN:VEVENT
UID:20260422T223957UTC-7474NGBv2Z@85.215.121.98
DTSTAMP:20260422T223957Z
DTSTART;TZID=Europe/Amsterdam:20170409T160000
DTEND;TZID=Europe/Amsterdam:20170409T174000
SUMMARY:K - 1. Klasse D 2016/17: Eitweg - Grafenstein
END:VEVENT
BEGIN:VEVENT
UID:20260422T223957UTC-7483axxaLt@85.215.121.98
DTSTAMP:20260422T223957Z
DTSTART;TZID=Europe/Amsterdam:20170415T170000
DTEND;TZID=Europe/Amsterdam:20170415T184000
SUMMARY:K - 1. Klasse D 2016/17: Grafenstein - St. Stefan/Lav.
END:VEVENT
BEGIN:VEVENT
UID:20260422T223957UTC-7491o0ZKCU@85.215.121.98
DTSTAMP:20260422T223957Z
DTSTART;TZID=Europe/Amsterdam:20170422T160000
DTEND;TZID=Europe/Amsterdam:20170422T174000
SUMMARY:K - 1. Klasse D 2016/17: Eberndorf - Grafenstein
END:VEVENT
BEGIN:VEVENT
UID:20260422T223957UTC-7497F0VApR@85.215.121.98
DTSTAMP:20260422T223957Z
DTSTART;TZID=Europe/Amsterdam:20170429T173000
DTEND;TZID=Europe/Amsterdam:20170429T191000
SUMMARY:K - 1. Klasse D 2016/17: Grafenstein - Gallizien
END:VEVENT
BEGIN:VEVENT
UID:20260422T223957UTC-7503jZGvS2@85.215.121.98
DTSTAMP:20260422T223957Z
DTSTART;TZID=Europe/Amsterdam:20170506T173000
DTEND;TZID=Europe/Amsterdam:20170506T191000
SUMMARY:K - 1. Klasse D 2016/17: Grafenstein - Ruden
END:VEVENT
BEGIN:VEVENT
UID:20260422T223957UTC-7510jEp1K7@85.215.121.98
DTSTAMP:20260422T223957Z
DTSTART;TZID=Europe/Amsterdam:20170513T163000
DTEND;TZID=Europe/Amsterdam:20170513T181000
SUMMARY:K - 1. Klasse D 2016/17: Griffen - Grafenstein
END:VEVENT
BEGIN:VEVENT
UID:20260422T223957UTC-75177OmTnI@85.215.121.98
DTSTAMP:20260422T223957Z
DTSTART;TZID=Europe/Amsterdam:20170520T160000
DTEND;TZID=Europe/Amsterdam:20170520T174000
SUMMARY:K - 1. Klasse D 2016/17: Grafenstein - Bad St. Leonhard
END:VEVENT
BEGIN:VEVENT
UID:20260422T223957UTC-755459Z1uu@85.215.121.98
DTSTAMP:20260422T223957Z
DTSTART;TZID=Europe/Amsterdam:20170525T170000
DTEND;TZID=Europe/Amsterdam:20170525T184000
SUMMARY:K - 1. Klasse D 2016/17: Lavamünd - Grafenstein
END:VEVENT
BEGIN:VEVENT
UID:20260422T223957UTC-75612VPamt@85.215.121.98
DTSTAMP:20260422T223957Z
DTSTART;TZID=Europe/Amsterdam:20170527T180000
DTEND;TZID=Europe/Amsterdam:20170527T194000
SUMMARY:K - 1. Klasse D 2016/17: Grafenstein - Mittlern
END:VEVENT
BEGIN:VEVENT
UID:20260422T223957UTC-7567ESWG1P@85.215.121.98
DTSTAMP:20260422T223957Z
DTSTART;TZID=Europe/Amsterdam:20170603T170000
DTEND;TZID=Europe/Amsterdam:20170603T184000
SUMMARY:K - 1. Klasse D 2016/17: Ferlach DSG - Grafenstein
END:VEVENT
BEGIN:VEVENT
UID:20260422T223957UTC-7577NmN8Co@85.215.121.98
DTSTAMP:20260422T223957Z
DTSTART;TZID=Europe/Amsterdam:20170610T180000
DTEND;TZID=Europe/Amsterdam:20170610T194000
SUMMARY:K - 1. Klasse D 2016/17: Grafenstein - SAK 1b
END:VEVENT
BEGIN:VEVENT
UID:20260422T223957UTC-7585SKJ5NZ@85.215.121.98
DTSTAMP:20260422T223957Z
DTSTART;TZID=Europe/Amsterdam:20170614T183000
DTEND;TZID=Europe/Amsterdam:20170614T201000
SUMMARY:K - 1. Klasse D 2016/17: St. Margareten/Ros. - Grafenstein
END:VEVENT
END:VCALENDAR
