BEGIN:VCALENDAR
VERSION:2.0
PRODID:-////NONSGML kigkonsult.se iCalcreator 2.18//
X-WR-TIMEZONE:Europe/Amsterdam
BEGIN:VTIMEZONE
TZID:Europe/Amsterdam
X-LIC-LOCATION:Europe/Amsterdam
BEGIN:STANDARD
DTSTART:20161030T030000
TZOFFSETFROM:+0200
TZOFFSETTO:+0100
RDATE:20171029T030000
TZNAME:CET
END:STANDARD
BEGIN:DAYLIGHT
DTSTART:20170326T020000
TZOFFSETFROM:+0100
TZOFFSETTO:+0200
RDATE:20180325T020000
TZNAME:CEST
END:DAYLIGHT
END:VTIMEZONE
BEGIN:VEVENT
UID:20260423T013801UTC-0251udGzDd@85.215.121.98
DTSTAMP:20260423T013801Z
DTSTART;TZID=Europe/Amsterdam:20160731T180000
DTEND;TZID=Europe/Amsterdam:20160731T194000
SUMMARY:K - 2. Klasse C 2016/17: Landskron 1b - FC Egg
END:VEVENT
BEGIN:VEVENT
UID:20260423T013801UTC-02586wUVJO@85.215.121.98
DTSTAMP:20260423T013801Z
DTSTART;TZID=Europe/Amsterdam:20160807T170000
DTEND;TZID=Europe/Amsterdam:20160807T184000
SUMMARY:K - 2. Klasse C 2016/17: Draschitz - FC Egg
END:VEVENT
BEGIN:VEVENT
UID:20260423T013801UTC-02653vin40@85.215.121.98
DTSTAMP:20260423T013801Z
DTSTART;TZID=Europe/Amsterdam:20160813T180000
DTEND;TZID=Europe/Amsterdam:20160813T194000
SUMMARY:K - 2. Klasse C 2016/17: FC Egg - Arnoldstein
END:VEVENT
BEGIN:VEVENT
UID:20260423T013801UTC-0271jFNx93@85.215.121.98
DTSTAMP:20260423T013801Z
DTSTART;TZID=Europe/Amsterdam:20160820T170000
DTEND;TZID=Europe/Amsterdam:20160820T184000
SUMMARY:K - 2. Klasse C 2016/17: SK Grafendorf - FC Egg
END:VEVENT
BEGIN:VEVENT
UID:20260423T013801UTC-0276Iiw69p@85.215.121.98
DTSTAMP:20260423T013801Z
DTSTART;TZID=Europe/Amsterdam:20160827T170000
DTEND;TZID=Europe/Amsterdam:20160827T184000
SUMMARY:K - 2. Klasse C 2016/17: FC Egg - Maria Gail
END:VEVENT
BEGIN:VEVENT
UID:20260423T013801UTC-0283egin67@85.215.121.98
DTSTAMP:20260423T013801Z
DTSTART;TZID=Europe/Amsterdam:20160903T173000
DTEND;TZID=Europe/Amsterdam:20160903T191000
SUMMARY:K - 2. Klasse C 2016/17: Afritz - FC Egg
END:VEVENT
BEGIN:VEVENT
UID:20260423T013801UTC-0288UvsRU8@85.215.121.98
DTSTAMP:20260423T013801Z
DTSTART;TZID=Europe/Amsterdam:20160911T170000
DTEND;TZID=Europe/Amsterdam:20160911T184000
SUMMARY:K - 2. Klasse C 2016/17: FC Egg - SG DSG Köstenberg/ASKÖ Techelsber
 g
END:VEVENT
BEGIN:VEVENT
UID:20260423T013801UTC-02941MKTVw@85.215.121.98
DTSTAMP:20260423T013801Z
DTSTART;TZID=Europe/Amsterdam:20160918T143000
DTEND;TZID=Europe/Amsterdam:20160918T161000
SUMMARY:K - 2. Klasse C 2016/17: Faakersee 1b - FC Egg
END:VEVENT
BEGIN:VEVENT
UID:20260423T013801UTC-0300gAibkJ@85.215.121.98
DTSTAMP:20260423T013801Z
DTSTART;TZID=Europe/Amsterdam:20160924T170000
DTEND;TZID=Europe/Amsterdam:20160924T184000
SUMMARY:K - 2. Klasse C 2016/17: FC Egg - Gitschtal
END:VEVENT
BEGIN:VEVENT
UID:20260423T013801UTC-0306tx2JVn@85.215.121.98
DTSTAMP:20260423T013801Z
DTSTART;TZID=Europe/Amsterdam:20161009T160000
DTEND;TZID=Europe/Amsterdam:20161009T174000
SUMMARY:K - 2. Klasse C 2016/17: FC Egg - Treffen
END:VEVENT
BEGIN:VEVENT
UID:20260423T013801UTC-0311Fkouk2@85.215.121.98
DTSTAMP:20260423T013801Z
DTSTART;TZID=Europe/Amsterdam:20161015T140000
DTEND;TZID=Europe/Amsterdam:20161015T154000
SUMMARY:K - 2. Klasse C 2016/17: IFC Villach - FC Egg
END:VEVENT
BEGIN:VEVENT
UID:20260423T013801UTC-0317okTDZl@85.215.121.98
DTSTAMP:20260423T013801Z
DTSTART;TZID=Europe/Amsterdam:20161023T153000
DTEND;TZID=Europe/Amsterdam:20161023T171000
SUMMARY:K - 2. Klasse C 2016/17: FC Egg - Arriach
END:VEVENT
BEGIN:VEVENT
UID:20260423T013801UTC-0323DjCZVC@85.215.121.98
DTSTAMP:20260423T013801Z
DTSTART;TZID=Europe/Amsterdam:20161026T110000
DTEND;TZID=Europe/Amsterdam:20161026T124000
SUMMARY:K - 2. Klasse C 2016/17: Kleinkirchheim - FC Egg
END:VEVENT
BEGIN:VEVENT
UID:20260423T013801UTC-0331AnWo56@85.215.121.98
DTSTAMP:20260423T013801Z
DTSTART;TZID=Europe/Amsterdam:20161030T150000
DTEND;TZID=Europe/Amsterdam:20161030T164000
SUMMARY:K - 2. Klasse C 2016/17: FC Egg - Weißenstein
END:VEVENT
BEGIN:VEVENT
UID:20260423T013801UTC-0336glFU3H@85.215.121.98
DTSTAMP:20260423T013801Z
DTSTART;TZID=Europe/Amsterdam:20161105T140000
DTEND;TZID=Europe/Amsterdam:20161105T154000
SUMMARY:K - 2. Klasse C 2016/17: FC Egg - Landskron 1b
END:VEVENT
BEGIN:VEVENT
UID:20260423T013801UTC-0341LmfhHW@85.215.121.98
DTSTAMP:20260423T013801Z
DTSTART;TZID=Europe/Amsterdam:20170325T150000
DTEND;TZID=Europe/Amsterdam:20170325T164000
SUMMARY:K - 2. Klasse C 2016/17: FC Egg - Draschitz
END:VEVENT
BEGIN:VEVENT
UID:20260423T013801UTC-0348UeBU3f@85.215.121.98
DTSTAMP:20260423T013801Z
DTSTART;TZID=Europe/Amsterdam:20170401T150000
DTEND;TZID=Europe/Amsterdam:20170401T164000
SUMMARY:K - 2. Klasse C 2016/17: Arnoldstein - FC Egg
END:VEVENT
BEGIN:VEVENT
UID:20260423T013801UTC-0355CZ3A6p@85.215.121.98
DTSTAMP:20260423T013801Z
DTSTART;TZID=Europe/Amsterdam:20170408T150000
DTEND;TZID=Europe/Amsterdam:20170408T164000
SUMMARY:K - 2. Klasse C 2016/17: FC Egg - SK Grafendorf
END:VEVENT
BEGIN:VEVENT
UID:20260423T013801UTC-0360o3jKmR@85.215.121.98
DTSTAMP:20260423T013801Z
DTSTART;TZID=Europe/Amsterdam:20170416T103000
DTEND;TZID=Europe/Amsterdam:20170416T121000
SUMMARY:K - 2. Klasse C 2016/17: Maria Gail - FC Egg
END:VEVENT
BEGIN:VEVENT
UID:20260423T013801UTC-036621nw57@85.215.121.98
DTSTAMP:20260423T013801Z
DTSTART;TZID=Europe/Amsterdam:20170423T160000
DTEND;TZID=Europe/Amsterdam:20170423T174000
SUMMARY:K - 2. Klasse C 2016/17: FC Egg - Afritz
END:VEVENT
BEGIN:VEVENT
UID:20260423T013801UTC-03719akCnx@85.215.121.98
DTSTAMP:20260423T013801Z
DTSTART;TZID=Europe/Amsterdam:20170429T163000
DTEND;TZID=Europe/Amsterdam:20170429T181000
SUMMARY:K - 2. Klasse C 2016/17: SG DSG Köstenberg/ASKÖ Techelsberg - FC Eg
 g
END:VEVENT
BEGIN:VEVENT
UID:20260423T013801UTC-0379tZBmfw@85.215.121.98
DTSTAMP:20260423T013801Z
DTSTART;TZID=Europe/Amsterdam:20170501T160000
DTEND;TZID=Europe/Amsterdam:20170501T174000
SUMMARY:K - 2. Klasse C 2016/17: FC Egg - Faakersee 1b
END:VEVENT
BEGIN:VEVENT
UID:20260423T013801UTC-03852MBOGe@85.215.121.98
DTSTAMP:20260423T013801Z
DTSTART;TZID=Europe/Amsterdam:20170507T150000
DTEND;TZID=Europe/Amsterdam:20170507T164000
SUMMARY:K - 2. Klasse C 2016/17: Gitschtal - FC Egg
END:VEVENT
BEGIN:VEVENT
UID:20260423T013801UTC-0390933Vzl@85.215.121.98
DTSTAMP:20260423T013801Z
DTSTART;TZID=Europe/Amsterdam:20170520T160000
DTEND;TZID=Europe/Amsterdam:20170520T174000
SUMMARY:K - 2. Klasse C 2016/17: Treffen - FC Egg
END:VEVENT
BEGIN:VEVENT
UID:20260423T013801UTC-0396xJ3vT1@85.215.121.98
DTSTAMP:20260423T013801Z
DTSTART;TZID=Europe/Amsterdam:20170525T170000
DTEND;TZID=Europe/Amsterdam:20170525T184000
SUMMARY:K - 2. Klasse C 2016/17: FC Egg - IFC Villach
END:VEVENT
BEGIN:VEVENT
UID:20260423T013801UTC-0402ZJeAZM@85.215.121.98
DTSTAMP:20260423T013801Z
DTSTART;TZID=Europe/Amsterdam:20170527T170000
DTEND;TZID=Europe/Amsterdam:20170527T184000
SUMMARY:K - 2. Klasse C 2016/17: Arriach - FC Egg
END:VEVENT
BEGIN:VEVENT
UID:20260423T013801UTC-0408JHi7EZ@85.215.121.98
DTSTAMP:20260423T013801Z
DTSTART;TZID=Europe/Amsterdam:20170603T150000
DTEND;TZID=Europe/Amsterdam:20170603T164000
SUMMARY:K - 2. Klasse C 2016/17: FC Egg - Kleinkirchheim
END:VEVENT
BEGIN:VEVENT
UID:20260423T013801UTC-0414vMzhUd@85.215.121.98
DTSTAMP:20260423T013801Z
DTSTART;TZID=Europe/Amsterdam:20170610T163000
DTEND;TZID=Europe/Amsterdam:20170610T181000
SUMMARY:K - 2. Klasse C 2016/17: Weißenstein - FC Egg
END:VEVENT
END:VCALENDAR
