BEGIN:VCALENDAR
VERSION:2.0
PRODID:-////NONSGML kigkonsult.se iCalcreator 2.18//
X-WR-TIMEZONE:Europe/Amsterdam
BEGIN:VTIMEZONE
TZID:Europe/Amsterdam
X-LIC-LOCATION:Europe/Amsterdam
BEGIN:STANDARD
DTSTART:20131027T030000
TZOFFSETFROM:+0200
TZOFFSETTO:+0100
RDATE:20141026T030000
TZNAME:CET
END:STANDARD
BEGIN:DAYLIGHT
DTSTART:20140330T020000
TZOFFSETFROM:+0100
TZOFFSETTO:+0200
RDATE:20150329T020000
TZNAME:CEST
END:DAYLIGHT
END:VTIMEZONE
BEGIN:VEVENT
UID:20260424T084611UTC-6771ZsVm6U@85.215.121.98
DTSTAMP:20260424T084611Z
DTSTART;TZID=Europe/Amsterdam:20130727T180000
DTEND;TZID=Europe/Amsterdam:20130727T194500
SUMMARY:K - 2. Klasse D 2013/14: Maria Rojach - Frantschach
END:VEVENT
BEGIN:VEVENT
UID:20260424T084611UTC-6778r2vuWi@85.215.121.98
DTSTAMP:20260424T084611Z
DTSTART;TZID=Europe/Amsterdam:20130803T170000
DTEND;TZID=Europe/Amsterdam:20130803T184500
SUMMARY:K - 2. Klasse D 2013/14: Frantschach - Sittersdorf
END:VEVENT
BEGIN:VEVENT
UID:20260424T084611UTC-67841o9zv6@85.215.121.98
DTSTAMP:20260424T084611Z
DTSTART;TZID=Europe/Amsterdam:20130811T170000
DTEND;TZID=Europe/Amsterdam:20130811T184500
SUMMARY:K - 2. Klasse D 2013/14: Lavamünd - Frantschach
END:VEVENT
BEGIN:VEVENT
UID:20260424T084611UTC-67902pZCbN@85.215.121.98
DTSTAMP:20260424T084611Z
DTSTART;TZID=Europe/Amsterdam:20130825T170000
DTEND;TZID=Europe/Amsterdam:20130825T184500
SUMMARY:K - 2. Klasse D 2013/14: Haimburg - Frantschach
END:VEVENT
BEGIN:VEVENT
UID:20260424T084611UTC-6796h8CHTZ@85.215.121.98
DTSTAMP:20260424T084611Z
DTSTART;TZID=Europe/Amsterdam:20130831T170000
DTEND;TZID=Europe/Amsterdam:20130831T184500
SUMMARY:K - 2. Klasse D 2013/14: Brückl - Frantschach
END:VEVENT
BEGIN:VEVENT
UID:20260424T084611UTC-6801uFuHNT@85.215.121.98
DTSTAMP:20260424T084611Z
DTSTART;TZID=Europe/Amsterdam:20130908T160000
DTEND;TZID=Europe/Amsterdam:20130908T174500
SUMMARY:K - 2. Klasse D 2013/14: Frantschach - Preitenegg
END:VEVENT
BEGIN:VEVENT
UID:20260424T084611UTC-6807k5mJkV@85.215.121.98
DTSTAMP:20260424T084611Z
DTSTART;TZID=Europe/Amsterdam:20130914T163000
DTEND;TZID=Europe/Amsterdam:20130914T181500
SUMMARY:K - 2. Klasse D 2013/14: Tainach - Frantschach
END:VEVENT
BEGIN:VEVENT
UID:20260424T084611UTC-681532zLeK@85.215.121.98
DTSTAMP:20260424T084611Z
DTSTART;TZID=Europe/Amsterdam:20130921T150000
DTEND;TZID=Europe/Amsterdam:20130921T164500
SUMMARY:K - 2. Klasse D 2013/14: Frantschach - Reichenfels
END:VEVENT
BEGIN:VEVENT
UID:20260424T084611UTC-68217mfM5d@85.215.121.98
DTSTAMP:20260424T084611Z
DTSTART;TZID=Europe/Amsterdam:20130928T160000
DTEND;TZID=Europe/Amsterdam:20130928T174500
SUMMARY:K - 2. Klasse D 2013/14: Eberndorf 1b - Frantschach
END:VEVENT
BEGIN:VEVENT
UID:20260424T084611UTC-6827xI4AuU@85.215.121.98
DTSTAMP:20260424T084611Z
DTSTART;TZID=Europe/Amsterdam:20131006T150000
DTEND;TZID=Europe/Amsterdam:20131006T164500
SUMMARY:K - 2. Klasse D 2013/14: Frantschach - St.  Peter/Wallersberg
END:VEVENT
BEGIN:VEVENT
UID:20260424T084611UTC-6836pv67G0@85.215.121.98
DTSTAMP:20260424T084611Z
DTSTART;TZID=Europe/Amsterdam:20131013T150000
DTEND;TZID=Europe/Amsterdam:20131013T164500
SUMMARY:K - 2. Klasse D 2013/14: Grafenstein - Frantschach
END:VEVENT
BEGIN:VEVENT
UID:20260424T084611UTC-6845TOTUOO@85.215.121.98
DTSTAMP:20260424T084611Z
DTSTART;TZID=Europe/Amsterdam:20131020T150000
DTEND;TZID=Europe/Amsterdam:20131020T164500
SUMMARY:K - 2. Klasse D 2013/14: Frantschach - Diex
END:VEVENT
BEGIN:VEVENT
UID:20260424T084611UTC-6853UgTmwf@85.215.121.98
DTSTAMP:20260424T084611Z
DTSTART;TZID=Europe/Amsterdam:20131026T140000
DTEND;TZID=Europe/Amsterdam:20131026T154500
SUMMARY:K - 2. Klasse D 2013/14: Frantschach - Maria Rojach
END:VEVENT
BEGIN:VEVENT
UID:20260424T084611UTC-6859b6MP4M@85.215.121.98
DTSTAMP:20260424T084611Z
DTSTART;TZID=Europe/Amsterdam:20131103T110000
DTEND;TZID=Europe/Amsterdam:20131103T124500
SUMMARY:K - 2. Klasse D 2013/14: Sittersdorf - Frantschach
END:VEVENT
BEGIN:VEVENT
UID:20260424T084611UTC-6864fUClHu@85.215.121.98
DTSTAMP:20260424T084611Z
DTSTART;TZID=Europe/Amsterdam:20140330T143000
DTEND;TZID=Europe/Amsterdam:20140330T161500
SUMMARY:K - 2. Klasse D 2013/14: Frantschach - Lavamünd
END:VEVENT
BEGIN:VEVENT
UID:20260424T084611UTC-6870Hut7oo@85.215.121.98
DTSTAMP:20260424T084611Z
DTSTART;TZID=Europe/Amsterdam:20140413T143000
DTEND;TZID=Europe/Amsterdam:20140413T161500
SUMMARY:K - 2. Klasse D 2013/14: Frantschach - Haimburg
END:VEVENT
BEGIN:VEVENT
UID:20260424T084611UTC-6876Muuu1B@85.215.121.98
DTSTAMP:20260424T084611Z
DTSTART;TZID=Europe/Amsterdam:20140419T150000
DTEND;TZID=Europe/Amsterdam:20140419T164500
SUMMARY:K - 2. Klasse D 2013/14: Frantschach - Brückl
END:VEVENT
BEGIN:VEVENT
UID:20260424T084611UTC-6881OwKd5C@85.215.121.98
DTSTAMP:20260424T084611Z
DTSTART;TZID=Europe/Amsterdam:20140427T160000
DTEND;TZID=Europe/Amsterdam:20140427T174500
SUMMARY:K - 2. Klasse D 2013/14: Preitenegg - Frantschach
END:VEVENT
BEGIN:VEVENT
UID:20260424T084611UTC-68877vkX99@85.215.121.98
DTSTAMP:20260424T084611Z
DTSTART;TZID=Europe/Amsterdam:20140503T160000
DTEND;TZID=Europe/Amsterdam:20140503T174500
SUMMARY:K - 2. Klasse D 2013/14: Frantschach - Tainach
END:VEVENT
BEGIN:VEVENT
UID:20260424T084611UTC-6894o8ZXCC@85.215.121.98
DTSTAMP:20260424T084611Z
DTSTART;TZID=Europe/Amsterdam:20140510T160000
DTEND;TZID=Europe/Amsterdam:20140510T174500
SUMMARY:K - 2. Klasse D 2013/14: Reichenfels - Frantschach
END:VEVENT
BEGIN:VEVENT
UID:20260424T084611UTC-6899SsZWkv@85.215.121.98
DTSTAMP:20260424T084611Z
DTSTART;TZID=Europe/Amsterdam:20140517T170000
DTEND;TZID=Europe/Amsterdam:20140517T184500
SUMMARY:K - 2. Klasse D 2013/14: Frantschach - Eberndorf 1b
END:VEVENT
BEGIN:VEVENT
UID:20260424T084611UTC-6906K5FXEL@85.215.121.98
DTSTAMP:20260424T084611Z
DTSTART;TZID=Europe/Amsterdam:20140525T170000
DTEND;TZID=Europe/Amsterdam:20140525T184500
SUMMARY:K - 2. Klasse D 2013/14: St.  Peter/Wallersberg - Frantschach
END:VEVENT
BEGIN:VEVENT
UID:20260424T084611UTC-6913hC7uan@85.215.121.98
DTSTAMP:20260424T084611Z
DTSTART;TZID=Europe/Amsterdam:20140531T170000
DTEND;TZID=Europe/Amsterdam:20140531T184500
SUMMARY:K - 2. Klasse D 2013/14: Frantschach - Grafenstein
END:VEVENT
BEGIN:VEVENT
UID:20260424T084611UTC-6918jclxgU@85.215.121.98
DTSTAMP:20260424T084611Z
DTSTART;TZID=Europe/Amsterdam:20140614T180000
DTEND;TZID=Europe/Amsterdam:20140614T194500
SUMMARY:K - 2. Klasse D 2013/14: Diex - Frantschach
END:VEVENT
END:VCALENDAR
