BEGIN:VCALENDAR
VERSION:2.0
PRODID:-////NONSGML kigkonsult.se iCalcreator 2.18//
X-WR-TIMEZONE:Europe/Amsterdam
BEGIN:VTIMEZONE
TZID:Europe/Amsterdam
X-LIC-LOCATION:Europe/Amsterdam
BEGIN:STANDARD
DTSTART:20101031T030000
TZOFFSETFROM:+0200
TZOFFSETTO:+0100
RDATE:20111030T030000
TZNAME:CET
END:STANDARD
BEGIN:DAYLIGHT
DTSTART:20110327T020000
TZOFFSETFROM:+0100
TZOFFSETTO:+0200
RDATE:20120325T020000
TZNAME:CEST
END:DAYLIGHT
END:VTIMEZONE
BEGIN:VEVENT
UID:20260420T101739UTC-30055McWkN@85.215.121.98
DTSTAMP:20260420T101739Z
DTSTART;TZID=Europe/Amsterdam:20100731T180000
DTEND;TZID=Europe/Amsterdam:20100731T194500
SUMMARY:K - 2. Klasse D 2010/11: Preitenegg - Waisenberg
END:VEVENT
BEGIN:VEVENT
UID:20260420T101739UTC-3012IpoVBk@85.215.121.98
DTSTAMP:20260420T101739Z
DTSTART;TZID=Europe/Amsterdam:20100808T103000
DTEND;TZID=Europe/Amsterdam:20100808T121500
SUMMARY:K - 2. Klasse D 2010/11: Donau - Preitenegg
END:VEVENT
BEGIN:VEVENT
UID:20260420T101739UTC-3017Cxiuax@85.215.121.98
DTSTAMP:20260420T101739Z
DTSTART;TZID=Europe/Amsterdam:20100815T150000
DTEND;TZID=Europe/Amsterdam:20100815T164500
SUMMARY:K - 2. Klasse D 2010/11: Preitenegg - Gurnitz
END:VEVENT
BEGIN:VEVENT
UID:20260420T101739UTC-30258fm7CM@85.215.121.98
DTSTAMP:20260420T101739Z
DTSTART;TZID=Europe/Amsterdam:20100822T173000
DTEND;TZID=Europe/Amsterdam:20100822T191500
SUMMARY:K - 2. Klasse D 2010/11: Klopeiner See - Preitenegg
END:VEVENT
BEGIN:VEVENT
UID:20260420T101739UTC-3030lM3U45@85.215.121.98
DTSTAMP:20260420T101739Z
DTSTART;TZID=Europe/Amsterdam:20100829T150000
DTEND;TZID=Europe/Amsterdam:20100829T164500
SUMMARY:K - 2. Klasse D 2010/11: Preitenegg - Haimburg
END:VEVENT
BEGIN:VEVENT
UID:20260420T101739UTC-3036eUfa80@85.215.121.98
DTSTAMP:20260420T101739Z
DTSTART;TZID=Europe/Amsterdam:20100905T150000
DTEND;TZID=Europe/Amsterdam:20100905T164500
SUMMARY:K - 2. Klasse D 2010/11: Preitenegg - St. Stefan/Lav.
END:VEVENT
BEGIN:VEVENT
UID:20260420T101739UTC-3041NKXD6A@85.215.121.98
DTSTAMP:20260420T101739Z
DTSTART;TZID=Europe/Amsterdam:20100911T170000
DTEND;TZID=Europe/Amsterdam:20100911T184500
SUMMARY:K - 2. Klasse D 2010/11: SV Magdalensberg - Preitenegg
END:VEVENT
BEGIN:VEVENT
UID:20260420T101739UTC-3050uT54sH@85.215.121.98
DTSTAMP:20260420T101739Z
DTSTART;TZID=Europe/Amsterdam:20100926T103000
DTEND;TZID=Europe/Amsterdam:20100926T121500
SUMMARY:K - 2. Klasse D 2010/11: ASK Klagenfurt - Preitenegg
END:VEVENT
BEGIN:VEVENT
UID:20260420T101739UTC-3057SIw1vH@85.215.121.98
DTSTAMP:20260420T101739Z
DTSTART;TZID=Europe/Amsterdam:20101003T150000
DTEND;TZID=Europe/Amsterdam:20101003T164500
SUMMARY:K - 2. Klasse D 2010/11: Preitenegg - Frantschach
END:VEVENT
BEGIN:VEVENT
UID:20260420T101739UTC-3064I04s1k@85.215.121.98
DTSTAMP:20260420T101739Z
DTSTART;TZID=Europe/Amsterdam:20101010T153000
DTEND;TZID=Europe/Amsterdam:20101010T171500
SUMMARY:K - 2. Klasse D 2010/11: Lavamünd - Preitenegg
END:VEVENT
BEGIN:VEVENT
UID:20260420T101739UTC-307030e61V@85.215.121.98
DTSTAMP:20260420T101739Z
DTSTART;TZID=Europe/Amsterdam:20101023T150000
DTEND;TZID=Europe/Amsterdam:20101023T164500
SUMMARY:K - 2. Klasse D 2010/11: Bad St. Leonhard - Preitenegg
END:VEVENT
BEGIN:VEVENT
UID:20260420T101739UTC-3079k3KUXA@85.215.121.98
DTSTAMP:20260420T101739Z
DTSTART;TZID=Europe/Amsterdam:20101026T150000
DTEND;TZID=Europe/Amsterdam:20101026T164500
SUMMARY:K - 2. Klasse D 2010/11: Preitenegg - Grafenstein
END:VEVENT
BEGIN:VEVENT
UID:20260420T101739UTC-3085ePaJ7F@85.215.121.98
DTSTAMP:20260420T101739Z
DTSTART;TZID=Europe/Amsterdam:20101031T143000
DTEND;TZID=Europe/Amsterdam:20101031T161500
SUMMARY:K - 2. Klasse D 2010/11: Diex - Preitenegg
END:VEVENT
BEGIN:VEVENT
UID:20260420T101739UTC-3091PNW8Ll@85.215.121.98
DTSTAMP:20260420T101739Z
DTSTART;TZID=Europe/Amsterdam:20101106T140000
DTEND;TZID=Europe/Amsterdam:20101106T154500
SUMMARY:K - 2. Klasse D 2010/11: Waisenberg - Preitenegg
END:VEVENT
BEGIN:VEVENT
UID:20260420T101739UTC-3096EFGzdS@85.215.121.98
DTSTAMP:20260420T101739Z
DTSTART;TZID=Europe/Amsterdam:20101113T141500
DTEND;TZID=Europe/Amsterdam:20101113T160000
SUMMARY:K - 2. Klasse D 2010/11: Preitenegg - Eitweg
END:VEVENT
BEGIN:VEVENT
UID:20260420T101739UTC-31028JU9Kw@85.215.121.98
DTSTAMP:20260420T101739Z
DTSTART;TZID=Europe/Amsterdam:20110320T150000
DTEND;TZID=Europe/Amsterdam:20110320T164500
SUMMARY:K - 2. Klasse D 2010/11: Preitenegg - Donau
END:VEVENT
BEGIN:VEVENT
UID:20260420T101739UTC-3110Dc1rGa@85.215.121.98
DTSTAMP:20260420T101739Z
DTSTART;TZID=Europe/Amsterdam:20110327T130000
DTEND;TZID=Europe/Amsterdam:20110327T144500
SUMMARY:K - 2. Klasse D 2010/11: Gurnitz - Preitenegg
END:VEVENT
BEGIN:VEVENT
UID:20260420T101739UTC-3116hm9iJk@85.215.121.98
DTSTAMP:20260420T101739Z
DTSTART;TZID=Europe/Amsterdam:20110403T150000
DTEND;TZID=Europe/Amsterdam:20110403T164500
SUMMARY:K - 2. Klasse D 2010/11: Preitenegg - Klopeiner See
END:VEVENT
BEGIN:VEVENT
UID:20260420T101739UTC-3122tRUIv4@85.215.121.98
DTSTAMP:20260420T101739Z
DTSTART;TZID=Europe/Amsterdam:20110410T153000
DTEND;TZID=Europe/Amsterdam:20110410T171500
SUMMARY:K - 2. Klasse D 2010/11: Haimburg - Preitenegg
END:VEVENT
BEGIN:VEVENT
UID:20260420T101739UTC-3131hOrMvX@85.215.121.98
DTSTAMP:20260420T101739Z
DTSTART;TZID=Europe/Amsterdam:20110416T160000
DTEND;TZID=Europe/Amsterdam:20110416T174500
SUMMARY:K - 2. Klasse D 2010/11: St. Stefan/Lav. - Preitenegg
END:VEVENT
BEGIN:VEVENT
UID:20260420T101739UTC-3137AvWTM6@85.215.121.98
DTSTAMP:20260420T101739Z
DTSTART;TZID=Europe/Amsterdam:20110423T150000
DTEND;TZID=Europe/Amsterdam:20110423T164500
SUMMARY:K - 2. Klasse D 2010/11: Preitenegg - SV Magdalensberg
END:VEVENT
BEGIN:VEVENT
UID:20260420T101739UTC-3143B9h3FC@85.215.121.98
DTSTAMP:20260420T101739Z
DTSTART;TZID=Europe/Amsterdam:20110425T150000
DTEND;TZID=Europe/Amsterdam:20110425T164500
SUMMARY:K - 2. Klasse D 2010/11: Preitenegg - Tainach
END:VEVENT
BEGIN:VEVENT
UID:20260420T101739UTC-3149CGVaaC@85.215.121.98
DTSTAMP:20260420T101739Z
DTSTART;TZID=Europe/Amsterdam:20110430T150000
DTEND;TZID=Europe/Amsterdam:20110430T164500
SUMMARY:K - 2. Klasse D 2010/11: Eitweg - Preitenegg
END:VEVENT
BEGIN:VEVENT
UID:20260420T101739UTC-3154uUClvh@85.215.121.98
DTSTAMP:20260420T101739Z
DTSTART;TZID=Europe/Amsterdam:20110508T163000
DTEND;TZID=Europe/Amsterdam:20110508T181500
SUMMARY:K - 2. Klasse D 2010/11: Preitenegg - ASK Klagenfurt
END:VEVENT
BEGIN:VEVENT
UID:20260420T101739UTC-31616j9wC3@85.215.121.98
DTSTAMP:20260420T101739Z
DTSTART;TZID=Europe/Amsterdam:20110515T163000
DTEND;TZID=Europe/Amsterdam:20110515T181500
SUMMARY:K - 2. Klasse D 2010/11: Frantschach - Preitenegg
END:VEVENT
BEGIN:VEVENT
UID:20260420T101739UTC-3166c4rrgS@85.215.121.98
DTSTAMP:20260420T101739Z
DTSTART;TZID=Europe/Amsterdam:20110522T150000
DTEND;TZID=Europe/Amsterdam:20110522T164500
SUMMARY:K - 2. Klasse D 2010/11: Preitenegg - Lavamünd
END:VEVENT
BEGIN:VEVENT
UID:20260420T101739UTC-31727M7znA@85.215.121.98
DTSTAMP:20260420T101739Z
DTSTART;TZID=Europe/Amsterdam:20110529T160000
DTEND;TZID=Europe/Amsterdam:20110529T174500
SUMMARY:K - 2. Klasse D 2010/11: Tainach - Preitenegg
END:VEVENT
BEGIN:VEVENT
UID:20260420T101739UTC-3178n9J9tp@85.215.121.98
DTSTAMP:20260420T101739Z
DTSTART;TZID=Europe/Amsterdam:20110602T150000
DTEND;TZID=Europe/Amsterdam:20110602T164500
SUMMARY:K - 2. Klasse D 2010/11: Preitenegg - Bad St. Leonhard
END:VEVENT
BEGIN:VEVENT
UID:20260420T101739UTC-3184jAvvuV@85.215.121.98
DTSTAMP:20260420T101739Z
DTSTART;TZID=Europe/Amsterdam:20110607T183000
DTEND;TZID=Europe/Amsterdam:20110607T201500
SUMMARY:K - 2. Klasse D 2010/11: Grafenstein - Preitenegg
END:VEVENT
BEGIN:VEVENT
UID:20260420T101739UTC-3190ewUhzs@85.215.121.98
DTSTAMP:20260420T101739Z
DTSTART;TZID=Europe/Amsterdam:20110610T183000
DTEND;TZID=Europe/Amsterdam:20110610T201500
SUMMARY:K - 2. Klasse D 2010/11: Preitenegg - Diex
END:VEVENT
END:VCALENDAR
