BEGIN:VCALENDAR
VERSION:2.0
PRODID:-////NONSGML kigkonsult.se iCalcreator 2.18//
X-WR-TIMEZONE:Europe/Amsterdam
BEGIN:VTIMEZONE
TZID:Europe/Amsterdam
X-LIC-LOCATION:Europe/Amsterdam
BEGIN:STANDARD
DTSTART:20071028T030000
TZOFFSETFROM:+0200
TZOFFSETTO:+0100
RDATE:20081026T030000
TZNAME:CET
END:STANDARD
BEGIN:DAYLIGHT
DTSTART:20080330T020000
TZOFFSETFROM:+0100
TZOFFSETTO:+0200
RDATE:20090329T020000
TZNAME:CEST
END:DAYLIGHT
END:VTIMEZONE
BEGIN:VEVENT
UID:20260420T085736UTC-0365ed59A8@85.215.121.98
DTSTAMP:20260420T085736Z
DTSTART;TZID=Europe/Amsterdam:20070728T180000
DTEND;TZID=Europe/Amsterdam:20070728T194500
SUMMARY:K - 2. Klasse D 2007/08: Reichenfels - Gallizien
END:VEVENT
BEGIN:VEVENT
UID:20260420T085736UTC-0375oPgPk1@85.215.121.98
DTSTAMP:20260420T085736Z
DTSTART;TZID=Europe/Amsterdam:20070804T160000
DTEND;TZID=Europe/Amsterdam:20070804T174500
SUMMARY:K - 2. Klasse D 2007/08: Bad St. Leonhard - Reichenfels
END:VEVENT
BEGIN:VEVENT
UID:20260420T085736UTC-0380l90eah@85.215.121.98
DTSTAMP:20260420T085736Z
DTSTART;TZID=Europe/Amsterdam:20070811T180000
DTEND;TZID=Europe/Amsterdam:20070811T194500
SUMMARY:K - 2. Klasse D 2007/08: Reichenfels - SV Magdalensberg
END:VEVENT
BEGIN:VEVENT
UID:20260420T085736UTC-0385SaLiSb@85.215.121.98
DTSTAMP:20260420T085736Z
DTSTART;TZID=Europe/Amsterdam:20070815T173000
DTEND;TZID=Europe/Amsterdam:20070815T191500
SUMMARY:K - 2. Klasse D 2007/08: Waisenberg - Reichenfels
END:VEVENT
BEGIN:VEVENT
UID:20260420T085736UTC-0390SWNgHG@85.215.121.98
DTSTAMP:20260420T085736Z
DTSTART;TZID=Europe/Amsterdam:20070825T170000
DTEND;TZID=Europe/Amsterdam:20070825T184500
SUMMARY:K - 2. Klasse D 2007/08: Diex - Reichenfels
END:VEVENT
BEGIN:VEVENT
UID:20260420T085736UTC-0398i9lsa2@85.215.121.98
DTSTAMP:20260420T085736Z
DTSTART;TZID=Europe/Amsterdam:20070901T170000
DTEND;TZID=Europe/Amsterdam:20070901T184500
SUMMARY:K - 2. Klasse D 2007/08: Reichenfels - Klopeiner See
END:VEVENT
BEGIN:VEVENT
UID:20260420T085736UTC-0405wiH0dL@85.215.121.98
DTSTAMP:20260420T085736Z
DTSTART;TZID=Europe/Amsterdam:20070909T170000
DTEND;TZID=Europe/Amsterdam:20070909T184500
SUMMARY:K - 2. Klasse D 2007/08: FC Poggersdorf - Reichenfels
END:VEVENT
BEGIN:VEVENT
UID:20260420T085736UTC-0411pAuobC@85.215.121.98
DTSTAMP:20260420T085736Z
DTSTART;TZID=Europe/Amsterdam:20070915T170000
DTEND;TZID=Europe/Amsterdam:20070915T184500
SUMMARY:K - 2. Klasse D 2007/08: Reichenfels - Eitweg
END:VEVENT
BEGIN:VEVENT
UID:20260420T085736UTC-0420zfblUm@85.215.121.98
DTSTAMP:20260420T085736Z
DTSTART;TZID=Europe/Amsterdam:20070922T150000
DTEND;TZID=Europe/Amsterdam:20070922T164500
SUMMARY:K - 2. Klasse D 2007/08: Rückersdorf - Reichenfels
END:VEVENT
BEGIN:VEVENT
UID:20260420T085736UTC-0425TV8k5b@85.215.121.98
DTSTAMP:20260420T085736Z
DTSTART;TZID=Europe/Amsterdam:20070929T160000
DTEND;TZID=Europe/Amsterdam:20070929T174500
SUMMARY:K - 2. Klasse D 2007/08: Reichenfels - Tainach
END:VEVENT
BEGIN:VEVENT
UID:20260420T085736UTC-0430UsH6VJ@85.215.121.98
DTSTAMP:20260420T085736Z
DTSTART;TZID=Europe/Amsterdam:20071006T153000
DTEND;TZID=Europe/Amsterdam:20071006T171500
SUMMARY:K - 2. Klasse D 2007/08: Gurnitz - Reichenfels
END:VEVENT
BEGIN:VEVENT
UID:20260420T085736UTC-0435kgaCpC@85.215.121.98
DTSTAMP:20260420T085736Z
DTSTART;TZID=Europe/Amsterdam:20071013T150000
DTEND;TZID=Europe/Amsterdam:20071013T164500
SUMMARY:K - 2. Klasse D 2007/08: Reichenfels - Preitenegg
END:VEVENT
BEGIN:VEVENT
UID:20260420T085736UTC-0442WRuV8W@85.215.121.98
DTSTAMP:20260420T085736Z
DTSTART;TZID=Europe/Amsterdam:20071021T150000
DTEND;TZID=Europe/Amsterdam:20071021T164500
SUMMARY:K - 2. Klasse D 2007/08: Gallizien - Reichenfels
END:VEVENT
BEGIN:VEVENT
UID:20260420T085736UTC-04488LO3zz@85.215.121.98
DTSTAMP:20260420T085736Z
DTSTART;TZID=Europe/Amsterdam:20071027T140000
DTEND;TZID=Europe/Amsterdam:20071027T154500
SUMMARY:K - 2. Klasse D 2007/08: Reichenfels - Bad St. Leonhard
END:VEVENT
BEGIN:VEVENT
UID:20260420T085736UTC-0454SpRMiG@85.215.121.98
DTSTAMP:20260420T085736Z
DTSTART;TZID=Europe/Amsterdam:20071104T150000
DTEND;TZID=Europe/Amsterdam:20071104T164500
SUMMARY:K - 2. Klasse D 2007/08: SV Magdalensberg - Reichenfels
END:VEVENT
BEGIN:VEVENT
UID:20260420T085736UTC-0459Kp88v0@85.215.121.98
DTSTAMP:20260420T085736Z
DTSTART;TZID=Europe/Amsterdam:20080322T160000
DTEND;TZID=Europe/Amsterdam:20080322T174500
SUMMARY:K - 2. Klasse D 2007/08: Reichenfels - Waisenberg
END:VEVENT
BEGIN:VEVENT
UID:20260420T085736UTC-0465bu8HH0@85.215.121.98
DTSTAMP:20260420T085736Z
DTSTART;TZID=Europe/Amsterdam:20080405T170000
DTEND;TZID=Europe/Amsterdam:20080405T184500
SUMMARY:K - 2. Klasse D 2007/08: Reichenfels - Diex
END:VEVENT
BEGIN:VEVENT
UID:20260420T085736UTC-0470E6vx0H@85.215.121.98
DTSTAMP:20260420T085736Z
DTSTART;TZID=Europe/Amsterdam:20080413T163000
DTEND;TZID=Europe/Amsterdam:20080413T181500
SUMMARY:K - 2. Klasse D 2007/08: Klopeiner See - Reichenfels
END:VEVENT
BEGIN:VEVENT
UID:20260420T085736UTC-0475UVrSpl@85.215.121.98
DTSTAMP:20260420T085736Z
DTSTART;TZID=Europe/Amsterdam:20080419T170000
DTEND;TZID=Europe/Amsterdam:20080419T184500
SUMMARY:K - 2. Klasse D 2007/08: Reichenfels - FC Poggersdorf
END:VEVENT
BEGIN:VEVENT
UID:20260420T085736UTC-0480TF6xUr@85.215.121.98
DTSTAMP:20260420T085736Z
DTSTART;TZID=Europe/Amsterdam:20080427T170000
DTEND;TZID=Europe/Amsterdam:20080427T184500
SUMMARY:K - 2. Klasse D 2007/08: Eitweg - Reichenfels
END:VEVENT
BEGIN:VEVENT
UID:20260420T085736UTC-0488vc1iHd@85.215.121.98
DTSTAMP:20260420T085736Z
DTSTART;TZID=Europe/Amsterdam:20080503T170000
DTEND;TZID=Europe/Amsterdam:20080503T184500
SUMMARY:K - 2. Klasse D 2007/08: Reichenfels - Rückersdorf
END:VEVENT
BEGIN:VEVENT
UID:20260420T085736UTC-0494Ex2dRo@85.215.121.98
DTSTAMP:20260420T085736Z
DTSTART;TZID=Europe/Amsterdam:20080517T150000
DTEND;TZID=Europe/Amsterdam:20080517T164500
SUMMARY:K - 2. Klasse D 2007/08: Tainach - Reichenfels
END:VEVENT
BEGIN:VEVENT
UID:20260420T085736UTC-0499wSWPIO@85.215.121.98
DTSTAMP:20260420T085736Z
DTSTART;TZID=Europe/Amsterdam:20080524T170000
DTEND;TZID=Europe/Amsterdam:20080524T184500
SUMMARY:K - 2. Klasse D 2007/08: Reichenfels - Gurnitz
END:VEVENT
BEGIN:VEVENT
UID:20260420T085736UTC-0507R2H7mj@85.215.121.98
DTSTAMP:20260420T085736Z
DTSTART;TZID=Europe/Amsterdam:20080601T173000
DTEND;TZID=Europe/Amsterdam:20080601T191500
SUMMARY:K - 2. Klasse D 2007/08: Preitenegg - Reichenfels
END:VEVENT
END:VCALENDAR
