BEGIN:VCALENDAR
VERSION:2.0
PRODID:-////NONSGML kigkonsult.se iCalcreator 2.18//
X-WR-TIMEZONE:Europe/Amsterdam
BEGIN:VTIMEZONE
TZID:Europe/Amsterdam
X-LIC-LOCATION:Europe/Amsterdam
BEGIN:STANDARD
DTSTART:20061029T030000
TZOFFSETFROM:+0200
TZOFFSETTO:+0100
RDATE:20071028T030000
TZNAME:CET
END:STANDARD
BEGIN:DAYLIGHT
DTSTART:20070325T020000
TZOFFSETFROM:+0100
TZOFFSETTO:+0200
RDATE:20080330T020000
TZNAME:CEST
END:DAYLIGHT
END:VTIMEZONE
BEGIN:VEVENT
UID:20260420T154017UTC-4021aa9bGU@85.215.121.98
DTSTAMP:20260420T154017Z
DTSTART;TZID=Europe/Amsterdam:20060729T180000
DTEND;TZID=Europe/Amsterdam:20060729T194500
SUMMARY:K - 2. Klasse D 2006/07: Grafenstein - Haimburg
END:VEVENT
BEGIN:VEVENT
UID:20260420T154017UTC-4027r1tveW@85.215.121.98
DTSTAMP:20260420T154017Z
DTSTART;TZID=Europe/Amsterdam:20060806T170000
DTEND;TZID=Europe/Amsterdam:20060806T184500
SUMMARY:K - 2. Klasse D 2006/07: SG FC Poggersdorf - Grafenstein
END:VEVENT
BEGIN:VEVENT
UID:20260420T154017UTC-4033fKxDaW@85.215.121.98
DTSTAMP:20260420T154017Z
DTSTART;TZID=Europe/Amsterdam:20060812T173000
DTEND;TZID=Europe/Amsterdam:20060812T191500
SUMMARY:K - 2. Klasse D 2006/07: Grafenstein - Ochsendorf
END:VEVENT
BEGIN:VEVENT
UID:20260420T154017UTC-4041KSzawP@85.215.121.98
DTSTAMP:20260420T154017Z
DTSTART;TZID=Europe/Amsterdam:20060819T173000
DTEND;TZID=Europe/Amsterdam:20060819T191500
SUMMARY:K - 2. Klasse D 2006/07: Gallizien - Grafenstein
END:VEVENT
BEGIN:VEVENT
UID:20260420T154017UTC-40468zZNnC@85.215.121.98
DTSTAMP:20260420T154017Z
DTSTART;TZID=Europe/Amsterdam:20060826T173000
DTEND;TZID=Europe/Amsterdam:20060826T191500
SUMMARY:K - 2. Klasse D 2006/07: Grafenstein - Gurnitz
END:VEVENT
BEGIN:VEVENT
UID:20260420T154017UTC-4052vRlHuU@85.215.121.98
DTSTAMP:20260420T154017Z
DTSTART;TZID=Europe/Amsterdam:20060902T170000
DTEND;TZID=Europe/Amsterdam:20060902T184500
SUMMARY:K - 2. Klasse D 2006/07: Reichenfels - Grafenstein
END:VEVENT
BEGIN:VEVENT
UID:20260420T154017UTC-4057anlVvB@85.215.121.98
DTSTAMP:20260420T154017Z
DTSTART;TZID=Europe/Amsterdam:20060910T103000
DTEND;TZID=Europe/Amsterdam:20060910T121500
SUMMARY:K - 2. Klasse D 2006/07: Grafenstein - St.  Peter/Wallersberg
END:VEVENT
BEGIN:VEVENT
UID:20260420T154017UTC-40633We30b@85.215.121.98
DTSTAMP:20260420T154017Z
DTSTART;TZID=Europe/Amsterdam:20060917T170000
DTEND;TZID=Europe/Amsterdam:20060917T184500
SUMMARY:K - 2. Klasse D 2006/07: Preitenegg - Grafenstein
END:VEVENT
BEGIN:VEVENT
UID:20260420T154017UTC-40697tujc2@85.215.121.98
DTSTAMP:20260420T154017Z
DTSTART;TZID=Europe/Amsterdam:20060930T160000
DTEND;TZID=Europe/Amsterdam:20060930T174500
SUMMARY:K - 2. Klasse D 2006/07: Grafenstein - SV Magdalensberg
END:VEVENT
BEGIN:VEVENT
UID:20260420T154017UTC-4076heV5D3@85.215.121.98
DTSTAMP:20260420T154017Z
DTSTART;TZID=Europe/Amsterdam:20061008T160000
DTEND;TZID=Europe/Amsterdam:20061008T174500
SUMMARY:K - 2. Klasse D 2006/07: Klopeiner See - Grafenstein
END:VEVENT
BEGIN:VEVENT
UID:20260420T154017UTC-4084EReaoO@85.215.121.98
DTSTAMP:20260420T154017Z
DTSTART;TZID=Europe/Amsterdam:20061015T103000
DTEND;TZID=Europe/Amsterdam:20061015T121500
SUMMARY:K - 2. Klasse D 2006/07: Grafenstein - Tainach
END:VEVENT
BEGIN:VEVENT
UID:20260420T154017UTC-40918cwI2N@85.215.121.98
DTSTAMP:20260420T154017Z
DTSTART;TZID=Europe/Amsterdam:20061022T150000
DTEND;TZID=Europe/Amsterdam:20061022T164500
SUMMARY:K - 2. Klasse D 2006/07: Eitweg - Grafenstein
END:VEVENT
BEGIN:VEVENT
UID:20260420T154017UTC-4097iKTTVI@85.215.121.98
DTSTAMP:20260420T154017Z
DTSTART;TZID=Europe/Amsterdam:20061026T150000
DTEND;TZID=Europe/Amsterdam:20061026T164500
SUMMARY:K - 2. Klasse D 2006/07: Grafenstein - Waisenberg
END:VEVENT
BEGIN:VEVENT
UID:20260420T154017UTC-4103PpINIA@85.215.121.98
DTSTAMP:20260420T154017Z
DTSTART;TZID=Europe/Amsterdam:20061029T140000
DTEND;TZID=Europe/Amsterdam:20061029T154500
SUMMARY:K - 2. Klasse D 2006/07: Diex - Grafenstein
END:VEVENT
BEGIN:VEVENT
UID:20260420T154017UTC-4109vXf1X4@85.215.121.98
DTSTAMP:20260420T154017Z
DTSTART;TZID=Europe/Amsterdam:20061105T140000
DTEND;TZID=Europe/Amsterdam:20061105T154500
SUMMARY:K - 2. Klasse D 2006/07: Haimburg - Grafenstein
END:VEVENT
BEGIN:VEVENT
UID:20260420T154017UTC-41141BKUF9@85.215.121.98
DTSTAMP:20260420T154017Z
DTSTART;TZID=Europe/Amsterdam:20061111T143000
DTEND;TZID=Europe/Amsterdam:20061111T161500
SUMMARY:K - 2. Klasse D 2006/07: Grafenstein - SG FC Poggersdorf
END:VEVENT
BEGIN:VEVENT
UID:20260420T154017UTC-4120mWKUtS@85.215.121.98
DTSTAMP:20260420T154017Z
DTSTART;TZID=Europe/Amsterdam:20070401T160000
DTEND;TZID=Europe/Amsterdam:20070401T174500
SUMMARY:K - 2. Klasse D 2006/07: Ochsendorf - Grafenstein
END:VEVENT
BEGIN:VEVENT
UID:20260420T154017UTC-4125GeueIC@85.215.121.98
DTSTAMP:20260420T154017Z
DTSTART;TZID=Europe/Amsterdam:20070407T153000
DTEND;TZID=Europe/Amsterdam:20070407T171500
SUMMARY:K - 2. Klasse D 2006/07: Grafenstein - Gallizien
END:VEVENT
BEGIN:VEVENT
UID:20260420T154017UTC-4131gkHOg3@85.215.121.98
DTSTAMP:20260420T154017Z
DTSTART;TZID=Europe/Amsterdam:20070415T150000
DTEND;TZID=Europe/Amsterdam:20070415T164500
SUMMARY:K - 2. Klasse D 2006/07: Gurnitz - Grafenstein
END:VEVENT
BEGIN:VEVENT
UID:20260420T154017UTC-4136kuX6Uj@85.215.121.98
DTSTAMP:20260420T154017Z
DTSTART;TZID=Europe/Amsterdam:20070421T153000
DTEND;TZID=Europe/Amsterdam:20070421T171500
SUMMARY:K - 2. Klasse D 2006/07: Grafenstein - Reichenfels
END:VEVENT
BEGIN:VEVENT
UID:20260420T154017UTC-4141iXMapZ@85.215.121.98
DTSTAMP:20260420T154017Z
DTSTART;TZID=Europe/Amsterdam:20070428T170000
DTEND;TZID=Europe/Amsterdam:20070428T184500
SUMMARY:K - 2. Klasse D 2006/07: St.  Peter/Wallersberg - Grafenstein
END:VEVENT
BEGIN:VEVENT
UID:20260420T154017UTC-4148xusKWb@85.215.121.98
DTSTAMP:20260420T154017Z
DTSTART;TZID=Europe/Amsterdam:20070505T170000
DTEND;TZID=Europe/Amsterdam:20070505T184500
SUMMARY:K - 2. Klasse D 2006/07: Grafenstein - Preitenegg
END:VEVENT
BEGIN:VEVENT
UID:20260420T154017UTC-4155UAcM3f@85.215.121.98
DTSTAMP:20260420T154017Z
DTSTART;TZID=Europe/Amsterdam:20070517T150000
DTEND;TZID=Europe/Amsterdam:20070517T164500
SUMMARY:K - 2. Klasse D 2006/07: SV Magdalensberg - Grafenstein
END:VEVENT
BEGIN:VEVENT
UID:20260420T154017UTC-4159UNZWVR@85.215.121.98
DTSTAMP:20260420T154017Z
DTSTART;TZID=Europe/Amsterdam:20070519T170000
DTEND;TZID=Europe/Amsterdam:20070519T184500
SUMMARY:K - 2. Klasse D 2006/07: Grafenstein - Klopeiner See
END:VEVENT
BEGIN:VEVENT
UID:20260420T154017UTC-4164vvCNST@85.215.121.98
DTSTAMP:20260420T154017Z
DTSTART;TZID=Europe/Amsterdam:20070526T170000
DTEND;TZID=Europe/Amsterdam:20070526T184500
SUMMARY:K - 2. Klasse D 2006/07: Tainach - Grafenstein
END:VEVENT
BEGIN:VEVENT
UID:20260420T154017UTC-4169RntEa6@85.215.121.98
DTSTAMP:20260420T154017Z
DTSTART;TZID=Europe/Amsterdam:20070602T170000
DTEND;TZID=Europe/Amsterdam:20070602T184500
SUMMARY:K - 2. Klasse D 2006/07: Grafenstein - Eitweg
END:VEVENT
BEGIN:VEVENT
UID:20260420T154017UTC-41740VsDfP@85.215.121.98
DTSTAMP:20260420T154017Z
DTSTART;TZID=Europe/Amsterdam:20070609T173000
DTEND;TZID=Europe/Amsterdam:20070609T191500
SUMMARY:K - 2. Klasse D 2006/07: Waisenberg - Grafenstein
END:VEVENT
BEGIN:VEVENT
UID:20260420T154017UTC-4179RjF4JE@85.215.121.98
DTSTAMP:20260420T154017Z
DTSTART;TZID=Europe/Amsterdam:20070616T170000
DTEND;TZID=Europe/Amsterdam:20070616T184500
SUMMARY:K - 2. Klasse D 2006/07: Grafenstein - Diex
END:VEVENT
END:VCALENDAR
