BEGIN:VCALENDAR
VERSION:2.0
PRODID:-////NONSGML kigkonsult.se iCalcreator 2.18//
X-WR-TIMEZONE:Europe/Amsterdam
BEGIN:VTIMEZONE
TZID:Europe/Amsterdam
X-LIC-LOCATION:Europe/Amsterdam
BEGIN:STANDARD
DTSTART:20071028T030000
TZOFFSETFROM:+0200
TZOFFSETTO:+0100
RDATE:20081026T030000
TZNAME:CET
END:STANDARD
BEGIN:DAYLIGHT
DTSTART:20080330T020000
TZOFFSETFROM:+0100
TZOFFSETTO:+0200
RDATE:20090329T020000
TZNAME:CEST
END:DAYLIGHT
END:VTIMEZONE
BEGIN:VEVENT
UID:20260424T021829UTC-1215Vks8OU@85.215.121.98
DTSTAMP:20260424T021829Z
DTSTART;TZID=Europe/Amsterdam:20070729T180000
DTEND;TZID=Europe/Amsterdam:20070729T194500
SUMMARY:K - 2. Klasse C 2007/08: Oberglan - Pörtschach
END:VEVENT
BEGIN:VEVENT
UID:20260424T021829UTC-1377ekIvhm@85.215.121.98
DTSTAMP:20260424T021829Z
DTSTART;TZID=Europe/Amsterdam:20070804T180000
DTEND;TZID=Europe/Amsterdam:20070804T194500
SUMMARY:K - 2. Klasse C 2007/08: Straßburg - Oberglan
END:VEVENT
BEGIN:VEVENT
UID:20260424T021829UTC-1384nPJn9x@85.215.121.98
DTSTAMP:20260424T021829Z
DTSTART;TZID=Europe/Amsterdam:20070812T180000
DTEND;TZID=Europe/Amsterdam:20070812T194500
SUMMARY:K - 2. Klasse C 2007/08: Oberglan - Viktring
END:VEVENT
BEGIN:VEVENT
UID:20260424T021829UTC-1394oDS8iu@85.215.121.98
DTSTAMP:20260424T021829Z
DTSTART;TZID=Europe/Amsterdam:20070815T104500
DTEND;TZID=Europe/Amsterdam:20070815T123000
SUMMARY:K - 2. Klasse C 2007/08: HSV - Oberglan
END:VEVENT
BEGIN:VEVENT
UID:20260424T021829UTC-1401d3b3GR@85.215.121.98
DTSTAMP:20260424T021829Z
DTSTART;TZID=Europe/Amsterdam:20070819T180000
DTEND;TZID=Europe/Amsterdam:20070819T194500
SUMMARY:K - 2. Klasse C 2007/08: Oberglan - Feistritz/Ros.
END:VEVENT
BEGIN:VEVENT
UID:20260424T021829UTC-1407No7Whu@85.215.121.98
DTSTAMP:20260424T021829Z
DTSTART;TZID=Europe/Amsterdam:20070826T170000
DTEND;TZID=Europe/Amsterdam:20070826T184500
SUMMARY:K - 2. Klasse C 2007/08: Keutschach - Oberglan
END:VEVENT
BEGIN:VEVENT
UID:20260424T021829UTC-1441Slz57D@85.215.121.98
DTSTAMP:20260424T021829Z
DTSTART;TZID=Europe/Amsterdam:20070901T163000
DTEND;TZID=Europe/Amsterdam:20070901T181500
SUMMARY:K - 2. Klasse C 2007/08: Hüttenberg - Oberglan
END:VEVENT
BEGIN:VEVENT
UID:20260424T021829UTC-1482Z90nxm@85.215.121.98
DTSTAMP:20260424T021829Z
DTSTART;TZID=Europe/Amsterdam:20070908T170000
DTEND;TZID=Europe/Amsterdam:20070908T184500
SUMMARY:K - 2. Klasse C 2007/08: Himmelberg - Oberglan
END:VEVENT
BEGIN:VEVENT
UID:20260424T021829UTC-1490NAxvOK@85.215.121.98
DTSTAMP:20260424T021829Z
DTSTART;TZID=Europe/Amsterdam:20070916T170000
DTEND;TZID=Europe/Amsterdam:20070916T184500
SUMMARY:K - 2. Klasse C 2007/08: Oberglan - Sörg
END:VEVENT
BEGIN:VEVENT
UID:20260424T021829UTC-1496n0uNkg@85.215.121.98
DTSTAMP:20260424T021829Z
DTSTART;TZID=Europe/Amsterdam:20070922T160000
DTEND;TZID=Europe/Amsterdam:20070922T174500
SUMMARY:K - 2. Klasse C 2007/08: Kappel - Oberglan
END:VEVENT
BEGIN:VEVENT
UID:20260424T021829UTC-15460xSdU0@85.215.121.98
DTSTAMP:20260424T021829Z
DTSTART;TZID=Europe/Amsterdam:20070930T160000
DTEND;TZID=Europe/Amsterdam:20070930T174500
SUMMARY:K - 2. Klasse C 2007/08: Oberglan - SC Ulrichsberg
END:VEVENT
BEGIN:VEVENT
UID:20260424T021829UTC-1552BU4uDb@85.215.121.98
DTSTAMP:20260424T021829Z
DTSTART;TZID=Europe/Amsterdam:20071007T160000
DTEND;TZID=Europe/Amsterdam:20071007T174500
SUMMARY:K - 2. Klasse C 2007/08: Oberglan - ASK Klagenfurt
END:VEVENT
BEGIN:VEVENT
UID:20260424T021829UTC-1559WWV4Uh@85.215.121.98
DTSTAMP:20260424T021829Z
DTSTART;TZID=Europe/Amsterdam:20071013T150000
DTEND;TZID=Europe/Amsterdam:20071013T164500
SUMMARY:K - 2. Klasse C 2007/08: Micheldorf - Oberglan
END:VEVENT
BEGIN:VEVENT
UID:20260424T021829UTC-1574Ex3L7f@85.215.121.98
DTSTAMP:20260424T021829Z
DTSTART;TZID=Europe/Amsterdam:20071020T153000
DTEND;TZID=Europe/Amsterdam:20071020T171500
SUMMARY:K - 2. Klasse C 2007/08: Pörtschach - Oberglan
END:VEVENT
BEGIN:VEVENT
UID:20260424T021829UTC-1584ZBR5rc@85.215.121.98
DTSTAMP:20260424T021829Z
DTSTART;TZID=Europe/Amsterdam:20071028T150000
DTEND;TZID=Europe/Amsterdam:20071028T164500
SUMMARY:K - 2. Klasse C 2007/08: Oberglan - Straßburg
END:VEVENT
BEGIN:VEVENT
UID:20260424T021829UTC-16024SDvKf@85.215.121.98
DTSTAMP:20260424T021829Z
DTSTART;TZID=Europe/Amsterdam:20071103T143000
DTEND;TZID=Europe/Amsterdam:20071103T161500
SUMMARY:K - 2. Klasse C 2007/08: Viktring - Oberglan
END:VEVENT
BEGIN:VEVENT
UID:20260424T021829UTC-1618XVXghO@85.215.121.98
DTSTAMP:20260424T021829Z
DTSTART;TZID=Europe/Amsterdam:20080322T150000
DTEND;TZID=Europe/Amsterdam:20080322T164500
SUMMARY:K - 2. Klasse C 2007/08: Oberglan - HSV
END:VEVENT
BEGIN:VEVENT
UID:20260424T021829UTC-1628pzVbwR@85.215.121.98
DTSTAMP:20260424T021829Z
DTSTART;TZID=Europe/Amsterdam:20080329T150000
DTEND;TZID=Europe/Amsterdam:20080329T164500
SUMMARY:K - 2. Klasse C 2007/08: Feistritz/Ros. - Oberglan
END:VEVENT
BEGIN:VEVENT
UID:20260424T021829UTC-1652SFUfoz@85.215.121.98
DTSTAMP:20260424T021829Z
DTSTART;TZID=Europe/Amsterdam:20080406T153000
DTEND;TZID=Europe/Amsterdam:20080406T171500
SUMMARY:K - 2. Klasse C 2007/08: Oberglan - Keutschach
END:VEVENT
BEGIN:VEVENT
UID:20260424T021829UTC-1665U4G2xf@85.215.121.98
DTSTAMP:20260424T021829Z
DTSTART;TZID=Europe/Amsterdam:20080413T160000
DTEND;TZID=Europe/Amsterdam:20080413T174500
SUMMARY:K - 2. Klasse C 2007/08: Oberglan - Hüttenberg
END:VEVENT
BEGIN:VEVENT
UID:20260424T021829UTC-1676HIFi3U@85.215.121.98
DTSTAMP:20260424T021829Z
DTSTART;TZID=Europe/Amsterdam:20080420T160000
DTEND;TZID=Europe/Amsterdam:20080420T174500
SUMMARY:K - 2. Klasse C 2007/08: Oberglan - Himmelberg
END:VEVENT
BEGIN:VEVENT
UID:20260424T021829UTC-1692CkcdFn@85.215.121.98
DTSTAMP:20260424T021829Z
DTSTART;TZID=Europe/Amsterdam:20080427T170000
DTEND;TZID=Europe/Amsterdam:20080427T184500
SUMMARY:K - 2. Klasse C 2007/08: Sörg - Oberglan
END:VEVENT
BEGIN:VEVENT
UID:20260424T021829UTC-1703tWDh3p@85.215.121.98
DTSTAMP:20260424T021829Z
DTSTART;TZID=Europe/Amsterdam:20080504T140000
DTEND;TZID=Europe/Amsterdam:20080504T154500
SUMMARY:K - 2. Klasse C 2007/08: Oberglan - Kappel
END:VEVENT
BEGIN:VEVENT
UID:20260424T021829UTC-1718utcnSg@85.215.121.98
DTSTAMP:20260424T021829Z
DTSTART;TZID=Europe/Amsterdam:20080518T170000
DTEND;TZID=Europe/Amsterdam:20080518T184500
SUMMARY:K - 2. Klasse C 2007/08: SC Ulrichsberg - Oberglan
END:VEVENT
BEGIN:VEVENT
UID:20260424T021829UTC-1750km5ikf@85.215.121.98
DTSTAMP:20260424T021829Z
DTSTART;TZID=Europe/Amsterdam:20080525T103000
DTEND;TZID=Europe/Amsterdam:20080525T121500
SUMMARY:K - 2. Klasse C 2007/08: ASK Klagenfurt - Oberglan
END:VEVENT
BEGIN:VEVENT
UID:20260424T021829UTC-1760UWLAEN@85.215.121.98
DTSTAMP:20260424T021829Z
DTSTART;TZID=Europe/Amsterdam:20080601T170000
DTEND;TZID=Europe/Amsterdam:20080601T184500
SUMMARY:K - 2. Klasse C 2007/08: Oberglan - Micheldorf
END:VEVENT
END:VCALENDAR
