BEGIN:VCALENDAR
VERSION:2.0
PRODID:-////NONSGML kigkonsult.se iCalcreator 2.18//
X-WR-TIMEZONE:Europe/Amsterdam
BEGIN:VTIMEZONE
TZID:Europe/Amsterdam
X-LIC-LOCATION:Europe/Amsterdam
BEGIN:STANDARD
DTSTART:20091025T030000
TZOFFSETFROM:+0200
TZOFFSETTO:+0100
RDATE:20101031T030000
TZNAME:CET
END:STANDARD
BEGIN:DAYLIGHT
DTSTART:20100328T020000
TZOFFSETFROM:+0100
TZOFFSETTO:+0200
RDATE:20110327T020000
TZNAME:CEST
END:DAYLIGHT
END:VTIMEZONE
BEGIN:VEVENT
UID:20260420T085803UTC-6009CnXhnD@85.215.121.98
DTSTAMP:20260420T085803Z
DTSTART;TZID=Europe/Amsterdam:20090802T180000
DTEND;TZID=Europe/Amsterdam:20090802T194500
SUMMARY:K - 2. Klasse C 2009/10: Oberglan - Weitensfeld
END:VEVENT
BEGIN:VEVENT
UID:20260420T085803UTC-6016w2aFwu@85.215.121.98
DTSTAMP:20260420T085803Z
DTSTART;TZID=Europe/Amsterdam:20090809T110000
DTEND;TZID=Europe/Amsterdam:20090809T124500
SUMMARY:K - 2. Klasse C 2009/10: Himmelberg - Oberglan
END:VEVENT
BEGIN:VEVENT
UID:20260420T085803UTC-6022lRiO2I@85.215.121.98
DTSTAMP:20260420T085803Z
DTSTART;TZID=Europe/Amsterdam:20090816T160000
DTEND;TZID=Europe/Amsterdam:20090816T174500
SUMMARY:K - 2. Klasse C 2009/10: Oberglan - Viktring
END:VEVENT
BEGIN:VEVENT
UID:20260420T085803UTC-6030gdnhLo@85.215.121.98
DTSTAMP:20260420T085803Z
DTSTART;TZID=Europe/Amsterdam:20090823T180000
DTEND;TZID=Europe/Amsterdam:20090823T194500
SUMMARY:K - 2. Klasse C 2009/10: St. Urban - Oberglan
END:VEVENT
BEGIN:VEVENT
UID:20260420T085803UTC-6035DaRuv1@85.215.121.98
DTSTAMP:20260420T085803Z
DTSTART;TZID=Europe/Amsterdam:20090830T173000
DTEND;TZID=Europe/Amsterdam:20090830T191500
SUMMARY:K - 2. Klasse C 2009/10: Oberglan - Keutschach
END:VEVENT
BEGIN:VEVENT
UID:20260420T085803UTC-60403uAFJ5@85.215.121.98
DTSTAMP:20260420T085803Z
DTSTART;TZID=Europe/Amsterdam:20090905T163000
DTEND;TZID=Europe/Amsterdam:20090905T181500
SUMMARY:K - 2. Klasse C 2009/10: Feistritz/Ros. - Oberglan
END:VEVENT
BEGIN:VEVENT
UID:20260420T085803UTC-6045fChAfi@85.215.121.98
DTSTAMP:20260420T085803Z
DTSTART;TZID=Europe/Amsterdam:20090913T163000
DTEND;TZID=Europe/Amsterdam:20090913T181500
SUMMARY:K - 2. Klasse C 2009/10: Oberglan - Krumpendorf
END:VEVENT
BEGIN:VEVENT
UID:20260420T085803UTC-6051NFL8SO@85.215.121.98
DTSTAMP:20260420T085803Z
DTSTART;TZID=Europe/Amsterdam:20090920T163000
DTEND;TZID=Europe/Amsterdam:20090920T181500
SUMMARY:K - 2. Klasse C 2009/10: Oberglan - Sörg
END:VEVENT
BEGIN:VEVENT
UID:20260420T085803UTC-60577Jc6f5@85.215.121.98
DTSTAMP:20260420T085803Z
DTSTART;TZID=Europe/Amsterdam:20090926T163000
DTEND;TZID=Europe/Amsterdam:20090926T181500
SUMMARY:K - 2. Klasse C 2009/10: Ferlach DSG - Oberglan
END:VEVENT
BEGIN:VEVENT
UID:20260420T085803UTC-60621mREXN@85.215.121.98
DTSTAMP:20260420T085803Z
DTSTART;TZID=Europe/Amsterdam:20091004T160000
DTEND;TZID=Europe/Amsterdam:20091004T174500
SUMMARY:K - 2. Klasse C 2009/10: Oberglan - HSV
END:VEVENT
BEGIN:VEVENT
UID:20260420T085803UTC-6079ch4Cu9@85.215.121.98
DTSTAMP:20260420T085803Z
DTSTART;TZID=Europe/Amsterdam:20091010T150000
DTEND;TZID=Europe/Amsterdam:20091010T164500
SUMMARY:K - 2. Klasse C 2009/10: Micheldorf - Oberglan
END:VEVENT
BEGIN:VEVENT
UID:20260420T085803UTC-6085dHJBPC@85.215.121.98
DTSTAMP:20260420T085803Z
DTSTART;TZID=Europe/Amsterdam:20091018T150000
DTEND;TZID=Europe/Amsterdam:20091018T164500
SUMMARY:K - 2. Klasse C 2009/10: Oberglan - Ossiach
END:VEVENT
BEGIN:VEVENT
UID:20260420T085803UTC-6093HKAFN6@85.215.121.98
DTSTAMP:20260420T085803Z
DTSTART;TZID=Europe/Amsterdam:20091024T150000
DTEND;TZID=Europe/Amsterdam:20091024T164500
SUMMARY:K - 2. Klasse C 2009/10: Kappel - Oberglan
END:VEVENT
BEGIN:VEVENT
UID:20260420T085803UTC-61007171So@85.215.121.98
DTSTAMP:20260420T085803Z
DTSTART;TZID=Europe/Amsterdam:20091031T150000
DTEND;TZID=Europe/Amsterdam:20091031T164500
SUMMARY:K - 2. Klasse C 2009/10: Weitensfeld - Oberglan
END:VEVENT
BEGIN:VEVENT
UID:20260420T085803UTC-610474Wjbt@85.215.121.98
DTSTAMP:20260420T085803Z
DTSTART;TZID=Europe/Amsterdam:20100321T150000
DTEND;TZID=Europe/Amsterdam:20100321T164500
SUMMARY:K - 2. Klasse C 2009/10: Oberglan - Himmelberg
END:VEVENT
BEGIN:VEVENT
UID:20260420T085803UTC-6111O1Wekn@85.215.121.98
DTSTAMP:20260420T085803Z
DTSTART;TZID=Europe/Amsterdam:20100327T153000
DTEND;TZID=Europe/Amsterdam:20100327T171500
SUMMARY:K - 2. Klasse C 2009/10: Viktring - Oberglan
END:VEVENT
BEGIN:VEVENT
UID:20260420T085803UTC-6120ZuNsvK@85.215.121.98
DTSTAMP:20260420T085803Z
DTSTART;TZID=Europe/Amsterdam:20100403T153000
DTEND;TZID=Europe/Amsterdam:20100403T171500
SUMMARY:K - 2. Klasse C 2009/10: Oberglan - St. Urban
END:VEVENT
BEGIN:VEVENT
UID:20260420T085803UTC-6128oHdIaA@85.215.121.98
DTSTAMP:20260420T085803Z
DTSTART;TZID=Europe/Amsterdam:20100411T153000
DTEND;TZID=Europe/Amsterdam:20100411T171500
SUMMARY:K - 2. Klasse C 2009/10: Keutschach - Oberglan
END:VEVENT
BEGIN:VEVENT
UID:20260420T085803UTC-6133xzfznJ@85.215.121.98
DTSTAMP:20260420T085803Z
DTSTART;TZID=Europe/Amsterdam:20100418T160000
DTEND;TZID=Europe/Amsterdam:20100418T174500
SUMMARY:K - 2. Klasse C 2009/10: Oberglan - Feistritz/Ros.
END:VEVENT
BEGIN:VEVENT
UID:20260420T085803UTC-61384gBICH@85.215.121.98
DTSTAMP:20260420T085803Z
DTSTART;TZID=Europe/Amsterdam:20100424T170000
DTEND;TZID=Europe/Amsterdam:20100424T184500
SUMMARY:K - 2. Klasse C 2009/10: Krumpendorf - Oberglan
END:VEVENT
BEGIN:VEVENT
UID:20260420T085803UTC-61446x2u2B@85.215.121.98
DTSTAMP:20260420T085803Z
DTSTART;TZID=Europe/Amsterdam:20100501T163000
DTEND;TZID=Europe/Amsterdam:20100501T181500
SUMMARY:K - 2. Klasse C 2009/10: Sörg - Oberglan
END:VEVENT
BEGIN:VEVENT
UID:20260420T085803UTC-6150lUamS7@85.215.121.98
DTSTAMP:20260420T085803Z
DTSTART;TZID=Europe/Amsterdam:20100509T170000
DTEND;TZID=Europe/Amsterdam:20100509T184500
SUMMARY:K - 2. Klasse C 2009/10: Oberglan - Ferlach DSG
END:VEVENT
BEGIN:VEVENT
UID:20260420T085803UTC-6155boU47u@85.215.121.98
DTSTAMP:20260420T085803Z
DTSTART;TZID=Europe/Amsterdam:20100515T170000
DTEND;TZID=Europe/Amsterdam:20100515T184500
SUMMARY:K - 2. Klasse C 2009/10: HSV - Oberglan
END:VEVENT
BEGIN:VEVENT
UID:20260420T085803UTC-6161cilSit@85.215.121.98
DTSTAMP:20260420T085803Z
DTSTART;TZID=Europe/Amsterdam:20100530T170000
DTEND;TZID=Europe/Amsterdam:20100530T184500
SUMMARY:K - 2. Klasse C 2009/10: Oberglan - Micheldorf
END:VEVENT
BEGIN:VEVENT
UID:20260420T085803UTC-6168lnovJv@85.215.121.98
DTSTAMP:20260420T085803Z
DTSTART;TZID=Europe/Amsterdam:20100606T110000
DTEND;TZID=Europe/Amsterdam:20100606T124500
SUMMARY:K - 2. Klasse C 2009/10: Ossiach - Oberglan
END:VEVENT
BEGIN:VEVENT
UID:20260420T085803UTC-6174bHZk76@85.215.121.98
DTSTAMP:20260420T085803Z
DTSTART;TZID=Europe/Amsterdam:20100613T170000
DTEND;TZID=Europe/Amsterdam:20100613T184500
SUMMARY:K - 2. Klasse C 2009/10: Oberglan - Kappel
END:VEVENT
END:VCALENDAR
