BEGIN:VCALENDAR
VERSION:2.0
PRODID:-////NONSGML kigkonsult.se iCalcreator 2.18//
X-WR-TIMEZONE:Europe/Amsterdam
BEGIN:VTIMEZONE
TZID:Europe/Amsterdam
X-LIC-LOCATION:Europe/Amsterdam
BEGIN:STANDARD
DTSTART:20121028T030000
TZOFFSETFROM:+0200
TZOFFSETTO:+0100
RDATE:20131027T030000
TZNAME:CET
END:STANDARD
BEGIN:DAYLIGHT
DTSTART:20130331T020000
TZOFFSETFROM:+0100
TZOFFSETTO:+0200
RDATE:20140330T020000
TZNAME:CEST
END:DAYLIGHT
END:VTIMEZONE
BEGIN:VEVENT
UID:20260423T000840UTC-6874fb83R2@85.215.121.98
DTSTAMP:20260423T000840Z
DTSTART;TZID=Europe/Amsterdam:20120728T160000
DTEND;TZID=Europe/Amsterdam:20120728T174500
SUMMARY:K - 2. Klasse C 2012/13: Donau - Keutschach
END:VEVENT
BEGIN:VEVENT
UID:20260423T000840UTC-7075dXJ7VW@85.215.121.98
DTSTAMP:20260423T000840Z
DTSTART;TZID=Europe/Amsterdam:20120804T180000
DTEND;TZID=Europe/Amsterdam:20120804T194500
SUMMARY:K - 2. Klasse C 2012/13: Kappel - Donau
END:VEVENT
BEGIN:VEVENT
UID:20260423T000840UTC-7104MsNN0L@85.215.121.98
DTSTAMP:20260423T000840Z
DTSTART;TZID=Europe/Amsterdam:20120811T170000
DTEND;TZID=Europe/Amsterdam:20120811T184500
SUMMARY:K - 2. Klasse C 2012/13: St. Urban - Donau
END:VEVENT
BEGIN:VEVENT
UID:20260423T000840UTC-7114tXAhMp@85.215.121.98
DTSTAMP:20260423T000840Z
DTSTART;TZID=Europe/Amsterdam:20120815T173000
DTEND;TZID=Europe/Amsterdam:20120815T191500
SUMMARY:K - 2. Klasse C 2012/13: Viktring - Donau
END:VEVENT
BEGIN:VEVENT
UID:20260423T000840UTC-7124dahw4i@85.215.121.98
DTSTAMP:20260423T000840Z
DTSTART;TZID=Europe/Amsterdam:20120818T160000
DTEND;TZID=Europe/Amsterdam:20120818T174500
SUMMARY:K - 2. Klasse C 2012/13: Donau - Krumpendorf
END:VEVENT
BEGIN:VEVENT
UID:20260423T000840UTC-7133CGBkAm@85.215.121.98
DTSTAMP:20260423T000840Z
DTSTART;TZID=Europe/Amsterdam:20120826T170000
DTEND;TZID=Europe/Amsterdam:20120826T184500
SUMMARY:K - 2. Klasse C 2012/13: Techelsberg - Donau
END:VEVENT
BEGIN:VEVENT
UID:20260423T000840UTC-7140DTUJCt@85.215.121.98
DTSTAMP:20260423T000840Z
DTSTART;TZID=Europe/Amsterdam:20120901T160000
DTEND;TZID=Europe/Amsterdam:20120901T174500
SUMMARY:K - 2. Klasse C 2012/13: Donau - Gurk
END:VEVENT
BEGIN:VEVENT
UID:20260423T000840UTC-7148i2agkc@85.215.121.98
DTSTAMP:20260423T000840Z
DTSTART;TZID=Europe/Amsterdam:20120909T130000
DTEND;TZID=Europe/Amsterdam:20120909T144500
SUMMARY:K - 2. Klasse C 2012/13: SV Oberes Metnitztal - Donau
END:VEVENT
BEGIN:VEVENT
UID:20260423T000840UTC-7155HWDvNA@85.215.121.98
DTSTAMP:20260423T000840Z
DTSTART;TZID=Europe/Amsterdam:20120915T140000
DTEND;TZID=Europe/Amsterdam:20120915T154500
SUMMARY:K - 2. Klasse C 2012/13: Donau - Straßburg
END:VEVENT
BEGIN:VEVENT
UID:20260423T000840UTC-7174H2z2Ha@85.215.121.98
DTSTAMP:20260423T000840Z
DTSTART;TZID=Europe/Amsterdam:20120922T160000
DTEND;TZID=Europe/Amsterdam:20120922T174500
SUMMARY:K - 2. Klasse C 2012/13: Himmelberg - Donau
END:VEVENT
BEGIN:VEVENT
UID:20260423T000840UTC-7180k6BpI9@85.215.121.98
DTSTAMP:20260423T000840Z
DTSTART;TZID=Europe/Amsterdam:20120930T103000
DTEND;TZID=Europe/Amsterdam:20120930T121500
SUMMARY:K - 2. Klasse C 2012/13: Donau - Ferlach DSG
END:VEVENT
BEGIN:VEVENT
UID:20260423T000840UTC-7195TK7wP7@85.215.121.98
DTSTAMP:20260423T000840Z
DTSTART;TZID=Europe/Amsterdam:20121007T150000
DTEND;TZID=Europe/Amsterdam:20121007T164500
SUMMARY:K - 2. Klasse C 2012/13: Pörtschach - Donau
END:VEVENT
BEGIN:VEVENT
UID:20260423T000840UTC-7203tGTh6p@85.215.121.98
DTSTAMP:20260423T000840Z
DTSTART;TZID=Europe/Amsterdam:20121020T140000
DTEND;TZID=Europe/Amsterdam:20121020T154500
SUMMARY:K - 2. Klasse C 2012/13: Donau - Oberglan/Feldkirchen B
END:VEVENT
BEGIN:VEVENT
UID:20260423T000840UTC-7224uLJt5C@85.215.121.98
DTSTAMP:20260423T000840Z
DTSTART;TZID=Europe/Amsterdam:20121026T130000
DTEND;TZID=Europe/Amsterdam:20121026T144500
SUMMARY:K - 2. Klasse C 2012/13: Weitensfeld - Donau
END:VEVENT
BEGIN:VEVENT
UID:20260423T000840UTC-7233UWGlv3@85.215.121.98
DTSTAMP:20260423T000840Z
DTSTART;TZID=Europe/Amsterdam:20130323T160000
DTEND;TZID=Europe/Amsterdam:20130323T174500
SUMMARY:K - 2. Klasse C 2012/13: Donau - Kappel
END:VEVENT
BEGIN:VEVENT
UID:20260423T000840UTC-7239zJcKuS@85.215.121.98
DTSTAMP:20260423T000840Z
DTSTART;TZID=Europe/Amsterdam:20130330T160000
DTEND;TZID=Europe/Amsterdam:20130330T174500
SUMMARY:K - 2. Klasse C 2012/13: Donau - St. Urban
END:VEVENT
BEGIN:VEVENT
UID:20260423T000840UTC-7256vsfvvM@85.215.121.98
DTSTAMP:20260423T000840Z
DTSTART;TZID=Europe/Amsterdam:20130406T160000
DTEND;TZID=Europe/Amsterdam:20130406T174500
SUMMARY:K - 2. Klasse C 2012/13: Donau - Viktring
END:VEVENT
BEGIN:VEVENT
UID:20260423T000840UTC-7266OvwBmb@85.215.121.98
DTSTAMP:20260423T000840Z
DTSTART;TZID=Europe/Amsterdam:20130413T160000
DTEND;TZID=Europe/Amsterdam:20130413T174500
SUMMARY:K - 2. Klasse C 2012/13: Krumpendorf - Donau
END:VEVENT
BEGIN:VEVENT
UID:20260423T000840UTC-7280O7pnKU@85.215.121.98
DTSTAMP:20260423T000840Z
DTSTART;TZID=Europe/Amsterdam:20130420T160000
DTEND;TZID=Europe/Amsterdam:20130420T174500
SUMMARY:K - 2. Klasse C 2012/13: Donau - Techelsberg
END:VEVENT
BEGIN:VEVENT
UID:20260423T000840UTC-7304AAPJ3D@85.215.121.98
DTSTAMP:20260423T000840Z
DTSTART;TZID=Europe/Amsterdam:20130427T160000
DTEND;TZID=Europe/Amsterdam:20130427T174500
SUMMARY:K - 2. Klasse C 2012/13: Gurk - Donau
END:VEVENT
BEGIN:VEVENT
UID:20260423T000840UTC-7316vNwvFP@85.215.121.98
DTSTAMP:20260423T000840Z
DTSTART;TZID=Europe/Amsterdam:20130501T140000
DTEND;TZID=Europe/Amsterdam:20130501T154500
SUMMARY:K - 2. Klasse C 2012/13: Donau - SV Oberes Metnitztal
END:VEVENT
BEGIN:VEVENT
UID:20260423T000840UTC-73316LLuuI@85.215.121.98
DTSTAMP:20260423T000840Z
DTSTART;TZID=Europe/Amsterdam:20130505T170000
DTEND;TZID=Europe/Amsterdam:20130505T184500
SUMMARY:K - 2. Klasse C 2012/13: Straßburg - Donau
END:VEVENT
BEGIN:VEVENT
UID:20260423T000840UTC-73757FutpJ@85.215.121.98
DTSTAMP:20260423T000840Z
DTSTART;TZID=Europe/Amsterdam:20130509T103000
DTEND;TZID=Europe/Amsterdam:20130509T121500
SUMMARY:K - 2. Klasse C 2012/13: Keutschach - Donau
END:VEVENT
BEGIN:VEVENT
UID:20260423T000840UTC-7383rIU4i2@85.215.121.98
DTSTAMP:20260423T000840Z
DTSTART;TZID=Europe/Amsterdam:20130511T160000
DTEND;TZID=Europe/Amsterdam:20130511T174500
SUMMARY:K - 2. Klasse C 2012/13: Donau - Himmelberg
END:VEVENT
BEGIN:VEVENT
UID:20260423T000840UTC-7391BAfevr@85.215.121.98
DTSTAMP:20260423T000840Z
DTSTART;TZID=Europe/Amsterdam:20130518T160000
DTEND;TZID=Europe/Amsterdam:20130518T174500
SUMMARY:K - 2. Klasse C 2012/13: Ferlach DSG - Donau
END:VEVENT
BEGIN:VEVENT
UID:20260423T000840UTC-74651SVfIg@85.215.121.98
DTSTAMP:20260423T000840Z
DTSTART;TZID=Europe/Amsterdam:20130525T160000
DTEND;TZID=Europe/Amsterdam:20130525T174500
SUMMARY:K - 2. Klasse C 2012/13: Donau - Pörtschach
END:VEVENT
BEGIN:VEVENT
UID:20260423T000840UTC-7525ebLclu@85.215.121.98
DTSTAMP:20260423T000840Z
DTSTART;TZID=Europe/Amsterdam:20130602T170000
DTEND;TZID=Europe/Amsterdam:20130602T184500
SUMMARY:K - 2. Klasse C 2012/13: Oberglan/Feldkirchen B - Donau
END:VEVENT
BEGIN:VEVENT
UID:20260423T000840UTC-7594AgvVKe@85.215.121.98
DTSTAMP:20260423T000840Z
DTSTART;TZID=Europe/Amsterdam:20130608T160000
DTEND;TZID=Europe/Amsterdam:20130608T174500
SUMMARY:K - 2. Klasse C 2012/13: Donau - Weitensfeld
END:VEVENT
END:VCALENDAR
