BEGIN:VCALENDAR
VERSION:2.0
PRODID:-////NONSGML kigkonsult.se iCalcreator 2.18//
X-WR-TIMEZONE:Europe/Amsterdam
BEGIN:VTIMEZONE
TZID:Europe/Amsterdam
X-LIC-LOCATION:Europe/Amsterdam
BEGIN:STANDARD
DTSTART:20121028T030000
TZOFFSETFROM:+0200
TZOFFSETTO:+0100
RDATE:20131027T030000
TZNAME:CET
END:STANDARD
BEGIN:DAYLIGHT
DTSTART:20130331T020000
TZOFFSETFROM:+0100
TZOFFSETTO:+0200
RDATE:20140330T020000
TZNAME:CEST
END:DAYLIGHT
END:VTIMEZONE
BEGIN:VEVENT
UID:20260424T073039UTC-9592P7CAac@85.215.121.98
DTSTAMP:20260424T073039Z
DTSTART;TZID=Europe/Amsterdam:20120728T184500
DTEND;TZID=Europe/Amsterdam:20120728T203000
SUMMARY:K - 2. Klasse C 2012/13: Straßburg - Krumpendorf
END:VEVENT
BEGIN:VEVENT
UID:20260424T073039UTC-9599ttKJDs@85.215.121.98
DTSTAMP:20260424T073039Z
DTSTART;TZID=Europe/Amsterdam:20120805T123000
DTEND;TZID=Europe/Amsterdam:20120805T141500
SUMMARY:K - 2. Klasse C 2012/13: Krumpendorf - Himmelberg
END:VEVENT
BEGIN:VEVENT
UID:20260424T073039UTC-9605HSbhdP@85.215.121.98
DTSTAMP:20260424T073039Z
DTSTART;TZID=Europe/Amsterdam:20120811T180000
DTEND;TZID=Europe/Amsterdam:20120811T194500
SUMMARY:K - 2. Klasse C 2012/13: Ferlach DSG - Krumpendorf
END:VEVENT
BEGIN:VEVENT
UID:20260424T073039UTC-96101AdTut@85.215.121.98
DTSTAMP:20260424T073039Z
DTSTART;TZID=Europe/Amsterdam:20120815T103000
DTEND;TZID=Europe/Amsterdam:20120815T121500
SUMMARY:K - 2. Klasse C 2012/13: Krumpendorf - Pörtschach
END:VEVENT
BEGIN:VEVENT
UID:20260424T073039UTC-96151URPrg@85.215.121.98
DTSTAMP:20260424T073039Z
DTSTART;TZID=Europe/Amsterdam:20120818T160000
DTEND;TZID=Europe/Amsterdam:20120818T174500
SUMMARY:K - 2. Klasse C 2012/13: Donau - Krumpendorf
END:VEVENT
BEGIN:VEVENT
UID:20260424T073039UTC-9621b7UUFk@85.215.121.98
DTSTAMP:20260424T073039Z
DTSTART;TZID=Europe/Amsterdam:20120825T170000
DTEND;TZID=Europe/Amsterdam:20120825T184500
SUMMARY:K - 2. Klasse C 2012/13: Krumpendorf - Oberglan/Feldkirchen B
END:VEVENT
BEGIN:VEVENT
UID:20260424T073039UTC-9626geUCUT@85.215.121.98
DTSTAMP:20260424T073039Z
DTSTART;TZID=Europe/Amsterdam:20120901T170000
DTEND;TZID=Europe/Amsterdam:20120901T184500
SUMMARY:K - 2. Klasse C 2012/13: Weitensfeld - Krumpendorf
END:VEVENT
BEGIN:VEVENT
UID:20260424T073039UTC-9632MavOXp@85.215.121.98
DTSTAMP:20260424T073039Z
DTSTART;TZID=Europe/Amsterdam:20120908T170000
DTEND;TZID=Europe/Amsterdam:20120908T184500
SUMMARY:K - 2. Klasse C 2012/13: Krumpendorf - Keutschach
END:VEVENT
BEGIN:VEVENT
UID:20260424T073039UTC-9637n8Mfz8@85.215.121.98
DTSTAMP:20260424T073039Z
DTSTART;TZID=Europe/Amsterdam:20120915T170000
DTEND;TZID=Europe/Amsterdam:20120915T184500
SUMMARY:K - 2. Klasse C 2012/13: Kappel - Krumpendorf
END:VEVENT
BEGIN:VEVENT
UID:20260424T073039UTC-9642AW2aGu@85.215.121.98
DTSTAMP:20260424T073039Z
DTSTART;TZID=Europe/Amsterdam:20120923T113000
DTEND;TZID=Europe/Amsterdam:20120923T131500
SUMMARY:K - 2. Klasse C 2012/13: Krumpendorf - St. Urban
END:VEVENT
BEGIN:VEVENT
UID:20260424T073039UTC-9649xL8zZp@85.215.121.98
DTSTAMP:20260424T073039Z
DTSTART;TZID=Europe/Amsterdam:20120929T160000
DTEND;TZID=Europe/Amsterdam:20120929T174500
SUMMARY:K - 2. Klasse C 2012/13: Viktring - Krumpendorf
END:VEVENT
BEGIN:VEVENT
UID:20260424T073039UTC-9654fRDuK0@85.215.121.98
DTSTAMP:20260424T073039Z
DTSTART;TZID=Europe/Amsterdam:20121013T160000
DTEND;TZID=Europe/Amsterdam:20121013T174500
SUMMARY:K - 2. Klasse C 2012/13: Krumpendorf - Techelsberg
END:VEVENT
BEGIN:VEVENT
UID:20260424T073039UTC-9661iVocmv@85.215.121.98
DTSTAMP:20260424T073039Z
DTSTART;TZID=Europe/Amsterdam:20121020T160000
DTEND;TZID=Europe/Amsterdam:20121020T174500
SUMMARY:K - 2. Klasse C 2012/13: Gurk - Krumpendorf
END:VEVENT
BEGIN:VEVENT
UID:20260424T073039UTC-966846mEaB@85.215.121.98
DTSTAMP:20260424T073039Z
DTSTART;TZID=Europe/Amsterdam:20121026T150000
DTEND;TZID=Europe/Amsterdam:20121026T164500
SUMMARY:K - 2. Klasse C 2012/13: Krumpendorf - SV Oberes Metnitztal
END:VEVENT
BEGIN:VEVENT
UID:20260424T073039UTC-9674E81tZA@85.215.121.98
DTSTAMP:20260424T073039Z
DTSTART;TZID=Europe/Amsterdam:20121103T150000
DTEND;TZID=Europe/Amsterdam:20121103T164500
SUMMARY:K - 2. Klasse C 2012/13: Krumpendorf - Straßburg
END:VEVENT
BEGIN:VEVENT
UID:20260424T073039UTC-9679b4wEno@85.215.121.98
DTSTAMP:20260424T073039Z
DTSTART;TZID=Europe/Amsterdam:20130413T160000
DTEND;TZID=Europe/Amsterdam:20130413T174500
SUMMARY:K - 2. Klasse C 2012/13: Krumpendorf - Donau
END:VEVENT
BEGIN:VEVENT
UID:20260424T073039UTC-9685R5ZnFU@85.215.121.98
DTSTAMP:20260424T073039Z
DTSTART;TZID=Europe/Amsterdam:20130420T160000
DTEND;TZID=Europe/Amsterdam:20130420T174500
SUMMARY:K - 2. Klasse C 2012/13: Oberglan/Feldkirchen B - Krumpendorf
END:VEVENT
BEGIN:VEVENT
UID:20260424T073039UTC-9690HXmuTT@85.215.121.98
DTSTAMP:20260424T073039Z
DTSTART;TZID=Europe/Amsterdam:20130424T174500
DTEND;TZID=Europe/Amsterdam:20130424T193000
SUMMARY:K - 2. Klasse C 2012/13: Himmelberg - Krumpendorf
END:VEVENT
BEGIN:VEVENT
UID:20260424T073039UTC-9696dsUgpA@85.215.121.98
DTSTAMP:20260424T073039Z
DTSTART;TZID=Europe/Amsterdam:20130427T160000
DTEND;TZID=Europe/Amsterdam:20130427T174500
SUMMARY:K - 2. Klasse C 2012/13: Krumpendorf - Weitensfeld
END:VEVENT
BEGIN:VEVENT
UID:20260424T073039UTC-9701vI2VA7@85.215.121.98
DTSTAMP:20260424T073039Z
DTSTART;TZID=Europe/Amsterdam:20130501T160000
DTEND;TZID=Europe/Amsterdam:20130501T174500
SUMMARY:K - 2. Klasse C 2012/13: Keutschach - Krumpendorf
END:VEVENT
BEGIN:VEVENT
UID:20260424T073039UTC-9708GrvfU0@85.215.121.98
DTSTAMP:20260424T073039Z
DTSTART;TZID=Europe/Amsterdam:20130504T170000
DTEND;TZID=Europe/Amsterdam:20130504T184500
SUMMARY:K - 2. Klasse C 2012/13: Krumpendorf - Kappel
END:VEVENT
BEGIN:VEVENT
UID:20260424T073039UTC-9714f6IZ1p@85.215.121.98
DTSTAMP:20260424T073039Z
DTSTART;TZID=Europe/Amsterdam:20130509T110000
DTEND;TZID=Europe/Amsterdam:20130509T124500
SUMMARY:K - 2. Klasse C 2012/13: Krumpendorf - Ferlach DSG
END:VEVENT
BEGIN:VEVENT
UID:20260424T073039UTC-9719G3nn0M@85.215.121.98
DTSTAMP:20260424T073039Z
DTSTART;TZID=Europe/Amsterdam:20130511T170000
DTEND;TZID=Europe/Amsterdam:20130511T184500
SUMMARY:K - 2. Klasse C 2012/13: St. Urban - Krumpendorf
END:VEVENT
BEGIN:VEVENT
UID:20260424T073039UTC-9726nZWVD6@85.215.121.98
DTSTAMP:20260424T073039Z
DTSTART;TZID=Europe/Amsterdam:20130515T180000
DTEND;TZID=Europe/Amsterdam:20130515T194500
SUMMARY:K - 2. Klasse C 2012/13: Pörtschach - Krumpendorf
END:VEVENT
BEGIN:VEVENT
UID:20260424T073039UTC-9732DZKwe6@85.215.121.98
DTSTAMP:20260424T073039Z
DTSTART;TZID=Europe/Amsterdam:20130519T113000
DTEND;TZID=Europe/Amsterdam:20130519T131500
SUMMARY:K - 2. Klasse C 2012/13: Krumpendorf - Viktring
END:VEVENT
BEGIN:VEVENT
UID:20260424T073039UTC-9737Jou2TI@85.215.121.98
DTSTAMP:20260424T073039Z
DTSTART;TZID=Europe/Amsterdam:20130530T163000
DTEND;TZID=Europe/Amsterdam:20130530T181500
SUMMARY:K - 2. Klasse C 2012/13: Techelsberg - Krumpendorf
END:VEVENT
BEGIN:VEVENT
UID:20260424T073039UTC-9743dKvh13@85.215.121.98
DTSTAMP:20260424T073039Z
DTSTART;TZID=Europe/Amsterdam:20130601T180000
DTEND;TZID=Europe/Amsterdam:20130601T194500
SUMMARY:K - 2. Klasse C 2012/13: Krumpendorf - Gurk
END:VEVENT
BEGIN:VEVENT
UID:20260424T073039UTC-9749eCd4do@85.215.121.98
DTSTAMP:20260424T073039Z
DTSTART;TZID=Europe/Amsterdam:20130608T170000
DTEND;TZID=Europe/Amsterdam:20130608T184500
SUMMARY:K - 2. Klasse C 2012/13: SV Oberes Metnitztal - Krumpendorf
END:VEVENT
END:VCALENDAR
