BEGIN:VCALENDAR
VERSION:2.0
PRODID:-////NONSGML kigkonsult.se iCalcreator 2.18//
X-WR-TIMEZONE:Europe/Amsterdam
BEGIN:VTIMEZONE
TZID:Europe/Amsterdam
X-LIC-LOCATION:Europe/Amsterdam
BEGIN:STANDARD
DTSTART:20061029T030000
TZOFFSETFROM:+0200
TZOFFSETTO:+0100
RDATE:20071028T030000
TZNAME:CET
END:STANDARD
BEGIN:DAYLIGHT
DTSTART:20070325T020000
TZOFFSETFROM:+0100
TZOFFSETTO:+0200
RDATE:20080330T020000
TZNAME:CEST
END:DAYLIGHT
END:VTIMEZONE
BEGIN:VEVENT
UID:20260420T222230UTC-986209LRwn@85.215.121.98
DTSTAMP:20260420T222230Z
DTSTART;TZID=Europe/Amsterdam:20060729T183000
DTEND;TZID=Europe/Amsterdam:20060729T201500
SUMMARY:K - 1. Klasse D 2006/07: Ferlach DSG - St. Margareten/Ros.
END:VEVENT
BEGIN:VEVENT
UID:20260420T222230UTC-9871kaJ6W2@85.215.121.98
DTSTAMP:20260420T222230Z
DTSTART;TZID=Europe/Amsterdam:20060806T173000
DTEND;TZID=Europe/Amsterdam:20060806T191500
SUMMARY:K - 1. Klasse D 2006/07: Globasnitz - Ferlach DSG
END:VEVENT
BEGIN:VEVENT
UID:20260420T222230UTC-9877uFm0lG@85.215.121.98
DTSTAMP:20260420T222230Z
DTSTART;TZID=Europe/Amsterdam:20060813T170000
DTEND;TZID=Europe/Amsterdam:20060813T184500
SUMMARY:K - 1. Klasse D 2006/07: Ferlach DSG - St. Margarethen/Lav.
END:VEVENT
BEGIN:VEVENT
UID:20260420T222230UTC-9883cggZLM@85.215.121.98
DTSTAMP:20260420T222230Z
DTSTART;TZID=Europe/Amsterdam:20060819T170000
DTEND;TZID=Europe/Amsterdam:20060819T184500
SUMMARY:K - 1. Klasse D 2006/07: St. Paul - Ferlach DSG
END:VEVENT
BEGIN:VEVENT
UID:20260420T222230UTC-9889rb9ClU@85.215.121.98
DTSTAMP:20260420T222230Z
DTSTART;TZID=Europe/Amsterdam:20060826T170000
DTEND;TZID=Europe/Amsterdam:20060826T184500
SUMMARY:K - 1. Klasse D 2006/07: Ferlach DSG - Mittlern
END:VEVENT
BEGIN:VEVENT
UID:20260420T222230UTC-9896Isuh8v@85.215.121.98
DTSTAMP:20260420T222230Z
DTSTART;TZID=Europe/Amsterdam:20060903T170000
DTEND;TZID=Europe/Amsterdam:20060903T184500
SUMMARY:K - 1. Klasse D 2006/07: Donau - Ferlach DSG
END:VEVENT
BEGIN:VEVENT
UID:20260420T222230UTC-9908v2kUxP@85.215.121.98
DTSTAMP:20260420T222230Z
DTSTART;TZID=Europe/Amsterdam:20060909T170000
DTEND;TZID=Europe/Amsterdam:20060909T184500
SUMMARY:K - 1. Klasse D 2006/07: Ferlach DSG - Frantschach
END:VEVENT
BEGIN:VEVENT
UID:20260420T222230UTC-991638Uvhu@85.215.121.98
DTSTAMP:20260420T222230Z
DTSTART;TZID=Europe/Amsterdam:20060917T110000
DTEND;TZID=Europe/Amsterdam:20060917T124500
SUMMARY:K - 1. Klasse D 2006/07: Kühnsdorf - Ferlach DSG
END:VEVENT
BEGIN:VEVENT
UID:20260420T222230UTC-9924wMBh6x@85.215.121.98
DTSTAMP:20260420T222230Z
DTSTART;TZID=Europe/Amsterdam:20060924T163000
DTEND;TZID=Europe/Amsterdam:20060924T181500
SUMMARY:K - 1. Klasse D 2006/07: Ferlach DSG - Annabichler SV
END:VEVENT
BEGIN:VEVENT
UID:20260420T222230UTC-9932pidvVf@85.215.121.98
DTSTAMP:20260420T222230Z
DTSTART;TZID=Europe/Amsterdam:20061001T160000
DTEND;TZID=Europe/Amsterdam:20061001T174500
SUMMARY:K - 1. Klasse D 2006/07: Ferlach DSG - Lavamünd
END:VEVENT
BEGIN:VEVENT
UID:20260420T222231UTC-0085bNJv3V@85.215.121.98
DTSTAMP:20260420T222231Z
DTSTART;TZID=Europe/Amsterdam:20061007T160000
DTEND;TZID=Europe/Amsterdam:20061007T174500
SUMMARY:K - 1. Klasse D 2006/07: Maria Rojach - Ferlach DSG
END:VEVENT
BEGIN:VEVENT
UID:20260420T222231UTC-0215Ci89uP@85.215.121.98
DTSTAMP:20260420T222231Z
DTSTART;TZID=Europe/Amsterdam:20061014T163000
DTEND;TZID=Europe/Amsterdam:20061014T181500
SUMMARY:K - 1. Klasse D 2006/07: Ferlach DSG - Rückersdorf
END:VEVENT
BEGIN:VEVENT
UID:20260420T222231UTC-0244rgJgvW@85.215.121.98
DTSTAMP:20260420T222231Z
DTSTART;TZID=Europe/Amsterdam:20061021T153000
DTEND;TZID=Europe/Amsterdam:20061021T171500
SUMMARY:K - 1. Klasse D 2006/07: Bad St. Leonhard - Ferlach DSG
END:VEVENT
BEGIN:VEVENT
UID:20260420T222231UTC-0265Dt3fLt@85.215.121.98
DTSTAMP:20260420T222231Z
DTSTART;TZID=Europe/Amsterdam:20061028T150000
DTEND;TZID=Europe/Amsterdam:20061028T164500
SUMMARY:K - 1. Klasse D 2006/07: St. Margareten/Ros. - Ferlach DSG
END:VEVENT
BEGIN:VEVENT
UID:20260420T222231UTC-0272eJtGUc@85.215.121.98
DTSTAMP:20260420T222231Z
DTSTART;TZID=Europe/Amsterdam:20061105T103000
DTEND;TZID=Europe/Amsterdam:20061105T121500
SUMMARY:K - 1. Klasse D 2006/07: Ferlach DSG - Globasnitz
END:VEVENT
BEGIN:VEVENT
UID:20260420T222231UTC-0282lIl1ow@85.215.121.98
DTSTAMP:20260420T222231Z
DTSTART;TZID=Europe/Amsterdam:20070331T150000
DTEND;TZID=Europe/Amsterdam:20070331T164500
SUMMARY:K - 1. Klasse D 2006/07: St. Margarethen/Lav. - Ferlach DSG
END:VEVENT
BEGIN:VEVENT
UID:20260420T222231UTC-0307B99HMK@85.215.121.98
DTSTAMP:20260420T222231Z
DTSTART;TZID=Europe/Amsterdam:20070407T160000
DTEND;TZID=Europe/Amsterdam:20070407T174500
SUMMARY:K - 1. Klasse D 2006/07: Ferlach DSG - St. Paul
END:VEVENT
BEGIN:VEVENT
UID:20260420T222231UTC-0316XGvoUx@85.215.121.98
DTSTAMP:20260420T222231Z
DTSTART;TZID=Europe/Amsterdam:20070415T170000
DTEND;TZID=Europe/Amsterdam:20070415T184500
SUMMARY:K - 1. Klasse D 2006/07: Mittlern - Ferlach DSG
END:VEVENT
BEGIN:VEVENT
UID:20260420T222231UTC-0321JIV23n@85.215.121.98
DTSTAMP:20260420T222231Z
DTSTART;TZID=Europe/Amsterdam:20070421T163000
DTEND;TZID=Europe/Amsterdam:20070421T181500
SUMMARY:K - 1. Klasse D 2006/07: Ferlach DSG - Donau
END:VEVENT
BEGIN:VEVENT
UID:20260420T222231UTC-0328MvFUvS@85.215.121.98
DTSTAMP:20260420T222231Z
DTSTART;TZID=Europe/Amsterdam:20070428T163000
DTEND;TZID=Europe/Amsterdam:20070428T181500
SUMMARY:K - 1. Klasse D 2006/07: Frantschach - Ferlach DSG
END:VEVENT
BEGIN:VEVENT
UID:20260420T222231UTC-0334I4v7Vm@85.215.121.98
DTSTAMP:20260420T222231Z
DTSTART;TZID=Europe/Amsterdam:20070505T170000
DTEND;TZID=Europe/Amsterdam:20070505T184500
SUMMARY:K - 1. Klasse D 2006/07: Ferlach DSG - Kühnsdorf
END:VEVENT
BEGIN:VEVENT
UID:20260420T222231UTC-0340V9LVfI@85.215.121.98
DTSTAMP:20260420T222231Z
DTSTART;TZID=Europe/Amsterdam:20070513T180000
DTEND;TZID=Europe/Amsterdam:20070513T194500
SUMMARY:K - 1. Klasse D 2006/07: Annabichler SV - Ferlach DSG
END:VEVENT
BEGIN:VEVENT
UID:20260420T222231UTC-0354bjdVKz@85.215.121.98
DTSTAMP:20260420T222231Z
DTSTART;TZID=Europe/Amsterdam:20070517T170000
DTEND;TZID=Europe/Amsterdam:20070517T184500
SUMMARY:K - 1. Klasse D 2006/07: Lavamünd - Ferlach DSG
END:VEVENT
BEGIN:VEVENT
UID:20260420T222231UTC-0360teut4i@85.215.121.98
DTSTAMP:20260420T222231Z
DTSTART;TZID=Europe/Amsterdam:20070519T170000
DTEND;TZID=Europe/Amsterdam:20070519T184500
SUMMARY:K - 1. Klasse D 2006/07: Ferlach DSG - Maria Rojach
END:VEVENT
BEGIN:VEVENT
UID:20260420T222231UTC-0375CmU4u4@85.215.121.98
DTSTAMP:20260420T222231Z
DTSTART;TZID=Europe/Amsterdam:20070603T180000
DTEND;TZID=Europe/Amsterdam:20070603T194500
SUMMARY:K - 1. Klasse D 2006/07: Rückersdorf - Ferlach DSG
END:VEVENT
BEGIN:VEVENT
UID:20260420T222231UTC-0381UiPzOD@85.215.121.98
DTSTAMP:20260420T222231Z
DTSTART;TZID=Europe/Amsterdam:20070609T173000
DTEND;TZID=Europe/Amsterdam:20070609T191500
SUMMARY:K - 1. Klasse D 2006/07: Ferlach DSG - Bad St. Leonhard
END:VEVENT
END:VCALENDAR
