BEGIN:VCALENDAR
VERSION:2.0
PRODID:-////NONSGML kigkonsult.se iCalcreator 2.18//
X-WR-TIMEZONE:Europe/Amsterdam
BEGIN:VTIMEZONE
TZID:Europe/Amsterdam
X-LIC-LOCATION:Europe/Amsterdam
BEGIN:STANDARD
DTSTART:20121028T030000
TZOFFSETFROM:+0200
TZOFFSETTO:+0100
RDATE:20131027T030000
TZNAME:CET
END:STANDARD
BEGIN:DAYLIGHT
DTSTART:20130331T020000
TZOFFSETFROM:+0100
TZOFFSETTO:+0200
RDATE:20140330T020000
TZNAME:CEST
END:DAYLIGHT
END:VTIMEZONE
BEGIN:VEVENT
UID:20260422T224124UTC-6815K6NJwX@85.215.121.98
DTSTAMP:20260422T224124Z
DTSTART;TZID=Europe/Amsterdam:20120728T173000
DTEND;TZID=Europe/Amsterdam:20120728T191500
SUMMARY:K - 1. Klasse C 2012/13: Sörg - HSV
END:VEVENT
BEGIN:VEVENT
UID:20260422T224124UTC-6910pTFgVb@85.215.121.98
DTSTAMP:20260422T224124Z
DTSTART;TZID=Europe/Amsterdam:20120804T173000
DTEND;TZID=Europe/Amsterdam:20120804T191500
SUMMARY:K - 1. Klasse C 2012/13: Sörg - Brückl
END:VEVENT
BEGIN:VEVENT
UID:20260422T224124UTC-6974GAEU8v@85.215.121.98
DTSTAMP:20260422T224124Z
DTSTART;TZID=Europe/Amsterdam:20120812T180000
DTEND;TZID=Europe/Amsterdam:20120812T194500
SUMMARY:K - 1. Klasse C 2012/13: Launsdorf - Sörg
END:VEVENT
BEGIN:VEVENT
UID:20260422T224124UTC-69831GtUIr@85.215.121.98
DTSTAMP:20260422T224124Z
DTSTART;TZID=Europe/Amsterdam:20120818T170000
DTEND;TZID=Europe/Amsterdam:20120818T184500
SUMMARY:K - 1. Klasse C 2012/13: Sörg - SV Glanegg
END:VEVENT
BEGIN:VEVENT
UID:20260422T224124UTC-6989ov4xiS@85.215.121.98
DTSTAMP:20260422T224124Z
DTSTART;TZID=Europe/Amsterdam:20120901T163000
DTEND;TZID=Europe/Amsterdam:20120901T181500
SUMMARY:K - 1. Klasse C 2012/13: Sörg - Steuerberg
END:VEVENT
BEGIN:VEVENT
UID:20260422T224124UTC-6995EPTZ0k@85.215.121.98
DTSTAMP:20260422T224124Z
DTSTART;TZID=Europe/Amsterdam:20120907T163000
DTEND;TZID=Europe/Amsterdam:20120907T181500
SUMMARY:K - 1. Klasse C 2012/13: Eberstein - Sörg
END:VEVENT
BEGIN:VEVENT
UID:20260422T224124UTC-7002Ux7kaW@85.215.121.98
DTSTAMP:20260422T224124Z
DTSTART;TZID=Europe/Amsterdam:20120909T150000
DTEND;TZID=Europe/Amsterdam:20120909T164500
SUMMARY:K - 1. Klasse C 2012/13: Bodensdorf - Sörg
END:VEVENT
BEGIN:VEVENT
UID:20260422T224124UTC-7020GKEOSC@85.215.121.98
DTSTAMP:20260422T224124Z
DTSTART;TZID=Europe/Amsterdam:20120915T150000
DTEND;TZID=Europe/Amsterdam:20120915T164500
SUMMARY:K - 1. Klasse C 2012/13: Sörg - SC Ulrichsberg
END:VEVENT
BEGIN:VEVENT
UID:20260422T224124UTC-7026xoB68V@85.215.121.98
DTSTAMP:20260422T224124Z
DTSTART;TZID=Europe/Amsterdam:20120922T160000
DTEND;TZID=Europe/Amsterdam:20120922T174500
SUMMARY:K - 1. Klasse C 2012/13: Sirnitz - Sörg
END:VEVENT
BEGIN:VEVENT
UID:20260422T224124UTC-7032w6EUSr@85.215.121.98
DTSTAMP:20260422T224124Z
DTSTART;TZID=Europe/Amsterdam:20120929T160000
DTEND;TZID=Europe/Amsterdam:20120929T174500
SUMMARY:K - 1. Klasse C 2012/13: Sörg - SG FC Poggersdorf
END:VEVENT
BEGIN:VEVENT
UID:20260422T224124UTC-7044Efm5AV@85.215.121.98
DTSTAMP:20260422T224124Z
DTSTART;TZID=Europe/Amsterdam:20121007T160000
DTEND;TZID=Europe/Amsterdam:20121007T174500
SUMMARY:K - 1. Klasse C 2012/13: Moosburg - Sörg
END:VEVENT
BEGIN:VEVENT
UID:20260422T224124UTC-7052vvTdU5@85.215.121.98
DTSTAMP:20260422T224124Z
DTSTART;TZID=Europe/Amsterdam:20121013T153000
DTEND;TZID=Europe/Amsterdam:20121013T171500
SUMMARY:K - 1. Klasse C 2012/13: Sörg - Wietersdorf
END:VEVENT
BEGIN:VEVENT
UID:20260422T224124UTC-7066H2DUTu@85.215.121.98
DTSTAMP:20260422T224124Z
DTSTART;TZID=Europe/Amsterdam:20121020T150000
DTEND;TZID=Europe/Amsterdam:20121020T164500
SUMMARY:K - 1. Klasse C 2012/13: Guttaring - Sörg
END:VEVENT
BEGIN:VEVENT
UID:20260422T224124UTC-7074Hx05no@85.215.121.98
DTSTAMP:20260422T224124Z
DTSTART;TZID=Europe/Amsterdam:20121026T141500
DTEND;TZID=Europe/Amsterdam:20121026T160000
SUMMARY:K - 1. Klasse C 2012/13: HSV - Sörg
END:VEVENT
BEGIN:VEVENT
UID:20260422T224124UTC-7079L0O3pk@85.215.121.98
DTSTAMP:20260422T224124Z
DTSTART;TZID=Europe/Amsterdam:20121103T150000
DTEND;TZID=Europe/Amsterdam:20121103T164500
SUMMARY:K - 1. Klasse C 2012/13: Brückl - Sörg
END:VEVENT
BEGIN:VEVENT
UID:20260422T224124UTC-7085u9uc4r@85.215.121.98
DTSTAMP:20260422T224124Z
DTSTART;TZID=Europe/Amsterdam:20130406T140000
DTEND;TZID=Europe/Amsterdam:20130406T154500
SUMMARY:K - 1. Klasse C 2012/13: SV Glanegg - Sörg
END:VEVENT
BEGIN:VEVENT
UID:20260422T224124UTC-7295FF4PrF@85.215.121.98
DTSTAMP:20260422T224124Z
DTSTART;TZID=Europe/Amsterdam:20130414T153000
DTEND;TZID=Europe/Amsterdam:20130414T171500
SUMMARY:K - 1. Klasse C 2012/13: Sörg - Eberstein
END:VEVENT
BEGIN:VEVENT
UID:20260422T224124UTC-7305pdtzG6@85.215.121.98
DTSTAMP:20260422T224124Z
DTSTART;TZID=Europe/Amsterdam:20130420T153000
DTEND;TZID=Europe/Amsterdam:20130420T171500
SUMMARY:K - 1. Klasse C 2012/13: Steuerberg - Sörg
END:VEVENT
BEGIN:VEVENT
UID:20260422T224124UTC-7315tksE6v@85.215.121.98
DTSTAMP:20260422T224124Z
DTSTART;TZID=Europe/Amsterdam:20130427T160000
DTEND;TZID=Europe/Amsterdam:20130427T174500
SUMMARY:K - 1. Klasse C 2012/13: Sörg - Bodensdorf
END:VEVENT
BEGIN:VEVENT
UID:20260422T224124UTC-7321VsX349@85.215.121.98
DTSTAMP:20260422T224124Z
DTSTART;TZID=Europe/Amsterdam:20130501T160000
DTEND;TZID=Europe/Amsterdam:20130501T174500
SUMMARY:K - 1. Klasse C 2012/13: Sörg - Launsdorf
END:VEVENT
BEGIN:VEVENT
UID:20260422T224124UTC-7334oG8u2b@85.215.121.98
DTSTAMP:20260422T224124Z
DTSTART;TZID=Europe/Amsterdam:20130505T160000
DTEND;TZID=Europe/Amsterdam:20130505T174500
SUMMARY:K - 1. Klasse C 2012/13: SC Ulrichsberg - Sörg
END:VEVENT
BEGIN:VEVENT
UID:20260422T224124UTC-7340TNU87u@85.215.121.98
DTSTAMP:20260422T224124Z
DTSTART;TZID=Europe/Amsterdam:20130511T160000
DTEND;TZID=Europe/Amsterdam:20130511T174500
SUMMARY:K - 1. Klasse C 2012/13: Sörg - Sirnitz
END:VEVENT
BEGIN:VEVENT
UID:20260422T224124UTC-7346wKkdXs@85.215.121.98
DTSTAMP:20260422T224124Z
DTSTART;TZID=Europe/Amsterdam:20130519T170000
DTEND;TZID=Europe/Amsterdam:20130519T184500
SUMMARY:K - 1. Klasse C 2012/13: SG FC Poggersdorf - Sörg
END:VEVENT
BEGIN:VEVENT
UID:20260422T224124UTC-7354pxouNK@85.215.121.98
DTSTAMP:20260422T224124Z
DTSTART;TZID=Europe/Amsterdam:20130525T163000
DTEND;TZID=Europe/Amsterdam:20130525T181500
SUMMARY:K - 1. Klasse C 2012/13: Sörg - Moosburg
END:VEVENT
BEGIN:VEVENT
UID:20260422T224124UTC-7364cl4UFj@85.215.121.98
DTSTAMP:20260422T224124Z
DTSTART;TZID=Europe/Amsterdam:20130601T170000
DTEND;TZID=Europe/Amsterdam:20130601T184500
SUMMARY:K - 1. Klasse C 2012/13: Wietersdorf - Sörg
END:VEVENT
BEGIN:VEVENT
UID:20260422T224124UTC-7371mrUVkF@85.215.121.98
DTSTAMP:20260422T224124Z
DTSTART;TZID=Europe/Amsterdam:20130609T180000
DTEND;TZID=Europe/Amsterdam:20130609T194500
SUMMARY:K - 1. Klasse C 2012/13: Sörg - Guttaring
END:VEVENT
END:VCALENDAR
