BEGIN:VCALENDAR
VERSION:2.0
PRODID:-////NONSGML kigkonsult.se iCalcreator 2.18//
X-WR-TIMEZONE:Europe/Amsterdam
BEGIN:VTIMEZONE
TZID:Europe/Amsterdam
X-LIC-LOCATION:Europe/Amsterdam
BEGIN:STANDARD
DTSTART:20131027T030000
TZOFFSETFROM:+0200
TZOFFSETTO:+0100
RDATE:20141026T030000
TZNAME:CET
END:STANDARD
BEGIN:DAYLIGHT
DTSTART:20140330T020000
TZOFFSETFROM:+0100
TZOFFSETTO:+0200
RDATE:20150329T020000
TZNAME:CEST
END:DAYLIGHT
END:VTIMEZONE
BEGIN:VEVENT
UID:20260422T063527UTC-5241iKnR58@85.215.121.98
DTSTAMP:20260422T063527Z
DTSTART;TZID=Europe/Amsterdam:20130727T170000
DTEND;TZID=Europe/Amsterdam:20130727T184500
SUMMARY:K - 2. Klasse C 2013/14: Weitensfeld - Gurk
END:VEVENT
BEGIN:VEVENT
UID:20260422T063527UTC-5445HTMbLe@85.215.121.98
DTSTAMP:20260422T063527Z
DTSTART;TZID=Europe/Amsterdam:20130803T180000
DTEND;TZID=Europe/Amsterdam:20130803T194500
SUMMARY:K - 2. Klasse C 2013/14: Gurk - Kappel
END:VEVENT
BEGIN:VEVENT
UID:20260422T063527UTC-5745iDcN01@85.215.121.98
DTSTAMP:20260422T063527Z
DTSTART;TZID=Europe/Amsterdam:20130810T173000
DTEND;TZID=Europe/Amsterdam:20130810T191500
SUMMARY:K - 2. Klasse C 2013/14: Viktring - Gurk
END:VEVENT
BEGIN:VEVENT
UID:20260422T063527UTC-58045uJcHF@85.215.121.98
DTSTAMP:20260422T063527Z
DTSTART;TZID=Europe/Amsterdam:20130815T173000
DTEND;TZID=Europe/Amsterdam:20130815T191500
SUMMARY:K - 2. Klasse C 2013/14: Gurk - Krumpendorf
END:VEVENT
BEGIN:VEVENT
UID:20260422T063527UTC-5865KrOmLO@85.215.121.98
DTSTAMP:20260422T063527Z
DTSTART;TZID=Europe/Amsterdam:20130824T173000
DTEND;TZID=Europe/Amsterdam:20130824T191500
SUMMARY:K - 2. Klasse C 2013/14: Straßburg - Gurk
END:VEVENT
BEGIN:VEVENT
UID:20260422T063527UTC-59150Gdih2@85.215.121.98
DTSTAMP:20260422T063527Z
DTSTART;TZID=Europe/Amsterdam:20130901T170000
DTEND;TZID=Europe/Amsterdam:20130901T184500
SUMMARY:K - 2. Klasse C 2013/14: Gurk - Techelsberg
END:VEVENT
BEGIN:VEVENT
UID:20260422T063527UTC-6027PmjK1A@85.215.121.98
DTSTAMP:20260422T063527Z
DTSTART;TZID=Europe/Amsterdam:20130914T170000
DTEND;TZID=Europe/Amsterdam:20130914T184500
SUMMARY:K - 2. Klasse C 2013/14: Gurk - Ferlach DSG
END:VEVENT
BEGIN:VEVENT
UID:20260422T063527UTC-6032TpCa4S@85.215.121.98
DTSTAMP:20260422T063527Z
DTSTART;TZID=Europe/Amsterdam:20130922T160000
DTEND;TZID=Europe/Amsterdam:20130922T174500
SUMMARY:K - 2. Klasse C 2013/14: KAC 1909 1b - Gurk
END:VEVENT
BEGIN:VEVENT
UID:20260422T063527UTC-6038x68lMV@85.215.121.98
DTSTAMP:20260422T063527Z
DTSTART;TZID=Europe/Amsterdam:20130928T163000
DTEND;TZID=Europe/Amsterdam:20130928T181500
SUMMARY:K - 2. Klasse C 2013/14: Gurk - Donau
END:VEVENT
BEGIN:VEVENT
UID:20260422T063527UTC-6064NLGgNm@85.215.121.98
DTSTAMP:20260422T063527Z
DTSTART;TZID=Europe/Amsterdam:20131005T150000
DTEND;TZID=Europe/Amsterdam:20131005T164500
SUMMARY:K - 2. Klasse C 2013/14: Pörtschach - Gurk
END:VEVENT
BEGIN:VEVENT
UID:20260422T063527UTC-60707cL4zO@85.215.121.98
DTSTAMP:20260422T063527Z
DTSTART;TZID=Europe/Amsterdam:20131012T160000
DTEND;TZID=Europe/Amsterdam:20131012T174500
SUMMARY:K - 2. Klasse C 2013/14: Himmelberg - Gurk
END:VEVENT
BEGIN:VEVENT
UID:20260422T063527UTC-6077ebHcmk@85.215.121.98
DTSTAMP:20260422T063527Z
DTSTART;TZID=Europe/Amsterdam:20131020T150000
DTEND;TZID=Europe/Amsterdam:20131020T164500
SUMMARY:K - 2. Klasse C 2013/14: Gurk - St. Urban
END:VEVENT
BEGIN:VEVENT
UID:20260422T063527UTC-6144DIstbl@85.215.121.98
DTSTAMP:20260422T063527Z
DTSTART;TZID=Europe/Amsterdam:20131026T160000
DTEND;TZID=Europe/Amsterdam:20131026T174500
SUMMARY:K - 2. Klasse C 2013/14: Gurk - Weitensfeld
END:VEVENT
BEGIN:VEVENT
UID:20260422T063527UTC-62147K5WXn@85.215.121.98
DTSTAMP:20260422T063527Z
DTSTART;TZID=Europe/Amsterdam:20131102T150000
DTEND;TZID=Europe/Amsterdam:20131102T164500
SUMMARY:K - 2. Klasse C 2013/14: Kappel - Gurk
END:VEVENT
BEGIN:VEVENT
UID:20260422T063527UTC-6315rZULHR@85.215.121.98
DTSTAMP:20260422T063527Z
DTSTART;TZID=Europe/Amsterdam:20140329T150000
DTEND;TZID=Europe/Amsterdam:20140329T164500
SUMMARY:K - 2. Klasse C 2013/14: Gurk - Viktring
END:VEVENT
BEGIN:VEVENT
UID:20260422T063527UTC-64183NGcoE@85.215.121.98
DTSTAMP:20260422T063527Z
DTSTART;TZID=Europe/Amsterdam:20140405T150000
DTEND;TZID=Europe/Amsterdam:20140405T164500
SUMMARY:K - 2. Klasse C 2013/14: Krumpendorf - Gurk
END:VEVENT
BEGIN:VEVENT
UID:20260422T063527UTC-6446Tu5dvK@85.215.121.98
DTSTAMP:20260422T063527Z
DTSTART;TZID=Europe/Amsterdam:20140412T160000
DTEND;TZID=Europe/Amsterdam:20140412T174500
SUMMARY:K - 2. Klasse C 2013/14: Gurk - Straßburg
END:VEVENT
BEGIN:VEVENT
UID:20260422T063527UTC-6453zB2ueu@85.215.121.98
DTSTAMP:20260422T063527Z
DTSTART;TZID=Europe/Amsterdam:20140419T160000
DTEND;TZID=Europe/Amsterdam:20140419T174500
SUMMARY:K - 2. Klasse C 2013/14: Techelsberg - Gurk
END:VEVENT
BEGIN:VEVENT
UID:20260422T063527UTC-64586uAZ2l@85.215.121.98
DTSTAMP:20260422T063527Z
DTSTART;TZID=Europe/Amsterdam:20140501T160000
DTEND;TZID=Europe/Amsterdam:20140501T174500
SUMMARY:K - 2. Klasse C 2013/14: Ferlach DSG - Gurk
END:VEVENT
BEGIN:VEVENT
UID:20260422T063527UTC-6464zAL3Un@85.215.121.98
DTSTAMP:20260422T063527Z
DTSTART;TZID=Europe/Amsterdam:20140510T170000
DTEND;TZID=Europe/Amsterdam:20140510T184500
SUMMARY:K - 2. Klasse C 2013/14: Gurk - KAC 1909 1b
END:VEVENT
BEGIN:VEVENT
UID:20260422T063527UTC-6485TjIjCr@85.215.121.98
DTSTAMP:20260422T063527Z
DTSTART;TZID=Europe/Amsterdam:20140518T104500
DTEND;TZID=Europe/Amsterdam:20140518T123000
SUMMARY:K - 2. Klasse C 2013/14: Donau - Gurk
END:VEVENT
BEGIN:VEVENT
UID:20260422T063527UTC-6491VVH2sa@85.215.121.98
DTSTAMP:20260422T063527Z
DTSTART;TZID=Europe/Amsterdam:20140524T170000
DTEND;TZID=Europe/Amsterdam:20140524T184500
SUMMARY:K - 2. Klasse C 2013/14: Gurk - Pörtschach
END:VEVENT
BEGIN:VEVENT
UID:20260422T063527UTC-6500sBLnzw@85.215.121.98
DTSTAMP:20260422T063527Z
DTSTART;TZID=Europe/Amsterdam:20140529T160000
DTEND;TZID=Europe/Amsterdam:20140529T174500
SUMMARY:K - 2. Klasse C 2013/14: Gurk - Himmelberg
END:VEVENT
BEGIN:VEVENT
UID:20260422T063527UTC-6506tvu7NO@85.215.121.98
DTSTAMP:20260422T063527Z
DTSTART;TZID=Europe/Amsterdam:20140614T180000
DTEND;TZID=Europe/Amsterdam:20140614T194500
SUMMARY:K - 2. Klasse C 2013/14: St. Urban - Gurk
END:VEVENT
END:VCALENDAR
