BEGIN:VCALENDAR
VERSION:2.0
PRODID:-////NONSGML kigkonsult.se iCalcreator 2.18//
X-WR-TIMEZONE:Europe/Amsterdam
BEGIN:VTIMEZONE
TZID:Europe/Amsterdam
X-LIC-LOCATION:Europe/Amsterdam
BEGIN:STANDARD
DTSTART:20071028T030000
TZOFFSETFROM:+0200
TZOFFSETTO:+0100
RDATE:20081026T030000
TZNAME:CET
END:STANDARD
BEGIN:DAYLIGHT
DTSTART:20080330T020000
TZOFFSETFROM:+0100
TZOFFSETTO:+0200
RDATE:20090329T020000
TZNAME:CEST
END:DAYLIGHT
END:VTIMEZONE
BEGIN:VEVENT
UID:20260422T223844UTC-3713ZR6Uof@85.215.121.98
DTSTAMP:20260422T223844Z
DTSTART;TZID=Europe/Amsterdam:20070728T170000
DTEND;TZID=Europe/Amsterdam:20070728T184500
SUMMARY:K - 1. Klasse B 2007/08: Atus Velden - Faakersee
END:VEVENT
BEGIN:VEVENT
UID:20260422T223844UTC-3835kaLU5u@85.215.121.98
DTSTAMP:20260422T223844Z
DTSTART;TZID=Europe/Amsterdam:20070805T180000
DTEND;TZID=Europe/Amsterdam:20070805T194500
SUMMARY:K - 1. Klasse B 2007/08: Faakersee - SV Wernberg
END:VEVENT
BEGIN:VEVENT
UID:20260422T223844UTC-3888wgj1JM@85.215.121.98
DTSTAMP:20260422T223844Z
DTSTART;TZID=Europe/Amsterdam:20070812T173000
DTEND;TZID=Europe/Amsterdam:20070812T191500
SUMMARY:K - 1. Klasse B 2007/08: Afritz - Faakersee
END:VEVENT
BEGIN:VEVENT
UID:20260422T223844UTC-3896S6F4c5@85.215.121.98
DTSTAMP:20260422T223844Z
DTSTART;TZID=Europe/Amsterdam:20070815T173000
DTEND;TZID=Europe/Amsterdam:20070815T191500
SUMMARY:K - 1. Klasse B 2007/08: Faakersee - Rosegg
END:VEVENT
BEGIN:VEVENT
UID:20260422T223844UTC-3902r9MXC5@85.215.121.98
DTSTAMP:20260422T223844Z
DTSTART;TZID=Europe/Amsterdam:20070819T170000
DTEND;TZID=Europe/Amsterdam:20070819T184500
SUMMARY:K - 1. Klasse B 2007/08: Ledenitzen - Faakersee
END:VEVENT
BEGIN:VEVENT
UID:20260422T223844UTC-3909rUKFn0@85.215.121.98
DTSTAMP:20260422T223844Z
DTSTART;TZID=Europe/Amsterdam:20070826T170000
DTEND;TZID=Europe/Amsterdam:20070826T184500
SUMMARY:K - 1. Klasse B 2007/08: Faakersee - ASKÖ Bodensdorf/SV Ossiach
END:VEVENT
BEGIN:VEVENT
UID:20260422T223844UTC-3944sHZfOh@85.215.121.98
DTSTAMP:20260422T223844Z
DTSTART;TZID=Europe/Amsterdam:20070902T160000
DTEND;TZID=Europe/Amsterdam:20070902T174500
SUMMARY:K - 1. Klasse B 2007/08: SC Mühldorf - Faakersee
END:VEVENT
BEGIN:VEVENT
UID:20260422T223844UTC-3957uKhFde@85.215.121.98
DTSTAMP:20260422T223844Z
DTSTART;TZID=Europe/Amsterdam:20070909T163000
DTEND;TZID=Europe/Amsterdam:20070909T181500
SUMMARY:K - 1. Klasse B 2007/08: Faakersee - Rennweg
END:VEVENT
BEGIN:VEVENT
UID:20260422T223844UTC-39666dcngT@85.215.121.98
DTSTAMP:20260422T223844Z
DTSTART;TZID=Europe/Amsterdam:20070915T163000
DTEND;TZID=Europe/Amsterdam:20070915T181500
SUMMARY:K - 1. Klasse B 2007/08: Radenthein - Faakersee
END:VEVENT
BEGIN:VEVENT
UID:20260422T223844UTC-39803jcb2f@85.215.121.98
DTSTAMP:20260422T223844Z
DTSTART;TZID=Europe/Amsterdam:20070923T160000
DTEND;TZID=Europe/Amsterdam:20070923T174500
SUMMARY:K - 1. Klasse B 2007/08: Faakersee - Admira Villach
END:VEVENT
BEGIN:VEVENT
UID:20260422T223844UTC-3987jDP1nl@85.215.121.98
DTSTAMP:20260422T223844Z
DTSTART;TZID=Europe/Amsterdam:20070930T160000
DTEND;TZID=Europe/Amsterdam:20070930T174500
SUMMARY:K - 1. Klasse B 2007/08: Köstenberg - Faakersee
END:VEVENT
BEGIN:VEVENT
UID:20260422T223844UTC-4014uaviGV@85.215.121.98
DTSTAMP:20260422T223844Z
DTSTART;TZID=Europe/Amsterdam:20071007T160000
DTEND;TZID=Europe/Amsterdam:20071007T174500
SUMMARY:K - 1. Klasse B 2007/08: Arnoldstein - Faakersee
END:VEVENT
BEGIN:VEVENT
UID:20260422T223844UTC-40216f8o1V@85.215.121.98
DTSTAMP:20260422T223844Z
DTSTART;TZID=Europe/Amsterdam:20071014T153000
DTEND;TZID=Europe/Amsterdam:20071014T171500
SUMMARY:K - 1. Klasse B 2007/08: Faakersee - Obermillstatt
END:VEVENT
BEGIN:VEVENT
UID:20260422T223844UTC-4027xkvVkR@85.215.121.98
DTSTAMP:20260422T223844Z
DTSTART;TZID=Europe/Amsterdam:20071021T150000
DTEND;TZID=Europe/Amsterdam:20071021T164500
SUMMARY:K - 1. Klasse B 2007/08: Faakersee - Atus Velden
END:VEVENT
BEGIN:VEVENT
UID:20260422T223844UTC-4034Lz1MUm@85.215.121.98
DTSTAMP:20260422T223844Z
DTSTART;TZID=Europe/Amsterdam:20071027T150000
DTEND;TZID=Europe/Amsterdam:20071027T164500
SUMMARY:K - 1. Klasse B 2007/08: SV Wernberg - Faakersee
END:VEVENT
BEGIN:VEVENT
UID:20260422T223844UTC-4039GVVEoP@85.215.121.98
DTSTAMP:20260422T223844Z
DTSTART;TZID=Europe/Amsterdam:20071104T143000
DTEND;TZID=Europe/Amsterdam:20071104T161500
SUMMARY:K - 1. Klasse B 2007/08: Faakersee - Afritz
END:VEVENT
BEGIN:VEVENT
UID:20260422T223844UTC-4048iC266E@85.215.121.98
DTSTAMP:20260422T223844Z
DTSTART;TZID=Europe/Amsterdam:20080330T150000
DTEND;TZID=Europe/Amsterdam:20080330T164500
SUMMARY:K - 1. Klasse B 2007/08: Faakersee - Ledenitzen
END:VEVENT
BEGIN:VEVENT
UID:20260422T223844UTC-4058V7UTD1@85.215.121.98
DTSTAMP:20260422T223844Z
DTSTART;TZID=Europe/Amsterdam:20080405T153000
DTEND;TZID=Europe/Amsterdam:20080405T171500
SUMMARY:K - 1. Klasse B 2007/08: ASKÖ Bodensdorf/SV Ossiach - Faakersee
END:VEVENT
BEGIN:VEVENT
UID:20260422T223844UTC-4065NKim73@85.215.121.98
DTSTAMP:20260422T223844Z
DTSTART;TZID=Europe/Amsterdam:20080413T153000
DTEND;TZID=Europe/Amsterdam:20080413T171500
SUMMARY:K - 1. Klasse B 2007/08: Faakersee - SC Mühldorf
END:VEVENT
BEGIN:VEVENT
UID:20260422T223844UTC-4074UZS3gO@85.215.121.98
DTSTAMP:20260422T223844Z
DTSTART;TZID=Europe/Amsterdam:20080420T160000
DTEND;TZID=Europe/Amsterdam:20080420T174500
SUMMARY:K - 1. Klasse B 2007/08: Rennweg - Faakersee
END:VEVENT
BEGIN:VEVENT
UID:20260422T223844UTC-4094e0uZBa@85.215.121.98
DTSTAMP:20260422T223844Z
DTSTART;TZID=Europe/Amsterdam:20080427T160000
DTEND;TZID=Europe/Amsterdam:20080427T174500
SUMMARY:K - 1. Klasse B 2007/08: Faakersee - Radenthein
END:VEVENT
BEGIN:VEVENT
UID:20260422T223844UTC-4104E7eRXa@85.215.121.98
DTSTAMP:20260422T223844Z
DTSTART;TZID=Europe/Amsterdam:20080501T160000
DTEND;TZID=Europe/Amsterdam:20080501T174500
SUMMARY:K - 1. Klasse B 2007/08: Rosegg - Faakersee
END:VEVENT
BEGIN:VEVENT
UID:20260422T223844UTC-4110dFTz3V@85.215.121.98
DTSTAMP:20260422T223844Z
DTSTART;TZID=Europe/Amsterdam:20080504T160000
DTEND;TZID=Europe/Amsterdam:20080504T174500
SUMMARY:K - 1. Klasse B 2007/08: Admira Villach - Faakersee
END:VEVENT
BEGIN:VEVENT
UID:20260422T223844UTC-4117UnPmt5@85.215.121.98
DTSTAMP:20260422T223844Z
DTSTART;TZID=Europe/Amsterdam:20080518T170000
DTEND;TZID=Europe/Amsterdam:20080518T184500
SUMMARY:K - 1. Klasse B 2007/08: Faakersee - Köstenberg
END:VEVENT
BEGIN:VEVENT
UID:20260422T223844UTC-4124vvkhO1@85.215.121.98
DTSTAMP:20260422T223844Z
DTSTART;TZID=Europe/Amsterdam:20080525T170000
DTEND;TZID=Europe/Amsterdam:20080525T184500
SUMMARY:K - 1. Klasse B 2007/08: Faakersee - Arnoldstein
END:VEVENT
BEGIN:VEVENT
UID:20260422T223844UTC-4134vkU3oE@85.215.121.98
DTSTAMP:20260422T223844Z
DTSTART;TZID=Europe/Amsterdam:20080601T173000
DTEND;TZID=Europe/Amsterdam:20080601T191500
SUMMARY:K - 1. Klasse B 2007/08: Obermillstatt - Faakersee
END:VEVENT
END:VCALENDAR
