BEGIN:VCALENDAR
VERSION:2.0
PRODID:-////NONSGML kigkonsult.se iCalcreator 2.18//
X-WR-TIMEZONE:Europe/Amsterdam
BEGIN:VTIMEZONE
TZID:Europe/Amsterdam
X-LIC-LOCATION:Europe/Amsterdam
BEGIN:STANDARD
DTSTART:20071028T030000
TZOFFSETFROM:+0200
TZOFFSETTO:+0100
RDATE:20081026T030000
TZNAME:CET
END:STANDARD
BEGIN:DAYLIGHT
DTSTART:20080330T020000
TZOFFSETFROM:+0100
TZOFFSETTO:+0200
RDATE:20090329T020000
TZNAME:CEST
END:DAYLIGHT
END:VTIMEZONE
BEGIN:VEVENT
UID:20260423T193626UTC-8226GVtcPn@85.215.121.98
DTSTAMP:20260423T193626Z
DTSTART;TZID=Europe/Amsterdam:20070729T173000
DTEND;TZID=Europe/Amsterdam:20070729T191500
SUMMARY:K - 1. Klasse B 2007/08: Afritz - Admira Villach
END:VEVENT
BEGIN:VEVENT
UID:20260423T193626UTC-8365S5RVPr@85.215.121.98
DTSTAMP:20260423T193626Z
DTSTART;TZID=Europe/Amsterdam:20070805T180000
DTEND;TZID=Europe/Amsterdam:20070805T194500
SUMMARY:K - 1. Klasse B 2007/08: Köstenberg - Afritz
END:VEVENT
BEGIN:VEVENT
UID:20260423T193626UTC-8372JoviLx@85.215.121.98
DTSTAMP:20260423T193626Z
DTSTART;TZID=Europe/Amsterdam:20070812T173000
DTEND;TZID=Europe/Amsterdam:20070812T191500
SUMMARY:K - 1. Klasse B 2007/08: Afritz - Faakersee
END:VEVENT
BEGIN:VEVENT
UID:20260423T193626UTC-83789kEBNI@85.215.121.98
DTSTAMP:20260423T193626Z
DTSTART;TZID=Europe/Amsterdam:20070815T110000
DTEND;TZID=Europe/Amsterdam:20070815T124500
SUMMARY:K - 1. Klasse B 2007/08: Obermillstatt - Afritz
END:VEVENT
BEGIN:VEVENT
UID:20260423T193626UTC-8384LkeCoA@85.215.121.98
DTSTAMP:20260423T193626Z
DTSTART;TZID=Europe/Amsterdam:20070819T170000
DTEND;TZID=Europe/Amsterdam:20070819T184500
SUMMARY:K - 1. Klasse B 2007/08: Afritz - Atus Velden
END:VEVENT
BEGIN:VEVENT
UID:20260423T193626UTC-83917uvBDL@85.215.121.98
DTSTAMP:20260423T193626Z
DTSTART;TZID=Europe/Amsterdam:20070825T170000
DTEND;TZID=Europe/Amsterdam:20070825T184500
SUMMARY:K - 1. Klasse B 2007/08: SV Wernberg - Afritz
END:VEVENT
BEGIN:VEVENT
UID:20260423T193626UTC-83967HxgHZ@85.215.121.98
DTSTAMP:20260423T193626Z
DTSTART;TZID=Europe/Amsterdam:20070902T170000
DTEND;TZID=Europe/Amsterdam:20070902T184500
SUMMARY:K - 1. Klasse B 2007/08: Afritz - Arnoldstein
END:VEVENT
BEGIN:VEVENT
UID:20260423T193626UTC-8401vE5wwZ@85.215.121.98
DTSTAMP:20260423T193626Z
DTSTART;TZID=Europe/Amsterdam:20070909T170000
DTEND;TZID=Europe/Amsterdam:20070909T184500
SUMMARY:K - 1. Klasse B 2007/08: Afritz - Rosegg
END:VEVENT
BEGIN:VEVENT
UID:20260423T193626UTC-84093VjsUu@85.215.121.98
DTSTAMP:20260423T193626Z
DTSTART;TZID=Europe/Amsterdam:20070916T170000
DTEND;TZID=Europe/Amsterdam:20070916T184500
SUMMARY:K - 1. Klasse B 2007/08: Ledenitzen - Afritz
END:VEVENT
BEGIN:VEVENT
UID:20260423T193626UTC-84181W8XwM@85.215.121.98
DTSTAMP:20260423T193626Z
DTSTART;TZID=Europe/Amsterdam:20070923T160000
DTEND;TZID=Europe/Amsterdam:20070923T174500
SUMMARY:K - 1. Klasse B 2007/08: Afritz - ASKÖ Bodensdorf/SV Ossiach
END:VEVENT
BEGIN:VEVENT
UID:20260423T193626UTC-8423rOtKUh@85.215.121.98
DTSTAMP:20260423T193626Z
DTSTART;TZID=Europe/Amsterdam:20070930T160000
DTEND;TZID=Europe/Amsterdam:20070930T174500
SUMMARY:K - 1. Klasse B 2007/08: SC Mühldorf - Afritz
END:VEVENT
BEGIN:VEVENT
UID:20260423T193626UTC-8430wgKnjX@85.215.121.98
DTSTAMP:20260423T193626Z
DTSTART;TZID=Europe/Amsterdam:20071013T153000
DTEND;TZID=Europe/Amsterdam:20071013T171500
SUMMARY:K - 1. Klasse B 2007/08: Radenthein - Afritz
END:VEVENT
BEGIN:VEVENT
UID:20260423T193626UTC-8436T7UZZ3@85.215.121.98
DTSTAMP:20260423T193626Z
DTSTART;TZID=Europe/Amsterdam:20071021T150000
DTEND;TZID=Europe/Amsterdam:20071021T164500
SUMMARY:K - 1. Klasse B 2007/08: Admira Villach - Afritz
END:VEVENT
BEGIN:VEVENT
UID:20260423T193626UTC-8441ZNzsFv@85.215.121.98
DTSTAMP:20260423T193626Z
DTSTART;TZID=Europe/Amsterdam:20071026T150000
DTEND;TZID=Europe/Amsterdam:20071026T164500
SUMMARY:K - 1. Klasse B 2007/08: Afritz - Rennweg
END:VEVENT
BEGIN:VEVENT
UID:20260423T193626UTC-8446VPLt8F@85.215.121.98
DTSTAMP:20260423T193626Z
DTSTART;TZID=Europe/Amsterdam:20071104T143000
DTEND;TZID=Europe/Amsterdam:20071104T161500
SUMMARY:K - 1. Klasse B 2007/08: Faakersee - Afritz
END:VEVENT
BEGIN:VEVENT
UID:20260423T193626UTC-8454zwBrUT@85.215.121.98
DTSTAMP:20260423T193626Z
DTSTART;TZID=Europe/Amsterdam:20071110T140000
DTEND;TZID=Europe/Amsterdam:20071110T154500
SUMMARY:K - 1. Klasse B 2007/08: Afritz - Köstenberg
END:VEVENT
BEGIN:VEVENT
UID:20260423T193626UTC-8461npEgZ8@85.215.121.98
DTSTAMP:20260423T193626Z
DTSTART;TZID=Europe/Amsterdam:20080322T150000
DTEND;TZID=Europe/Amsterdam:20080322T164500
SUMMARY:K - 1. Klasse B 2007/08: Afritz - Obermillstatt
END:VEVENT
BEGIN:VEVENT
UID:20260423T193626UTC-8467Z5UzV2@85.215.121.98
DTSTAMP:20260423T193626Z
DTSTART;TZID=Europe/Amsterdam:20080329T160000
DTEND;TZID=Europe/Amsterdam:20080329T174500
SUMMARY:K - 1. Klasse B 2007/08: Atus Velden - Afritz
END:VEVENT
BEGIN:VEVENT
UID:20260423T193626UTC-84737c8ex9@85.215.121.98
DTSTAMP:20260423T193626Z
DTSTART;TZID=Europe/Amsterdam:20080406T153000
DTEND;TZID=Europe/Amsterdam:20080406T171500
SUMMARY:K - 1. Klasse B 2007/08: Afritz - SV Wernberg
END:VEVENT
BEGIN:VEVENT
UID:20260423T193626UTC-84792vx29O@85.215.121.98
DTSTAMP:20260423T193626Z
DTSTART;TZID=Europe/Amsterdam:20080419T150000
DTEND;TZID=Europe/Amsterdam:20080419T164500
SUMMARY:K - 1. Klasse B 2007/08: Rosegg - Afritz
END:VEVENT
BEGIN:VEVENT
UID:20260423T193626UTC-8484bSND3x@85.215.121.98
DTSTAMP:20260423T193626Z
DTSTART;TZID=Europe/Amsterdam:20080427T160000
DTEND;TZID=Europe/Amsterdam:20080427T174500
SUMMARY:K - 1. Klasse B 2007/08: Afritz - Ledenitzen
END:VEVENT
BEGIN:VEVENT
UID:20260423T193626UTC-8489bvTvni@85.215.121.98
DTSTAMP:20260423T193626Z
DTSTART;TZID=Europe/Amsterdam:20080503T163000
DTEND;TZID=Europe/Amsterdam:20080503T181500
SUMMARY:K - 1. Klasse B 2007/08: ASKÖ Bodensdorf/SV Ossiach - Afritz
END:VEVENT
BEGIN:VEVENT
UID:20260423T193626UTC-8495gGvIZ0@85.215.121.98
DTSTAMP:20260423T193626Z
DTSTART;TZID=Europe/Amsterdam:20080510T170000
DTEND;TZID=Europe/Amsterdam:20080510T184500
SUMMARY:K - 1. Klasse B 2007/08: Arnoldstein - Afritz
END:VEVENT
BEGIN:VEVENT
UID:20260423T193626UTC-85033L1KDH@85.215.121.98
DTSTAMP:20260423T193626Z
DTSTART;TZID=Europe/Amsterdam:20080518T170000
DTEND;TZID=Europe/Amsterdam:20080518T184500
SUMMARY:K - 1. Klasse B 2007/08: Afritz - SC Mühldorf
END:VEVENT
BEGIN:VEVENT
UID:20260423T193626UTC-8508fF5wVU@85.215.121.98
DTSTAMP:20260423T193626Z
DTSTART;TZID=Europe/Amsterdam:20080524T163000
DTEND;TZID=Europe/Amsterdam:20080524T181500
SUMMARY:K - 1. Klasse B 2007/08: Rennweg - Afritz
END:VEVENT
BEGIN:VEVENT
UID:20260423T193626UTC-8517E36Gs5@85.215.121.98
DTSTAMP:20260423T193626Z
DTSTART;TZID=Europe/Amsterdam:20080531T170000
DTEND;TZID=Europe/Amsterdam:20080531T184500
SUMMARY:K - 1. Klasse B 2007/08: Afritz - Radenthein
END:VEVENT
END:VCALENDAR
