BEGIN:VCALENDAR
VERSION:2.0
PRODID:-////NONSGML kigkonsult.se iCalcreator 2.18//
X-WR-TIMEZONE:Europe/Amsterdam
BEGIN:VTIMEZONE
TZID:Europe/Amsterdam
X-LIC-LOCATION:Europe/Amsterdam
BEGIN:STANDARD
DTSTART:20061029T030000
TZOFFSETFROM:+0200
TZOFFSETTO:+0100
RDATE:20071028T030000
TZNAME:CET
END:STANDARD
BEGIN:DAYLIGHT
DTSTART:20070325T020000
TZOFFSETFROM:+0100
TZOFFSETTO:+0200
RDATE:20080330T020000
TZNAME:CEST
END:DAYLIGHT
END:VTIMEZONE
BEGIN:VEVENT
UID:20260426T024610UTC-0299IiV7h4@85.215.121.98
DTSTAMP:20260426T024610Z
DTSTART;TZID=Europe/Amsterdam:20060729T180000
DTEND;TZID=Europe/Amsterdam:20060729T194500
SUMMARY:K - 2. Klasse B 2006/07: Obermillstatt - Malta
END:VEVENT
BEGIN:VEVENT
UID:20260426T024610UTC-0306BmZiCR@85.215.121.98
DTSTAMP:20260426T024610Z
DTSTART;TZID=Europe/Amsterdam:20060805T173000
DTEND;TZID=Europe/Amsterdam:20060805T191500
SUMMARY:K - 2. Klasse B 2006/07: Baldramsdorf - Malta
END:VEVENT
BEGIN:VEVENT
UID:20260426T024610UTC-0312R5ikFc@85.215.121.98
DTSTAMP:20260426T024610Z
DTSTART;TZID=Europe/Amsterdam:20060815T170000
DTEND;TZID=Europe/Amsterdam:20060815T184500
SUMMARY:K - 2. Klasse B 2006/07: Malta - Töplitsch
END:VEVENT
BEGIN:VEVENT
UID:20260426T024610UTC-0319uRXKzG@85.215.121.98
DTSTAMP:20260426T024610Z
DTSTART;TZID=Europe/Amsterdam:20060819T173000
DTEND;TZID=Europe/Amsterdam:20060819T191500
SUMMARY:K - 2. Klasse B 2006/07: Ossiach - Malta
END:VEVENT
BEGIN:VEVENT
UID:20260426T024610UTC-0325hsV6mO@85.215.121.98
DTSTAMP:20260426T024610Z
DTSTART;TZID=Europe/Amsterdam:20060826T170000
DTEND;TZID=Europe/Amsterdam:20060826T184500
SUMMARY:K - 2. Klasse B 2006/07: Malta - Arriach
END:VEVENT
BEGIN:VEVENT
UID:20260426T024610UTC-0330WThTIE@85.215.121.98
DTSTAMP:20260426T024610Z
DTSTART;TZID=Europe/Amsterdam:20060902T170000
DTEND;TZID=Europe/Amsterdam:20060902T184500
SUMMARY:K - 2. Klasse B 2006/07: Seebach - Malta
END:VEVENT
BEGIN:VEVENT
UID:20260426T024610UTC-03354x62v5@85.215.121.98
DTSTAMP:20260426T024610Z
DTSTART;TZID=Europe/Amsterdam:20060909T170000
DTEND;TZID=Europe/Amsterdam:20060909T184500
SUMMARY:K - 2. Klasse B 2006/07: Malta - Schiefling
END:VEVENT
BEGIN:VEVENT
UID:20260426T024610UTC-03411ZgWH8@85.215.121.98
DTSTAMP:20260426T024610Z
DTSTART;TZID=Europe/Amsterdam:20060916T163000
DTEND;TZID=Europe/Amsterdam:20060916T181500
SUMMARY:K - 2. Klasse B 2006/07: Rosegg - Malta
END:VEVENT
BEGIN:VEVENT
UID:20260426T024610UTC-0346VzcDxh@85.215.121.98
DTSTAMP:20260426T024610Z
DTSTART;TZID=Europe/Amsterdam:20060923T163000
DTEND;TZID=Europe/Amsterdam:20060923T181500
SUMMARY:K - 2. Klasse B 2006/07: Malta - Fresach
END:VEVENT
BEGIN:VEVENT
UID:20260426T024610UTC-0352RIohpG@85.215.121.98
DTSTAMP:20260426T024610Z
DTSTART;TZID=Europe/Amsterdam:20060930T160000
DTEND;TZID=Europe/Amsterdam:20060930T174500
SUMMARY:K - 2. Klasse B 2006/07: Bad Bleiberg - Malta
END:VEVENT
BEGIN:VEVENT
UID:20260426T024610UTC-0357IzNK0U@85.215.121.98
DTSTAMP:20260426T024610Z
DTSTART;TZID=Europe/Amsterdam:20061007T160000
DTEND;TZID=Europe/Amsterdam:20061007T174500
SUMMARY:K - 2. Klasse B 2006/07: Malta - St. Jakob/Ros.
END:VEVENT
BEGIN:VEVENT
UID:20260426T024610UTC-0363aPWHPU@85.215.121.98
DTSTAMP:20260426T024610Z
DTSTART;TZID=Europe/Amsterdam:20061014T150000
DTEND;TZID=Europe/Amsterdam:20061014T164500
SUMMARY:K - 2. Klasse B 2006/07: Ferndorf - Malta
END:VEVENT
BEGIN:VEVENT
UID:20260426T024610UTC-0369Jh3krF@85.215.121.98
DTSTAMP:20260426T024610Z
DTSTART;TZID=Europe/Amsterdam:20061021T160000
DTEND;TZID=Europe/Amsterdam:20061021T174500
SUMMARY:K - 2. Klasse B 2006/07: Malta - Stockenboi
END:VEVENT
BEGIN:VEVENT
UID:20260426T024610UTC-0375ucwZBK@85.215.121.98
DTSTAMP:20260426T024610Z
DTSTART;TZID=Europe/Amsterdam:20061026T110000
DTEND;TZID=Europe/Amsterdam:20061026T124500
SUMMARY:K - 2. Klasse B 2006/07: Kleinkirchheim - Malta
END:VEVENT
BEGIN:VEVENT
UID:20260426T024610UTC-03816Po4Tg@85.215.121.98
DTSTAMP:20260426T024610Z
DTSTART;TZID=Europe/Amsterdam:20061029T150000
DTEND;TZID=Europe/Amsterdam:20061029T164500
SUMMARY:K - 2. Klasse B 2006/07: Malta - Egg
END:VEVENT
BEGIN:VEVENT
UID:20260426T024610UTC-0386nZ4nhm@85.215.121.98
DTSTAMP:20260426T024610Z
DTSTART;TZID=Europe/Amsterdam:20061104T143000
DTEND;TZID=Europe/Amsterdam:20061104T161500
SUMMARY:K - 2. Klasse B 2006/07: Malta - Obermillstatt
END:VEVENT
BEGIN:VEVENT
UID:20260426T024610UTC-0392K7gAb4@85.215.121.98
DTSTAMP:20260426T024610Z
DTSTART;TZID=Europe/Amsterdam:20061111T143000
DTEND;TZID=Europe/Amsterdam:20061111T161500
SUMMARY:K - 2. Klasse B 2006/07: Malta - Baldramsdorf
END:VEVENT
BEGIN:VEVENT
UID:20260426T024610UTC-0397Z6TV76@85.215.121.98
DTSTAMP:20260426T024610Z
DTSTART;TZID=Europe/Amsterdam:20070407T160000
DTEND;TZID=Europe/Amsterdam:20070407T174500
SUMMARY:K - 2. Klasse B 2006/07: Malta - Ossiach
END:VEVENT
BEGIN:VEVENT
UID:20260426T024610UTC-0403tULIUK@85.215.121.98
DTSTAMP:20260426T024610Z
DTSTART;TZID=Europe/Amsterdam:20070414T160000
DTEND;TZID=Europe/Amsterdam:20070414T174500
SUMMARY:K - 2. Klasse B 2006/07: Arriach - Malta
END:VEVENT
BEGIN:VEVENT
UID:20260426T024610UTC-0408io7XG6@85.215.121.98
DTSTAMP:20260426T024610Z
DTSTART;TZID=Europe/Amsterdam:20070421T160000
DTEND;TZID=Europe/Amsterdam:20070421T174500
SUMMARY:K - 2. Klasse B 2006/07: Malta - Seebach
END:VEVENT
BEGIN:VEVENT
UID:20260426T024610UTC-0414UvtLLF@85.215.121.98
DTSTAMP:20260426T024610Z
DTSTART;TZID=Europe/Amsterdam:20070429T150000
DTEND;TZID=Europe/Amsterdam:20070429T164500
SUMMARY:K - 2. Klasse B 2006/07: Schiefling - Malta
END:VEVENT
BEGIN:VEVENT
UID:20260426T024610UTC-0419XF9sSL@85.215.121.98
DTSTAMP:20260426T024610Z
DTSTART;TZID=Europe/Amsterdam:20070501T103000
DTEND;TZID=Europe/Amsterdam:20070501T121500
SUMMARY:K - 2. Klasse B 2006/07: Töplitsch - Malta
END:VEVENT
BEGIN:VEVENT
UID:20260426T024610UTC-0425HHb0N6@85.215.121.98
DTSTAMP:20260426T024610Z
DTSTART;TZID=Europe/Amsterdam:20070505T180000
DTEND;TZID=Europe/Amsterdam:20070505T194500
SUMMARY:K - 2. Klasse B 2006/07: Malta - Rosegg
END:VEVENT
BEGIN:VEVENT
UID:20260426T024610UTC-0430WwaPxB@85.215.121.98
DTSTAMP:20260426T024610Z
DTSTART;TZID=Europe/Amsterdam:20070513T170000
DTEND;TZID=Europe/Amsterdam:20070513T184500
SUMMARY:K - 2. Klasse B 2006/07: Fresach - Malta
END:VEVENT
BEGIN:VEVENT
UID:20260426T024610UTC-0436fU1pOf@85.215.121.98
DTSTAMP:20260426T024610Z
DTSTART;TZID=Europe/Amsterdam:20070517T180000
DTEND;TZID=Europe/Amsterdam:20070517T194500
SUMMARY:K - 2. Klasse B 2006/07: Malta - Bad Bleiberg
END:VEVENT
BEGIN:VEVENT
UID:20260426T024610UTC-0441Jg5FVk@85.215.121.98
DTSTAMP:20260426T024610Z
DTSTART;TZID=Europe/Amsterdam:20070520T170000
DTEND;TZID=Europe/Amsterdam:20070520T184500
SUMMARY:K - 2. Klasse B 2006/07: St. Jakob/Ros. - Malta
END:VEVENT
BEGIN:VEVENT
UID:20260426T024610UTC-0448oXZM5a@85.215.121.98
DTSTAMP:20260426T024610Z
DTSTART;TZID=Europe/Amsterdam:20070526T180000
DTEND;TZID=Europe/Amsterdam:20070526T194500
SUMMARY:K - 2. Klasse B 2006/07: Malta - Ferndorf
END:VEVENT
BEGIN:VEVENT
UID:20260426T024610UTC-0454fih1aa@85.215.121.98
DTSTAMP:20260426T024610Z
DTSTART;TZID=Europe/Amsterdam:20070603T170000
DTEND;TZID=Europe/Amsterdam:20070603T184500
SUMMARY:K - 2. Klasse B 2006/07: Stockenboi - Malta
END:VEVENT
BEGIN:VEVENT
UID:20260426T024610UTC-0459alz6mk@85.215.121.98
DTSTAMP:20260426T024610Z
DTSTART;TZID=Europe/Amsterdam:20070609T180000
DTEND;TZID=Europe/Amsterdam:20070609T194500
SUMMARY:K - 2. Klasse B 2006/07: Malta - Kleinkirchheim
END:VEVENT
BEGIN:VEVENT
UID:20260426T024610UTC-0466va2JBD@85.215.121.98
DTSTAMP:20260426T024610Z
DTSTART;TZID=Europe/Amsterdam:20070617T173000
DTEND;TZID=Europe/Amsterdam:20070617T191500
SUMMARY:K - 2. Klasse B 2006/07: Egg - Malta
END:VEVENT
END:VCALENDAR
