BEGIN:VCALENDAR
VERSION:2.0
PRODID:-////NONSGML kigkonsult.se iCalcreator 2.18//
X-WR-TIMEZONE:Europe/Amsterdam
BEGIN:VTIMEZONE
TZID:Europe/Amsterdam
X-LIC-LOCATION:Europe/Amsterdam
BEGIN:STANDARD
DTSTART:20091025T030000
TZOFFSETFROM:+0200
TZOFFSETTO:+0100
RDATE:20101031T030000
TZNAME:CET
END:STANDARD
BEGIN:DAYLIGHT
DTSTART:20100328T020000
TZOFFSETFROM:+0100
TZOFFSETTO:+0200
RDATE:20110327T020000
TZNAME:CEST
END:DAYLIGHT
END:VTIMEZONE
BEGIN:VEVENT
UID:20260423T081013UTC-7362glVVUa@85.215.121.98
DTSTAMP:20260423T081013Z
DTSTART;TZID=Europe/Amsterdam:20090802T173000
DTEND;TZID=Europe/Amsterdam:20090802T191500
SUMMARY:K - 2. Klasse B 2009/10: Afritz - Baldramsdorf
END:VEVENT
BEGIN:VEVENT
UID:20260423T081013UTC-7370VhW4vP@85.215.121.98
DTSTAMP:20260423T081013Z
DTSTART;TZID=Europe/Amsterdam:20090808T180000
DTEND;TZID=Europe/Amsterdam:20090808T194500
SUMMARY:K - 2. Klasse B 2009/10: St. Jakob/Ros. - Baldramsdorf
END:VEVENT
BEGIN:VEVENT
UID:20260423T081013UTC-7376tDa2AS@85.215.121.98
DTSTAMP:20260423T081013Z
DTSTART;TZID=Europe/Amsterdam:20090815T173000
DTEND;TZID=Europe/Amsterdam:20090815T191500
SUMMARY:K - 2. Klasse B 2009/10: Baldramsdorf - Ledenitzen
END:VEVENT
BEGIN:VEVENT
UID:20260423T081013UTC-7404z93ms3@85.215.121.98
DTSTAMP:20260423T081013Z
DTSTART;TZID=Europe/Amsterdam:20090823T173000
DTEND;TZID=Europe/Amsterdam:20090823T191500
SUMMARY:K - 2. Klasse B 2009/10: Schiefling - Baldramsdorf
END:VEVENT
BEGIN:VEVENT
UID:20260423T081013UTC-7436X6UWVX@85.215.121.98
DTSTAMP:20260423T081013Z
DTSTART;TZID=Europe/Amsterdam:20090829T170000
DTEND;TZID=Europe/Amsterdam:20090829T184500
SUMMARY:K - 2. Klasse B 2009/10: Baldramsdorf - Kleinkirchheim
END:VEVENT
BEGIN:VEVENT
UID:20260423T081013UTC-7443g84iPo@85.215.121.98
DTSTAMP:20260423T081013Z
DTSTART;TZID=Europe/Amsterdam:20090906T173000
DTEND;TZID=Europe/Amsterdam:20090906T191500
SUMMARY:K - 2. Klasse B 2009/10: Köstenberg - Baldramsdorf
END:VEVENT
BEGIN:VEVENT
UID:20260423T081013UTC-7474LnfrF7@85.215.121.98
DTSTAMP:20260423T081013Z
DTSTART;TZID=Europe/Amsterdam:20090912T160000
DTEND;TZID=Europe/Amsterdam:20090912T174500
SUMMARY:K - 2. Klasse B 2009/10: Baldramsdorf - Fresach
END:VEVENT
BEGIN:VEVENT
UID:20260423T081013UTC-748137V0G1@85.215.121.98
DTSTAMP:20260423T081013Z
DTSTART;TZID=Europe/Amsterdam:20090919T160000
DTEND;TZID=Europe/Amsterdam:20090919T174500
SUMMARY:K - 2. Klasse B 2009/10: Seebach - Baldramsdorf
END:VEVENT
BEGIN:VEVENT
UID:20260423T081013UTC-7514FbZvhD@85.215.121.98
DTSTAMP:20260423T081013Z
DTSTART;TZID=Europe/Amsterdam:20090926T160000
DTEND;TZID=Europe/Amsterdam:20090926T174500
SUMMARY:K - 2. Klasse B 2009/10: Baldramsdorf - Egg
END:VEVENT
BEGIN:VEVENT
UID:20260423T081013UTC-7521uIrliN@85.215.121.98
DTSTAMP:20260423T081013Z
DTSTART;TZID=Europe/Amsterdam:20091004T150000
DTEND;TZID=Europe/Amsterdam:20091004T164500
SUMMARY:K - 2. Klasse B 2009/10: St. Egyden - Baldramsdorf
END:VEVENT
BEGIN:VEVENT
UID:20260423T081013UTC-7554max7zV@85.215.121.98
DTSTAMP:20260423T081013Z
DTSTART;TZID=Europe/Amsterdam:20091010T153000
DTEND;TZID=Europe/Amsterdam:20091010T171500
SUMMARY:K - 2. Klasse B 2009/10: Baldramsdorf - Arriach
END:VEVENT
BEGIN:VEVENT
UID:20260423T081013UTC-7564kfGn7G@85.215.121.98
DTSTAMP:20260423T081013Z
DTSTART;TZID=Europe/Amsterdam:20091017T150000
DTEND;TZID=Europe/Amsterdam:20091017T164500
SUMMARY:K - 2. Klasse B 2009/10: Malta - Baldramsdorf
END:VEVENT
BEGIN:VEVENT
UID:20260423T081013UTC-7594BbtvbV@85.215.121.98
DTSTAMP:20260423T081013Z
DTSTART;TZID=Europe/Amsterdam:20091024T150000
DTEND;TZID=Europe/Amsterdam:20091024T164500
SUMMARY:K - 2. Klasse B 2009/10: Baldramsdorf - Techelsberg
END:VEVENT
BEGIN:VEVENT
UID:20260423T081013UTC-76001ojJwV@85.215.121.98
DTSTAMP:20260423T081013Z
DTSTART;TZID=Europe/Amsterdam:20091026T150000
DTEND;TZID=Europe/Amsterdam:20091026T164500
SUMMARY:K - 2. Klasse B 2009/10: Töplitsch - Baldramsdorf
END:VEVENT
BEGIN:VEVENT
UID:20260423T081013UTC-7631cVJCKG@85.215.121.98
DTSTAMP:20260423T081013Z
DTSTART;TZID=Europe/Amsterdam:20091031T143000
DTEND;TZID=Europe/Amsterdam:20091031T161500
SUMMARY:K - 2. Klasse B 2009/10: Baldramsdorf - Ferndorf
END:VEVENT
BEGIN:VEVENT
UID:20260423T081013UTC-7638uKtUPv@85.215.121.98
DTSTAMP:20260423T081013Z
DTSTART;TZID=Europe/Amsterdam:20091107T143000
DTEND;TZID=Europe/Amsterdam:20091107T161500
SUMMARY:K - 2. Klasse B 2009/10: Baldramsdorf - Afritz
END:VEVENT
BEGIN:VEVENT
UID:20260423T081013UTC-7664fSU78N@85.215.121.98
DTSTAMP:20260423T081013Z
DTSTART;TZID=Europe/Amsterdam:20100320T150000
DTEND;TZID=Europe/Amsterdam:20100320T164500
SUMMARY:K - 2. Klasse B 2009/10: Baldramsdorf - St. Jakob/Ros.
END:VEVENT
BEGIN:VEVENT
UID:20260423T081013UTC-7704SHVUuh@85.215.121.98
DTSTAMP:20260423T081013Z
DTSTART;TZID=Europe/Amsterdam:20100328T153000
DTEND;TZID=Europe/Amsterdam:20100328T171500
SUMMARY:K - 2. Klasse B 2009/10: Ledenitzen - Baldramsdorf
END:VEVENT
BEGIN:VEVENT
UID:20260423T081013UTC-7716c7Wlh7@85.215.121.98
DTSTAMP:20260423T081013Z
DTSTART;TZID=Europe/Amsterdam:20100403T153000
DTEND;TZID=Europe/Amsterdam:20100403T171500
SUMMARY:K - 2. Klasse B 2009/10: Baldramsdorf - Schiefling
END:VEVENT
BEGIN:VEVENT
UID:20260423T081013UTC-7744EHN5V6@85.215.121.98
DTSTAMP:20260423T081013Z
DTSTART;TZID=Europe/Amsterdam:20100411T110000
DTEND;TZID=Europe/Amsterdam:20100411T124500
SUMMARY:K - 2. Klasse B 2009/10: Kleinkirchheim - Baldramsdorf
END:VEVENT
BEGIN:VEVENT
UID:20260423T081013UTC-7784WcSmBV@85.215.121.98
DTSTAMP:20260423T081013Z
DTSTART;TZID=Europe/Amsterdam:20100417T160000
DTEND;TZID=Europe/Amsterdam:20100417T174500
SUMMARY:K - 2. Klasse B 2009/10: Baldramsdorf - Köstenberg
END:VEVENT
BEGIN:VEVENT
UID:20260423T081013UTC-77904dD7St@85.215.121.98
DTSTAMP:20260423T081013Z
DTSTART;TZID=Europe/Amsterdam:20100425T163000
DTEND;TZID=Europe/Amsterdam:20100425T181500
SUMMARY:K - 2. Klasse B 2009/10: Fresach - Baldramsdorf
END:VEVENT
BEGIN:VEVENT
UID:20260423T081013UTC-7796VIU1zK@85.215.121.98
DTSTAMP:20260423T081013Z
DTSTART;TZID=Europe/Amsterdam:20100501T163000
DTEND;TZID=Europe/Amsterdam:20100501T181500
SUMMARY:K - 2. Klasse B 2009/10: Baldramsdorf - Seebach
END:VEVENT
BEGIN:VEVENT
UID:20260423T081013UTC-7824hUBtuV@85.215.121.98
DTSTAMP:20260423T081013Z
DTSTART;TZID=Europe/Amsterdam:20100513T170000
DTEND;TZID=Europe/Amsterdam:20100513T184500
SUMMARY:K - 2. Klasse B 2009/10: Baldramsdorf - St. Egyden
END:VEVENT
BEGIN:VEVENT
UID:20260423T081013UTC-7854sZvfhX@85.215.121.98
DTSTAMP:20260423T081013Z
DTSTART;TZID=Europe/Amsterdam:20100516T170000
DTEND;TZID=Europe/Amsterdam:20100516T184500
SUMMARY:K - 2. Klasse B 2009/10: Arriach - Baldramsdorf
END:VEVENT
BEGIN:VEVENT
UID:20260423T081013UTC-7861u0nx5u@85.215.121.98
DTSTAMP:20260423T081013Z
DTSTART;TZID=Europe/Amsterdam:20100522T170000
DTEND;TZID=Europe/Amsterdam:20100522T184500
SUMMARY:K - 2. Klasse B 2009/10: Baldramsdorf - Malta
END:VEVENT
BEGIN:VEVENT
UID:20260423T081013UTC-7883e5SUbM@85.215.121.98
DTSTAMP:20260423T081013Z
DTSTART;TZID=Europe/Amsterdam:20100524T173000
DTEND;TZID=Europe/Amsterdam:20100524T191500
SUMMARY:K - 2. Klasse B 2009/10: Egg - Baldramsdorf
END:VEVENT
BEGIN:VEVENT
UID:20260423T081013UTC-7891ZU519z@85.215.121.98
DTSTAMP:20260423T081013Z
DTSTART;TZID=Europe/Amsterdam:20100530T160000
DTEND;TZID=Europe/Amsterdam:20100530T174500
SUMMARY:K - 2. Klasse B 2009/10: Techelsberg - Baldramsdorf
END:VEVENT
BEGIN:VEVENT
UID:20260423T081013UTC-7924VMV94n@85.215.121.98
DTSTAMP:20260423T081013Z
DTSTART;TZID=Europe/Amsterdam:20100605T173000
DTEND;TZID=Europe/Amsterdam:20100605T191500
SUMMARY:K - 2. Klasse B 2009/10: Baldramsdorf - Töplitsch
END:VEVENT
BEGIN:VEVENT
UID:20260423T081013UTC-7930dkPzAt@85.215.121.98
DTSTAMP:20260423T081013Z
DTSTART;TZID=Europe/Amsterdam:20100613T170000
DTEND;TZID=Europe/Amsterdam:20100613T184500
SUMMARY:K - 2. Klasse B 2009/10: Ferndorf - Baldramsdorf
END:VEVENT
END:VCALENDAR
