BEGIN:VCALENDAR
VERSION:2.0
PRODID:-////NONSGML kigkonsult.se iCalcreator 2.18//
X-WR-TIMEZONE:Europe/Amsterdam
BEGIN:VTIMEZONE
TZID:Europe/Amsterdam
X-LIC-LOCATION:Europe/Amsterdam
BEGIN:STANDARD
DTSTART:20101031T030000
TZOFFSETFROM:+0200
TZOFFSETTO:+0100
RDATE:20111030T030000
TZNAME:CET
END:STANDARD
BEGIN:DAYLIGHT
DTSTART:20110327T020000
TZOFFSETFROM:+0100
TZOFFSETTO:+0200
RDATE:20120325T020000
TZNAME:CEST
END:DAYLIGHT
END:VTIMEZONE
BEGIN:VEVENT
UID:20260422T090154UTC-74488GI9xn@85.215.121.98
DTSTAMP:20260422T090154Z
DTSTART;TZID=Europe/Amsterdam:20100731T180000
DTEND;TZID=Europe/Amsterdam:20100731T194500
SUMMARY:K - 2. Klasse B 2010/11: Arriach - Techelsberg
END:VEVENT
BEGIN:VEVENT
UID:20260422T090154UTC-7455R5RW5g@85.215.121.98
DTSTAMP:20260422T090154Z
DTSTART;TZID=Europe/Amsterdam:20100807T180000
DTEND;TZID=Europe/Amsterdam:20100807T194500
SUMMARY:K - 2. Klasse B 2010/11: Afritz - Techelsberg
END:VEVENT
BEGIN:VEVENT
UID:20260422T090154UTC-7463GL0b0S@85.215.121.98
DTSTAMP:20260422T090154Z
DTSTART;TZID=Europe/Amsterdam:20100814T170000
DTEND;TZID=Europe/Amsterdam:20100814T184500
SUMMARY:K - 2. Klasse B 2010/11: Techelsberg - Treffen
END:VEVENT
BEGIN:VEVENT
UID:20260422T090154UTC-7473EFUf7M@85.215.121.98
DTSTAMP:20260422T090154Z
DTSTART;TZID=Europe/Amsterdam:20100821T150000
DTEND;TZID=Europe/Amsterdam:20100821T164500
SUMMARY:K - 2. Klasse B 2010/11: Ferndorf - Techelsberg
END:VEVENT
BEGIN:VEVENT
UID:20260422T090154UTC-7514oobFem@85.215.121.98
DTSTAMP:20260422T090154Z
DTSTART;TZID=Europe/Amsterdam:20100904T170000
DTEND;TZID=Europe/Amsterdam:20100904T184500
SUMMARY:K - 2. Klasse B 2010/11: Malta - Techelsberg
END:VEVENT
BEGIN:VEVENT
UID:20260422T090154UTC-7521iu8pPU@85.215.121.98
DTSTAMP:20260422T090154Z
DTSTART;TZID=Europe/Amsterdam:20100911T170000
DTEND;TZID=Europe/Amsterdam:20100911T184500
SUMMARY:K - 2. Klasse B 2010/11: Techelsberg - Seebach
END:VEVENT
BEGIN:VEVENT
UID:20260422T090154UTC-7534ZeuH0v@85.215.121.98
DTSTAMP:20260422T090154Z
DTSTART;TZID=Europe/Amsterdam:20100917T170000
DTEND;TZID=Europe/Amsterdam:20100917T184500
SUMMARY:K - 2. Klasse B 2010/11: Techelsberg - Egg
END:VEVENT
BEGIN:VEVENT
UID:20260422T090154UTC-7546ubJx8u@85.215.121.98
DTSTAMP:20260422T090154Z
DTSTART;TZID=Europe/Amsterdam:20100919T160000
DTEND;TZID=Europe/Amsterdam:20100919T174500
SUMMARY:K - 2. Klasse B 2010/11: Faakersee - Techelsberg
END:VEVENT
BEGIN:VEVENT
UID:20260422T090154UTC-7551xOnHh0@85.215.121.98
DTSTAMP:20260422T090154Z
DTSTART;TZID=Europe/Amsterdam:20101002T153000
DTEND;TZID=Europe/Amsterdam:20101002T171500
SUMMARY:K - 2. Klasse B 2010/11: Baldramsdorf - Techelsberg
END:VEVENT
BEGIN:VEVENT
UID:20260422T090154UTC-7563ZeFZ3a@85.215.121.98
DTSTAMP:20260422T090154Z
DTSTART;TZID=Europe/Amsterdam:20101009T153000
DTEND;TZID=Europe/Amsterdam:20101009T171500
SUMMARY:K - 2. Klasse B 2010/11: Techelsberg - St. Egyden
END:VEVENT
BEGIN:VEVENT
UID:20260422T090154UTC-7569BNsaLt@85.215.121.98
DTSTAMP:20260422T090154Z
DTSTART;TZID=Europe/Amsterdam:20101017T160000
DTEND;TZID=Europe/Amsterdam:20101017T174500
SUMMARY:K - 2. Klasse B 2010/11: Köstenberg - Techelsberg
END:VEVENT
BEGIN:VEVENT
UID:20260422T090154UTC-7575ZlGsO7@85.215.121.98
DTSTAMP:20260422T090154Z
DTSTART;TZID=Europe/Amsterdam:20101024T150000
DTEND;TZID=Europe/Amsterdam:20101024T164500
SUMMARY:K - 2. Klasse B 2010/11: Techelsberg - Töplitsch
END:VEVENT
BEGIN:VEVENT
UID:20260422T090154UTC-7594VHNUlH@85.215.121.98
DTSTAMP:20260422T090154Z
DTSTART;TZID=Europe/Amsterdam:20101026T150000
DTEND;TZID=Europe/Amsterdam:20101026T164500
SUMMARY:K - 2. Klasse B 2010/11: St. Jakob/Ros. - Techelsberg
END:VEVENT
BEGIN:VEVENT
UID:20260422T090154UTC-7602dAkCvc@85.215.121.98
DTSTAMP:20260422T090154Z
DTSTART;TZID=Europe/Amsterdam:20101031T150000
DTEND;TZID=Europe/Amsterdam:20101031T164500
SUMMARY:K - 2. Klasse B 2010/11: Techelsberg - Ledenitzen
END:VEVENT
BEGIN:VEVENT
UID:20260422T090154UTC-7610BEnHfR@85.215.121.98
DTSTAMP:20260422T090154Z
DTSTART;TZID=Europe/Amsterdam:20101106T140000
DTEND;TZID=Europe/Amsterdam:20101106T154500
SUMMARY:K - 2. Klasse B 2010/11: Techelsberg - Arriach
END:VEVENT
BEGIN:VEVENT
UID:20260422T090154UTC-7617xFBjbU@85.215.121.98
DTSTAMP:20260422T090154Z
DTSTART;TZID=Europe/Amsterdam:20110326T160000
DTEND;TZID=Europe/Amsterdam:20110326T174500
SUMMARY:K - 2. Klasse B 2010/11: Treffen - Techelsberg
END:VEVENT
BEGIN:VEVENT
UID:20260422T090154UTC-7634vxax8b@85.215.121.98
DTSTAMP:20260422T090154Z
DTSTART;TZID=Europe/Amsterdam:20110402T160000
DTEND;TZID=Europe/Amsterdam:20110402T174500
SUMMARY:K - 2. Klasse B 2010/11: Techelsberg - Ferndorf
END:VEVENT
BEGIN:VEVENT
UID:20260422T090154UTC-7674U9olaA@85.215.121.98
DTSTAMP:20260422T090154Z
DTSTART;TZID=Europe/Amsterdam:20110410T150000
DTEND;TZID=Europe/Amsterdam:20110410T164500
SUMMARY:K - 2. Klasse B 2010/11: Egg - Techelsberg
END:VEVENT
BEGIN:VEVENT
UID:20260422T090154UTC-7682wAGA7e@85.215.121.98
DTSTAMP:20260422T090154Z
DTSTART;TZID=Europe/Amsterdam:20110416T160000
DTEND;TZID=Europe/Amsterdam:20110416T174500
SUMMARY:K - 2. Klasse B 2010/11: Techelsberg - Malta
END:VEVENT
BEGIN:VEVENT
UID:20260422T090154UTC-7691JGgBSn@85.215.121.98
DTSTAMP:20260422T090154Z
DTSTART;TZID=Europe/Amsterdam:20110423T160000
DTEND;TZID=Europe/Amsterdam:20110423T174500
SUMMARY:K - 2. Klasse B 2010/11: Seebach - Techelsberg
END:VEVENT
BEGIN:VEVENT
UID:20260422T090154UTC-7698o914d3@85.215.121.98
DTSTAMP:20260422T090154Z
DTSTART;TZID=Europe/Amsterdam:20110430T170000
DTEND;TZID=Europe/Amsterdam:20110430T184500
SUMMARY:K - 2. Klasse B 2010/11: Techelsberg - Faakersee
END:VEVENT
BEGIN:VEVENT
UID:20260422T090154UTC-7705jmpxvs@85.215.121.98
DTSTAMP:20260422T090154Z
DTSTART;TZID=Europe/Amsterdam:20110508T170000
DTEND;TZID=Europe/Amsterdam:20110508T184500
SUMMARY:K - 2. Klasse B 2010/11: Fresach - Techelsberg
END:VEVENT
BEGIN:VEVENT
UID:20260422T090154UTC-77110fkgRj@85.215.121.98
DTSTAMP:20260422T090154Z
DTSTART;TZID=Europe/Amsterdam:20110514T170000
DTEND;TZID=Europe/Amsterdam:20110514T184500
SUMMARY:K - 2. Klasse B 2010/11: Techelsberg - Baldramsdorf
END:VEVENT
BEGIN:VEVENT
UID:20260422T090154UTC-7716gUvGHN@85.215.121.98
DTSTAMP:20260422T090154Z
DTSTART;TZID=Europe/Amsterdam:20110520T180000
DTEND;TZID=Europe/Amsterdam:20110520T194500
SUMMARY:K - 2. Klasse B 2010/11: Techelsberg - Fresach
END:VEVENT
BEGIN:VEVENT
UID:20260422T090154UTC-7723o7A1Uu@85.215.121.98
DTSTAMP:20260422T090154Z
DTSTART;TZID=Europe/Amsterdam:20110522T180000
DTEND;TZID=Europe/Amsterdam:20110522T194500
SUMMARY:K - 2. Klasse B 2010/11: St. Egyden - Techelsberg
END:VEVENT
BEGIN:VEVENT
UID:20260422T090154UTC-7729dUUC41@85.215.121.98
DTSTAMP:20260422T090154Z
DTSTART;TZID=Europe/Amsterdam:20110527T180000
DTEND;TZID=Europe/Amsterdam:20110527T194500
SUMMARY:K - 2. Klasse B 2010/11: Techelsberg - Afritz
END:VEVENT
BEGIN:VEVENT
UID:20260422T090154UTC-77351568Lf@85.215.121.98
DTSTAMP:20260422T090154Z
DTSTART;TZID=Europe/Amsterdam:20110529T170000
DTEND;TZID=Europe/Amsterdam:20110529T184500
SUMMARY:K - 2. Klasse B 2010/11: Techelsberg - Köstenberg
END:VEVENT
BEGIN:VEVENT
UID:20260422T090154UTC-7744l2UUz5@85.215.121.98
DTSTAMP:20260422T090154Z
DTSTART;TZID=Europe/Amsterdam:20110602T173000
DTEND;TZID=Europe/Amsterdam:20110602T191500
SUMMARY:K - 2. Klasse B 2010/11: Töplitsch - Techelsberg
END:VEVENT
BEGIN:VEVENT
UID:20260422T090154UTC-7749vpvf54@85.215.121.98
DTSTAMP:20260422T090154Z
DTSTART;TZID=Europe/Amsterdam:20110604T170000
DTEND;TZID=Europe/Amsterdam:20110604T184500
SUMMARY:K - 2. Klasse B 2010/11: Techelsberg - St. Jakob/Ros.
END:VEVENT
BEGIN:VEVENT
UID:20260422T090154UTC-7755AHovvv@85.215.121.98
DTSTAMP:20260422T090154Z
DTSTART;TZID=Europe/Amsterdam:20110610T183000
DTEND;TZID=Europe/Amsterdam:20110610T201500
SUMMARY:K - 2. Klasse B 2010/11: Ledenitzen - Techelsberg
END:VEVENT
END:VCALENDAR
