BEGIN:VCALENDAR
VERSION:2.0
PRODID:-////NONSGML kigkonsult.se iCalcreator 2.18//
X-WR-TIMEZONE:Europe/Amsterdam
BEGIN:VTIMEZONE
TZID:Europe/Amsterdam
X-LIC-LOCATION:Europe/Amsterdam
BEGIN:STANDARD
DTSTART:20111030T030000
TZOFFSETFROM:+0200
TZOFFSETTO:+0100
RDATE:20121028T030000
TZNAME:CET
END:STANDARD
BEGIN:DAYLIGHT
DTSTART:20120325T020000
TZOFFSETFROM:+0100
TZOFFSETTO:+0200
RDATE:20130331T020000
TZNAME:CEST
END:DAYLIGHT
END:VTIMEZONE
BEGIN:VEVENT
UID:20260422T103447UTC-8732gzvpRe@85.215.121.98
DTSTAMP:20260422T103447Z
DTSTART;TZID=Europe/Amsterdam:20110729T183000
DTEND;TZID=Europe/Amsterdam:20110729T201500
SUMMARY:K - 2. Klasse B 2011/12: Ferndorf - Fresach
END:VEVENT
BEGIN:VEVENT
UID:20260422T103447UTC-87433muSpj@85.215.121.98
DTSTAMP:20260422T103447Z
DTSTART;TZID=Europe/Amsterdam:20110807T173000
DTEND;TZID=Europe/Amsterdam:20110807T191500
SUMMARY:K - 2. Klasse B 2011/12: Fresach - Maria Gail
END:VEVENT
BEGIN:VEVENT
UID:20260422T103447UTC-8751V0heeW@85.215.121.98
DTSTAMP:20260422T103447Z
DTSTART;TZID=Europe/Amsterdam:20110812T190000
DTEND;TZID=Europe/Amsterdam:20110812T204500
SUMMARY:K - 2. Klasse B 2011/12: Drautal - Fresach
END:VEVENT
BEGIN:VEVENT
UID:20260422T103447UTC-8760xXFbnX@85.215.121.98
DTSTAMP:20260422T103447Z
DTSTART;TZID=Europe/Amsterdam:20110821T173000
DTEND;TZID=Europe/Amsterdam:20110821T191500
SUMMARY:K - 2. Klasse B 2011/12: Fresach - Baldramsdorf
END:VEVENT
BEGIN:VEVENT
UID:20260422T103447UTC-876921jlSh@85.215.121.98
DTSTAMP:20260422T103447Z
DTSTART;TZID=Europe/Amsterdam:20110828T170000
DTEND;TZID=Europe/Amsterdam:20110828T184500
SUMMARY:K - 2. Klasse B 2011/12: Ledenitzen - Fresach
END:VEVENT
BEGIN:VEVENT
UID:20260422T103447UTC-88052UDkve@85.215.121.98
DTSTAMP:20260422T103447Z
DTSTART;TZID=Europe/Amsterdam:20110904T170000
DTEND;TZID=Europe/Amsterdam:20110904T184500
SUMMARY:K - 2. Klasse B 2011/12: Fresach - Rennweg
END:VEVENT
BEGIN:VEVENT
UID:20260422T103447UTC-8813O8LIL2@85.215.121.98
DTSTAMP:20260422T103447Z
DTSTART;TZID=Europe/Amsterdam:20110911T140000
DTEND;TZID=Europe/Amsterdam:20110911T154500
SUMMARY:K - 2. Klasse B 2011/12: Arriach - Fresach
END:VEVENT
BEGIN:VEVENT
UID:20260422T103447UTC-8825FJ8twv@85.215.121.98
DTSTAMP:20260422T103447Z
DTSTART;TZID=Europe/Amsterdam:20110918T160000
DTEND;TZID=Europe/Amsterdam:20110918T174500
SUMMARY:K - 2. Klasse B 2011/12: Fresach - Köstenberg
END:VEVENT
BEGIN:VEVENT
UID:20260422T103447UTC-88328VJhT7@85.215.121.98
DTSTAMP:20260422T103447Z
DTSTART;TZID=Europe/Amsterdam:20110924T153000
DTEND;TZID=Europe/Amsterdam:20110924T171500
SUMMARY:K - 2. Klasse B 2011/12: Töplitsch - Fresach
END:VEVENT
BEGIN:VEVENT
UID:20260422T103447UTC-8842VxEsZc@85.215.121.98
DTSTAMP:20260422T103447Z
DTSTART;TZID=Europe/Amsterdam:20111001T150000
DTEND;TZID=Europe/Amsterdam:20111001T164500
SUMMARY:K - 2. Klasse B 2011/12: Fresach - Stockenboi
END:VEVENT
BEGIN:VEVENT
UID:20260422T103447UTC-8847wUkZ4V@85.215.121.98
DTSTAMP:20260422T103447Z
DTSTART;TZID=Europe/Amsterdam:20111008T153000
DTEND;TZID=Europe/Amsterdam:20111008T171500
SUMMARY:K - 2. Klasse B 2011/12: St. Egyden - Fresach
END:VEVENT
BEGIN:VEVENT
UID:20260422T103447UTC-888520Wsmo@85.215.121.98
DTSTAMP:20260422T103447Z
DTSTART;TZID=Europe/Amsterdam:20111015T150000
DTEND;TZID=Europe/Amsterdam:20111015T164500
SUMMARY:K - 2. Klasse B 2011/12: Malta - Fresach
END:VEVENT
BEGIN:VEVENT
UID:20260422T103447UTC-8893SV5fIP@85.215.121.98
DTSTAMP:20260422T103447Z
DTSTART;TZID=Europe/Amsterdam:20111023T150000
DTEND;TZID=Europe/Amsterdam:20111023T164500
SUMMARY:K - 2. Klasse B 2011/12: Fresach - Faakersee
END:VEVENT
BEGIN:VEVENT
UID:20260422T103447UTC-8902ECuCSL@85.215.121.98
DTSTAMP:20260422T103447Z
DTSTART;TZID=Europe/Amsterdam:20111026T150000
DTEND;TZID=Europe/Amsterdam:20111026T164500
SUMMARY:K - 2. Klasse B 2011/12: Treffen - Fresach
END:VEVENT
BEGIN:VEVENT
UID:20260422T103447UTC-8912AvjKJU@85.215.121.98
DTSTAMP:20260422T103447Z
DTSTART;TZID=Europe/Amsterdam:20111030T143000
DTEND;TZID=Europe/Amsterdam:20111030T161500
SUMMARY:K - 2. Klasse B 2011/12: Fresach - Afritz
END:VEVENT
BEGIN:VEVENT
UID:20260422T103447UTC-8917dg0aVL@85.215.121.98
DTSTAMP:20260422T103447Z
DTSTART;TZID=Europe/Amsterdam:20111105T140000
DTEND;TZID=Europe/Amsterdam:20111105T154500
SUMMARY:K - 2. Klasse B 2011/12: Fresach - Ferndorf
END:VEVENT
BEGIN:VEVENT
UID:20260422T103447UTC-8925IvIMfC@85.215.121.98
DTSTAMP:20260422T103447Z
DTSTART;TZID=Europe/Amsterdam:20120325T103000
DTEND;TZID=Europe/Amsterdam:20120325T121500
SUMMARY:K - 2. Klasse B 2011/12: Maria Gail - Fresach
END:VEVENT
BEGIN:VEVENT
UID:20260422T103447UTC-8931upp4Rx@85.215.121.98
DTSTAMP:20260422T103447Z
DTSTART;TZID=Europe/Amsterdam:20120401T160000
DTEND;TZID=Europe/Amsterdam:20120401T174500
SUMMARY:K - 2. Klasse B 2011/12: Fresach - Drautal
END:VEVENT
BEGIN:VEVENT
UID:20260422T103447UTC-8938u8es9H@85.215.121.98
DTSTAMP:20260422T103447Z
DTSTART;TZID=Europe/Amsterdam:20120407T150000
DTEND;TZID=Europe/Amsterdam:20120407T164500
SUMMARY:K - 2. Klasse B 2011/12: Baldramsdorf - Fresach
END:VEVENT
BEGIN:VEVENT
UID:20260422T103447UTC-8964VIJVrv@85.215.121.98
DTSTAMP:20260422T103447Z
DTSTART;TZID=Europe/Amsterdam:20120415T160000
DTEND;TZID=Europe/Amsterdam:20120415T174500
SUMMARY:K - 2. Klasse B 2011/12: Fresach - Ledenitzen
END:VEVENT
BEGIN:VEVENT
UID:20260422T103447UTC-8972rvTsoV@85.215.121.98
DTSTAMP:20260422T103447Z
DTSTART;TZID=Europe/Amsterdam:20120428T170000
DTEND;TZID=Europe/Amsterdam:20120428T184500
SUMMARY:K - 2. Klasse B 2011/12: Fresach - Arriach
END:VEVENT
BEGIN:VEVENT
UID:20260422T103447UTC-8981VUUC7t@85.215.121.98
DTSTAMP:20260422T103447Z
DTSTART;TZID=Europe/Amsterdam:20120501T163000
DTEND;TZID=Europe/Amsterdam:20120501T181500
SUMMARY:K - 2. Klasse B 2011/12: Köstenberg - Fresach
END:VEVENT
BEGIN:VEVENT
UID:20260422T103447UTC-8990hWZH9B@85.215.121.98
DTSTAMP:20260422T103447Z
DTSTART;TZID=Europe/Amsterdam:20120506T163000
DTEND;TZID=Europe/Amsterdam:20120506T181500
SUMMARY:K - 2. Klasse B 2011/12: Fresach - Töplitsch
END:VEVENT
BEGIN:VEVENT
UID:20260422T103447UTC-9004M1tcFv@85.215.121.98
DTSTAMP:20260422T103447Z
DTSTART;TZID=Europe/Amsterdam:20120511T180000
DTEND;TZID=Europe/Amsterdam:20120511T194500
SUMMARY:K - 2. Klasse B 2011/12: Rennweg - Fresach
END:VEVENT
BEGIN:VEVENT
UID:20260422T103447UTC-9011E1u64c@85.215.121.98
DTSTAMP:20260422T103447Z
DTSTART;TZID=Europe/Amsterdam:20120513T170000
DTEND;TZID=Europe/Amsterdam:20120513T184500
SUMMARY:K - 2. Klasse B 2011/12: Stockenboi - Fresach
END:VEVENT
BEGIN:VEVENT
UID:20260422T103447UTC-9044BjZe92@85.215.121.98
DTSTAMP:20260422T103447Z
DTSTART;TZID=Europe/Amsterdam:20120517T170000
DTEND;TZID=Europe/Amsterdam:20120517T184500
SUMMARY:K - 2. Klasse B 2011/12: Fresach - St. Egyden
END:VEVENT
BEGIN:VEVENT
UID:20260422T103447UTC-9051uGIHkU@85.215.121.98
DTSTAMP:20260422T103447Z
DTSTART;TZID=Europe/Amsterdam:20120520T170000
DTEND;TZID=Europe/Amsterdam:20120520T184500
SUMMARY:K - 2. Klasse B 2011/12: Fresach - Malta
END:VEVENT
BEGIN:VEVENT
UID:20260422T103447UTC-9061UnMukf@85.215.121.98
DTSTAMP:20260422T103447Z
DTSTART;TZID=Europe/Amsterdam:20120525T183000
DTEND;TZID=Europe/Amsterdam:20120525T201500
SUMMARY:K - 2. Klasse B 2011/12: Faakersee - Fresach
END:VEVENT
BEGIN:VEVENT
UID:20260422T103447UTC-9072RrKsTU@85.215.121.98
DTSTAMP:20260422T103447Z
DTSTART;TZID=Europe/Amsterdam:20120603T170000
DTEND;TZID=Europe/Amsterdam:20120603T184500
SUMMARY:K - 2. Klasse B 2011/12: Fresach - Treffen
END:VEVENT
BEGIN:VEVENT
UID:20260422T103447UTC-9087bjz1HD@85.215.121.98
DTSTAMP:20260422T103447Z
DTSTART;TZID=Europe/Amsterdam:20120609T160000
DTEND;TZID=Europe/Amsterdam:20120609T174500
SUMMARY:K - 2. Klasse B 2011/12: Afritz - Fresach
END:VEVENT
END:VCALENDAR
