BEGIN:VCALENDAR
VERSION:2.0
PRODID:-////NONSGML kigkonsult.se iCalcreator 2.18//
X-WR-TIMEZONE:Europe/Amsterdam
BEGIN:VTIMEZONE
TZID:Europe/Amsterdam
X-LIC-LOCATION:Europe/Amsterdam
BEGIN:STANDARD
DTSTART:20121028T030000
TZOFFSETFROM:+0200
TZOFFSETTO:+0100
RDATE:20131027T030000
TZNAME:CET
END:STANDARD
BEGIN:DAYLIGHT
DTSTART:20130331T020000
TZOFFSETFROM:+0100
TZOFFSETTO:+0200
RDATE:20140330T020000
TZNAME:CEST
END:DAYLIGHT
END:VTIMEZONE
BEGIN:VEVENT
UID:20260423T203435UTC-84483J6zPU@85.215.121.98
DTSTAMP:20260423T203435Z
DTSTART;TZID=Europe/Amsterdam:20120729T173000
DTEND;TZID=Europe/Amsterdam:20120729T191500
SUMMARY:K - 2. Klasse B 2012/13: Arriach - Bad Bleiberg
END:VEVENT
BEGIN:VEVENT
UID:20260423T203435UTC-8455Kr20tM@85.215.121.98
DTSTAMP:20260423T203435Z
DTSTART;TZID=Europe/Amsterdam:20120804T160000
DTEND;TZID=Europe/Amsterdam:20120804T174500
SUMMARY:K - 2. Klasse B 2012/13: Bad Bleiberg - Maria Gail
END:VEVENT
BEGIN:VEVENT
UID:20260423T203435UTC-8461gI5VFf@85.215.121.98
DTSTAMP:20260423T203435Z
DTSTART;TZID=Europe/Amsterdam:20120812T173000
DTEND;TZID=Europe/Amsterdam:20120812T191500
SUMMARY:K - 2. Klasse B 2012/13: Fresach - Bad Bleiberg
END:VEVENT
BEGIN:VEVENT
UID:20260423T203435UTC-8469vDuhAD@85.215.121.98
DTSTAMP:20260423T203435Z
DTSTART;TZID=Europe/Amsterdam:20120815T160000
DTEND;TZID=Europe/Amsterdam:20120815T174500
SUMMARY:K - 2. Klasse B 2012/13: Bad Bleiberg - Faakersee
END:VEVENT
BEGIN:VEVENT
UID:20260423T203435UTC-8475n97SuG@85.215.121.98
DTSTAMP:20260423T203435Z
DTSTART;TZID=Europe/Amsterdam:20120818T170000
DTEND;TZID=Europe/Amsterdam:20120818T184500
SUMMARY:K - 2. Klasse B 2012/13: Töplitsch - Bad Bleiberg
END:VEVENT
BEGIN:VEVENT
UID:20260423T203435UTC-8481KzGkJ2@85.215.121.98
DTSTAMP:20260423T203435Z
DTSTART;TZID=Europe/Amsterdam:20120825T160000
DTEND;TZID=Europe/Amsterdam:20120825T174500
SUMMARY:K - 2. Klasse B 2012/13: Bad Bleiberg - Afritz
END:VEVENT
BEGIN:VEVENT
UID:20260423T203435UTC-8488zvgVaT@85.215.121.98
DTSTAMP:20260423T203435Z
DTSTART;TZID=Europe/Amsterdam:20120901T170000
DTEND;TZID=Europe/Amsterdam:20120901T184500
SUMMARY:K - 2. Klasse B 2012/13: St. Egyden - Bad Bleiberg
END:VEVENT
BEGIN:VEVENT
UID:20260423T203435UTC-84950kzH2H@85.215.121.98
DTSTAMP:20260423T203435Z
DTSTART;TZID=Europe/Amsterdam:20120908T150000
DTEND;TZID=Europe/Amsterdam:20120908T164500
SUMMARY:K - 2. Klasse B 2012/13: Bad Bleiberg - Baldramsdorf
END:VEVENT
BEGIN:VEVENT
UID:20260423T203435UTC-8507BvnmIL@85.215.121.98
DTSTAMP:20260423T203435Z
DTSTART;TZID=Europe/Amsterdam:20120915T160000
DTEND;TZID=Europe/Amsterdam:20120915T174500
SUMMARY:K - 2. Klasse B 2012/13: Malta - Bad Bleiberg
END:VEVENT
BEGIN:VEVENT
UID:20260423T203435UTC-8512eDUnHV@85.215.121.98
DTSTAMP:20260423T203435Z
DTSTART;TZID=Europe/Amsterdam:20120922T140000
DTEND;TZID=Europe/Amsterdam:20120922T154500
SUMMARY:K - 2. Klasse B 2012/13: Bad Bleiberg - Rennweg
END:VEVENT
BEGIN:VEVENT
UID:20260423T203435UTC-8519L2BauO@85.215.121.98
DTSTAMP:20260423T203435Z
DTSTART;TZID=Europe/Amsterdam:20120929T160000
DTEND;TZID=Europe/Amsterdam:20120929T174500
SUMMARY:K - 2. Klasse B 2012/13: SG Ferndorf/Spittal - Bad Bleiberg
END:VEVENT
BEGIN:VEVENT
UID:20260423T203435UTC-85257cDg9U@85.215.121.98
DTSTAMP:20260423T203435Z
DTSTART;TZID=Europe/Amsterdam:20121006T153000
DTEND;TZID=Europe/Amsterdam:20121006T171500
SUMMARY:K - 2. Klasse B 2012/13: Bad Bleiberg - Landskron
END:VEVENT
BEGIN:VEVENT
UID:20260423T203435UTC-8531iAxOFb@85.215.121.98
DTSTAMP:20260423T203435Z
DTSTART;TZID=Europe/Amsterdam:20121012T200000
DTEND;TZID=Europe/Amsterdam:20121012T214500
SUMMARY:K - 2. Klasse B 2012/13: Drautal - Bad Bleiberg
END:VEVENT
BEGIN:VEVENT
UID:20260423T203435UTC-8539OGFcPN@85.215.121.98
DTSTAMP:20260423T203435Z
DTSTART;TZID=Europe/Amsterdam:20121020T140000
DTEND;TZID=Europe/Amsterdam:20121020T154500
SUMMARY:K - 2. Klasse B 2012/13: Bad Bleiberg - Obermillstatt
END:VEVENT
BEGIN:VEVENT
UID:20260423T203435UTC-8545vblbFW@85.215.121.98
DTSTAMP:20260423T203435Z
DTSTART;TZID=Europe/Amsterdam:20121028T150000
DTEND;TZID=Europe/Amsterdam:20121028T164500
SUMMARY:K - 2. Klasse B 2012/13: Stockenboi - Bad Bleiberg
END:VEVENT
BEGIN:VEVENT
UID:20260423T203435UTC-8550cKsxkV@85.215.121.98
DTSTAMP:20260423T203435Z
DTSTART;TZID=Europe/Amsterdam:20130420T160000
DTEND;TZID=Europe/Amsterdam:20130420T174500
SUMMARY:K - 2. Klasse B 2012/13: Afritz - Bad Bleiberg
END:VEVENT
BEGIN:VEVENT
UID:20260423T203435UTC-8557eoLCJd@85.215.121.98
DTSTAMP:20260423T203435Z
DTSTART;TZID=Europe/Amsterdam:20130424T180000
DTEND;TZID=Europe/Amsterdam:20130424T194500
SUMMARY:K - 2. Klasse B 2012/13: Maria Gail - Bad Bleiberg
END:VEVENT
BEGIN:VEVENT
UID:20260423T203435UTC-8563zidSPu@85.215.121.98
DTSTAMP:20260423T203435Z
DTSTART;TZID=Europe/Amsterdam:20130427T150000
DTEND;TZID=Europe/Amsterdam:20130427T164500
SUMMARY:K - 2. Klasse B 2012/13: Bad Bleiberg - St. Egyden
END:VEVENT
BEGIN:VEVENT
UID:20260423T203435UTC-8569d52mIT@85.215.121.98
DTSTAMP:20260423T203435Z
DTSTART;TZID=Europe/Amsterdam:20130501T160000
DTEND;TZID=Europe/Amsterdam:20130501T174500
SUMMARY:K - 2. Klasse B 2012/13: Baldramsdorf - Bad Bleiberg
END:VEVENT
BEGIN:VEVENT
UID:20260423T203435UTC-8575EXUimv@85.215.121.98
DTSTAMP:20260423T203435Z
DTSTART;TZID=Europe/Amsterdam:20130504T160000
DTEND;TZID=Europe/Amsterdam:20130504T174500
SUMMARY:K - 2. Klasse B 2012/13: Bad Bleiberg - Malta
END:VEVENT
BEGIN:VEVENT
UID:20260423T203435UTC-8581rvG7PW@85.215.121.98
DTSTAMP:20260423T203435Z
DTSTART;TZID=Europe/Amsterdam:20130509T160000
DTEND;TZID=Europe/Amsterdam:20130509T174500
SUMMARY:K - 2. Klasse B 2012/13: Bad Bleiberg - Arriach
END:VEVENT
BEGIN:VEVENT
UID:20260423T203435UTC-8587cm23uV@85.215.121.98
DTSTAMP:20260423T203435Z
DTSTART;TZID=Europe/Amsterdam:20130512T150000
DTEND;TZID=Europe/Amsterdam:20130512T164500
SUMMARY:K - 2. Klasse B 2012/13: Rennweg - Bad Bleiberg
END:VEVENT
BEGIN:VEVENT
UID:20260423T203435UTC-8594EL25De@85.215.121.98
DTSTAMP:20260423T203435Z
DTSTART;TZID=Europe/Amsterdam:20130518T163000
DTEND;TZID=Europe/Amsterdam:20130518T181500
SUMMARY:K - 2. Klasse B 2012/13: Bad Bleiberg - SG Ferndorf/Spittal
END:VEVENT
BEGIN:VEVENT
UID:20260423T203435UTC-8599UWE1aK@85.215.121.98
DTSTAMP:20260423T203435Z
DTSTART;TZID=Europe/Amsterdam:20130520T150000
DTEND;TZID=Europe/Amsterdam:20130520T164500
SUMMARY:K - 2. Klasse B 2012/13: Bad Bleiberg - Fresach
END:VEVENT
BEGIN:VEVENT
UID:20260423T203435UTC-8605TVAl8l@85.215.121.98
DTSTAMP:20260423T203435Z
DTSTART;TZID=Europe/Amsterdam:20130526T170000
DTEND;TZID=Europe/Amsterdam:20130526T184500
SUMMARY:K - 2. Klasse B 2012/13: Landskron - Bad Bleiberg
END:VEVENT
BEGIN:VEVENT
UID:20260423T203435UTC-86112ut2ei@85.215.121.98
DTSTAMP:20260423T203435Z
DTSTART;TZID=Europe/Amsterdam:20130601T170000
DTEND;TZID=Europe/Amsterdam:20130601T184500
SUMMARY:K - 2. Klasse B 2012/13: Obermillstatt - Bad Bleiberg
END:VEVENT
BEGIN:VEVENT
UID:20260423T203435UTC-8618DLS5ce@85.215.121.98
DTSTAMP:20260423T203435Z
DTSTART;TZID=Europe/Amsterdam:20130603T180000
DTEND;TZID=Europe/Amsterdam:20130603T194500
SUMMARY:K - 2. Klasse B 2012/13: Faakersee - Bad Bleiberg
END:VEVENT
BEGIN:VEVENT
UID:20260423T203435UTC-8624uMzjVB@85.215.121.98
DTSTAMP:20260423T203435Z
DTSTART;TZID=Europe/Amsterdam:20130605T180000
DTEND;TZID=Europe/Amsterdam:20130605T194500
SUMMARY:K - 2. Klasse B 2012/13: Bad Bleiberg - Töplitsch
END:VEVENT
BEGIN:VEVENT
UID:20260423T203435UTC-8630Z0TEDn@85.215.121.98
DTSTAMP:20260423T203435Z
DTSTART;TZID=Europe/Amsterdam:20130608T170000
DTEND;TZID=Europe/Amsterdam:20130608T184500
SUMMARY:K - 2. Klasse B 2012/13: Bad Bleiberg - Stockenboi
END:VEVENT
BEGIN:VEVENT
UID:20260423T203435UTC-8635LHkmoJ@85.215.121.98
DTSTAMP:20260423T203435Z
DTSTART;TZID=Europe/Amsterdam:20130611T180000
DTEND;TZID=Europe/Amsterdam:20130611T194500
SUMMARY:K - 2. Klasse B 2012/13: Bad Bleiberg - Drautal
END:VEVENT
END:VCALENDAR
