BEGIN:VCALENDAR
VERSION:2.0
PRODID:-////NONSGML kigkonsult.se iCalcreator 2.18//
X-WR-TIMEZONE:Europe/Amsterdam
BEGIN:VTIMEZONE
TZID:Europe/Amsterdam
X-LIC-LOCATION:Europe/Amsterdam
BEGIN:STANDARD
DTSTART:20131027T030000
TZOFFSETFROM:+0200
TZOFFSETTO:+0100
RDATE:20141026T030000
TZNAME:CET
END:STANDARD
BEGIN:DAYLIGHT
DTSTART:20140330T020000
TZOFFSETFROM:+0100
TZOFFSETTO:+0200
RDATE:20150329T020000
TZNAME:CEST
END:DAYLIGHT
END:VTIMEZONE
BEGIN:VEVENT
UID:20260423T203143UTC-9900TP1h6S@85.215.121.98
DTSTAMP:20260423T203143Z
DTSTART;TZID=Europe/Amsterdam:20130809T190000
DTEND;TZID=Europe/Amsterdam:20130809T204500
SUMMARY:ST - Oberliga Mitte 2013/14: Mooskirchen - FC Gratkorn II
END:VEVENT
BEGIN:VEVENT
UID:20260423T203144UTC-0065eWbVKf@85.215.121.98
DTSTAMP:20260423T203144Z
DTSTART;TZID=Europe/Amsterdam:20130817T190000
DTEND;TZID=Europe/Amsterdam:20130817T204500
SUMMARY:ST - Oberliga Mitte 2013/14: SV Straß - Mooskirchen
END:VEVENT
BEGIN:VEVENT
UID:20260423T203144UTC-00746rc9To@85.215.121.98
DTSTAMP:20260423T203144Z
DTSTART;TZID=Europe/Amsterdam:20130823T190000
DTEND;TZID=Europe/Amsterdam:20130823T204500
SUMMARY:ST - Oberliga Mitte 2013/14: Mooskirchen - Gralla
END:VEVENT
BEGIN:VEVENT
UID:20260423T203144UTC-0079KIO4b3@85.215.121.98
DTSTAMP:20260423T203144Z
DTSTART;TZID=Europe/Amsterdam:20130831T190000
DTEND;TZID=Europe/Amsterdam:20130831T204500
SUMMARY:ST - Oberliga Mitte 2013/14: Mooskirchen - Lebring
END:VEVENT
BEGIN:VEVENT
UID:20260423T203144UTC-0086UHsuF2@85.215.121.98
DTSTAMP:20260423T203144Z
DTSTART;TZID=Europe/Amsterdam:20130907T170000
DTEND;TZID=Europe/Amsterdam:20130907T184500
SUMMARY:ST - Oberliga Mitte 2013/14: Werndorf - Mooskirchen
END:VEVENT
BEGIN:VEVENT
UID:20260423T203144UTC-0092v6o84m@85.215.121.98
DTSTAMP:20260423T203144Z
DTSTART;TZID=Europe/Amsterdam:20130913T190000
DTEND;TZID=Europe/Amsterdam:20130913T204500
SUMMARY:ST - Oberliga Mitte 2013/14: Mooskirchen - SV Baumit Peggau
END:VEVENT
BEGIN:VEVENT
UID:20260423T203144UTC-0099tA8Ntx@85.215.121.98
DTSTAMP:20260423T203144Z
DTSTART;TZID=Europe/Amsterdam:20130920T190000
DTEND;TZID=Europe/Amsterdam:20130920T204500
SUMMARY:ST - Oberliga Mitte 2013/14: USV Ragnitz - Mooskirchen
END:VEVENT
BEGIN:VEVENT
UID:20260423T203144UTC-0108LCl1xZ@85.215.121.98
DTSTAMP:20260423T203144Z
DTSTART;TZID=Europe/Amsterdam:20130927T190000
DTEND;TZID=Europe/Amsterdam:20130927T204500
SUMMARY:ST - Oberliga Mitte 2013/14: Mooskirchen - Sv Andritz Ag
END:VEVENT
BEGIN:VEVENT
UID:20260423T203144UTC-01158teOx3@85.215.121.98
DTSTAMP:20260423T203144Z
DTSTART;TZID=Europe/Amsterdam:20131004T190000
DTEND;TZID=Europe/Amsterdam:20131004T204500
SUMMARY:ST - Oberliga Mitte 2013/14: SV Gössendorf - Mooskirchen
END:VEVENT
BEGIN:VEVENT
UID:20260423T203144UTC-0123FZAeKx@85.215.121.98
DTSTAMP:20260423T203144Z
DTSTART;TZID=Europe/Amsterdam:20131011T184500
DTEND;TZID=Europe/Amsterdam:20131011T203000
SUMMARY:ST - Oberliga Mitte 2013/14: Mooskirchen - SV Thal I
END:VEVENT
BEGIN:VEVENT
UID:20260423T203144UTC-0134x3Tulx@85.215.121.98
DTSTAMP:20260423T203144Z
DTSTART;TZID=Europe/Amsterdam:20131018T190000
DTEND;TZID=Europe/Amsterdam:20131018T204500
SUMMARY:ST - Oberliga Mitte 2013/14: SV SMB Pachern - Mooskirchen
END:VEVENT
BEGIN:VEVENT
UID:20260423T203144UTC-0145hBO50B@85.215.121.98
DTSTAMP:20260423T203144Z
DTSTART;TZID=Europe/Amsterdam:20131026T160000
DTEND;TZID=Europe/Amsterdam:20131026T174500
SUMMARY:ST - Oberliga Mitte 2013/14: Mooskirchen - Frauental
END:VEVENT
BEGIN:VEVENT
UID:20260423T203144UTC-0185zugS53@85.215.121.98
DTSTAMP:20260423T203144Z
DTSTART;TZID=Europe/Amsterdam:20131102T170000
DTEND;TZID=Europe/Amsterdam:20131102T184500
SUMMARY:ST - Oberliga Mitte 2013/14: FC Lankowitz - Mooskirchen
END:VEVENT
BEGIN:VEVENT
UID:20260423T203144UTC-0195UMuVaL@85.215.121.98
DTSTAMP:20260423T203144Z
DTSTART;TZID=Europe/Amsterdam:20140329T150000
DTEND;TZID=Europe/Amsterdam:20140329T164500
SUMMARY:ST - Oberliga Mitte 2013/14: FC Gratkorn II - Mooskirchen
END:VEVENT
BEGIN:VEVENT
UID:20260423T203144UTC-0214EuRkBs@85.215.121.98
DTSTAMP:20260423T203144Z
DTSTART;TZID=Europe/Amsterdam:20140405T170000
DTEND;TZID=Europe/Amsterdam:20140405T184500
SUMMARY:ST - Oberliga Mitte 2013/14: Mooskirchen - SV Straß
END:VEVENT
BEGIN:VEVENT
UID:20260423T203144UTC-0228ah5R2x@85.215.121.98
DTSTAMP:20260423T203144Z
DTSTART;TZID=Europe/Amsterdam:20140411T190000
DTEND;TZID=Europe/Amsterdam:20140411T204500
SUMMARY:ST - Oberliga Mitte 2013/14: Gralla - Mooskirchen
END:VEVENT
BEGIN:VEVENT
UID:20260423T203144UTC-02452FWPDm@85.215.121.98
DTSTAMP:20260423T203144Z
DTSTART;TZID=Europe/Amsterdam:20140418T160000
DTEND;TZID=Europe/Amsterdam:20140418T174500
SUMMARY:ST - Oberliga Mitte 2013/14: Lebring - Mooskirchen
END:VEVENT
BEGIN:VEVENT
UID:20260423T203144UTC-02613whGUO@85.215.121.98
DTSTAMP:20260423T203144Z
DTSTART;TZID=Europe/Amsterdam:20140425T190000
DTEND;TZID=Europe/Amsterdam:20140425T204500
SUMMARY:ST - Oberliga Mitte 2013/14: Mooskirchen - Werndorf
END:VEVENT
BEGIN:VEVENT
UID:20260423T203144UTC-02779tX8Nf@85.215.121.98
DTSTAMP:20260423T203144Z
DTSTART;TZID=Europe/Amsterdam:20140503T170000
DTEND;TZID=Europe/Amsterdam:20140503T184500
SUMMARY:ST - Oberliga Mitte 2013/14: SV Baumit Peggau - Mooskirchen
END:VEVENT
BEGIN:VEVENT
UID:20260423T203144UTC-0293uENRzc@85.215.121.98
DTSTAMP:20260423T203144Z
DTSTART;TZID=Europe/Amsterdam:20140509T190000
DTEND;TZID=Europe/Amsterdam:20140509T204500
SUMMARY:ST - Oberliga Mitte 2013/14: Mooskirchen - USV Ragnitz
END:VEVENT
BEGIN:VEVENT
UID:20260423T203144UTC-0306AF0K0u@85.215.121.98
DTSTAMP:20260423T203144Z
DTSTART;TZID=Europe/Amsterdam:20140516T190000
DTEND;TZID=Europe/Amsterdam:20140516T204500
SUMMARY:ST - Oberliga Mitte 2013/14: Sv Andritz Ag - Mooskirchen
END:VEVENT
BEGIN:VEVENT
UID:20260423T203144UTC-0319ZZZuDx@85.215.121.98
DTSTAMP:20260423T203144Z
DTSTART;TZID=Europe/Amsterdam:20140520T190000
DTEND;TZID=Europe/Amsterdam:20140520T204500
SUMMARY:ST - Oberliga Mitte 2013/14: Mooskirchen - SV Gössendorf
END:VEVENT
BEGIN:VEVENT
UID:20260423T203144UTC-0344K52xmI@85.215.121.98
DTSTAMP:20260423T203144Z
DTSTART;TZID=Europe/Amsterdam:20140523T190000
DTEND;TZID=Europe/Amsterdam:20140523T204500
SUMMARY:ST - Oberliga Mitte 2013/14: SV Thal I - Mooskirchen
END:VEVENT
BEGIN:VEVENT
UID:20260423T203144UTC-0384r9iR3f@85.215.121.98
DTSTAMP:20260423T203144Z
DTSTART;TZID=Europe/Amsterdam:20140528T190000
DTEND;TZID=Europe/Amsterdam:20140528T204500
SUMMARY:ST - Oberliga Mitte 2013/14: Mooskirchen - SV SMB Pachern
END:VEVENT
BEGIN:VEVENT
UID:20260423T203144UTC-0398zVSicr@85.215.121.98
DTSTAMP:20260423T203144Z
DTSTART;TZID=Europe/Amsterdam:20140604T183000
DTEND;TZID=Europe/Amsterdam:20140604T201500
SUMMARY:ST - Oberliga Mitte 2013/14: Frauental - Mooskirchen
END:VEVENT
BEGIN:VEVENT
UID:20260423T203144UTC-0415lah1kE@85.215.121.98
DTSTAMP:20260423T203144Z
DTSTART;TZID=Europe/Amsterdam:20140606T183000
DTEND;TZID=Europe/Amsterdam:20140606T201500
SUMMARY:ST - Oberliga Mitte 2013/14: Mooskirchen - FC Lankowitz
END:VEVENT
END:VCALENDAR
