BEGIN:VCALENDAR
VERSION:2.0
PRODID:-////NONSGML kigkonsult.se iCalcreator 2.18//
X-WR-TIMEZONE:Europe/Amsterdam
BEGIN:VTIMEZONE
TZID:Europe/Amsterdam
X-LIC-LOCATION:Europe/Amsterdam
BEGIN:STANDARD
DTSTART:20031026T030000
TZOFFSETFROM:+0200
TZOFFSETTO:+0100
RDATE:20041031T030000
TZNAME:CET
END:STANDARD
BEGIN:DAYLIGHT
DTSTART:20040328T020000
TZOFFSETFROM:+0100
TZOFFSETTO:+0200
RDATE:20050327T020000
TZNAME:CEST
END:DAYLIGHT
END:VTIMEZONE
BEGIN:VEVENT
UID:20260421T085102UTC-3127pE1Nzi@85.215.121.98
DTSTAMP:20260421T085102Z
DTSTART;TZID=Europe/Amsterdam:20030810T170000
DTEND;TZID=Europe/Amsterdam:20030810T184000
SUMMARY:O - 2. Liga Mitteost  2003/04: Oftering - Kirchberg-Thening
END:VEVENT
BEGIN:VEVENT
UID:20260421T085102UTC-3165JfUDkX@85.215.121.98
DTSTAMP:20260421T085102Z
DTSTART;TZID=Europe/Amsterdam:20030817T170000
DTEND;TZID=Europe/Amsterdam:20030817T184000
SUMMARY:O - 2. Liga Mitteost  2003/04: Schiedlberg - Oftering
END:VEVENT
BEGIN:VEVENT
UID:20260421T085102UTC-3175F0GjhP@85.215.121.98
DTSTAMP:20260421T085102Z
DTSTART;TZID=Europe/Amsterdam:20030824T170000
DTEND;TZID=Europe/Amsterdam:20030824T184000
SUMMARY:O - 2. Liga Mitteost  2003/04: Oftering - Steinhaus
END:VEVENT
BEGIN:VEVENT
UID:20260421T085102UTC-3181Ef9sUK@85.215.121.98
DTSTAMP:20260421T085102Z
DTSTART;TZID=Europe/Amsterdam:20030831T170000
DTEND;TZID=Europe/Amsterdam:20030831T184000
SUMMARY:O - 2. Liga Mitteost  2003/04: Sipbachzell - Oftering
END:VEVENT
BEGIN:VEVENT
UID:20260421T085102UTC-3187ZDmesV@85.215.121.98
DTSTAMP:20260421T085102Z
DTSTART;TZID=Europe/Amsterdam:20030907T160000
DTEND;TZID=Europe/Amsterdam:20030907T174000
SUMMARY:O - 2. Liga Mitteost  2003/04: Oftering - Allhaming
END:VEVENT
BEGIN:VEVENT
UID:20260421T085102UTC-3193V73iEx@85.215.121.98
DTSTAMP:20260421T085102Z
DTSTART;TZID=Europe/Amsterdam:20030914T160000
DTEND;TZID=Europe/Amsterdam:20030914T174000
SUMMARY:O - 2. Liga Mitteost  2003/04: Wels FC 1b - Oftering
END:VEVENT
BEGIN:VEVENT
UID:20260421T085102UTC-3200PAFshE@85.215.121.98
DTSTAMP:20260421T085102Z
DTSTART;TZID=Europe/Amsterdam:20030921T160000
DTEND;TZID=Europe/Amsterdam:20030921T174000
SUMMARY:O - 2. Liga Mitteost  2003/04: Oftering - Wallern 1b
END:VEVENT
BEGIN:VEVENT
UID:20260421T085102UTC-3206BmMjSP@85.215.121.98
DTSTAMP:20260421T085102Z
DTSTART;TZID=Europe/Amsterdam:20030928T160000
DTEND;TZID=Europe/Amsterdam:20030928T174000
SUMMARY:O - 2. Liga Mitteost  2003/04: Schlüßlberg - Oftering
END:VEVENT
BEGIN:VEVENT
UID:20260421T085102UTC-3213z8csKd@85.215.121.98
DTSTAMP:20260421T085102Z
DTSTART;TZID=Europe/Amsterdam:20031008T193000
DTEND;TZID=Europe/Amsterdam:20031008T211000
SUMMARY:O - 2. Liga Mitteost  2003/04: Sattledt 1b - Oftering
END:VEVENT
BEGIN:VEVENT
UID:20260421T085102UTC-3221uN8XLz@85.215.121.98
DTSTAMP:20260421T085102Z
DTSTART;TZID=Europe/Amsterdam:20031012T160000
DTEND;TZID=Europe/Amsterdam:20031012T174000
SUMMARY:O - 2. Liga Mitteost  2003/04: Oftering - SV Kematen am Innbach
END:VEVENT
BEGIN:VEVENT
UID:20260421T085102UTC-3227tUSL97@85.215.121.98
DTSTAMP:20260421T085102Z
DTSTART;TZID=Europe/Amsterdam:20031019T153000
DTEND;TZID=Europe/Amsterdam:20031019T171000
SUMMARY:O - 2. Liga Mitteost  2003/04: Pucking - Oftering
END:VEVENT
BEGIN:VEVENT
UID:20260421T085102UTC-32443gMgAz@85.215.121.98
DTSTAMP:20260421T085102Z
DTSTART;TZID=Europe/Amsterdam:20031026T143000
DTEND;TZID=Europe/Amsterdam:20031026T161000
SUMMARY:O - 2. Liga Mitteost  2003/04: Oftering - Wels ESV
END:VEVENT
BEGIN:VEVENT
UID:20260421T085102UTC-3252mr9I9M@85.215.121.98
DTSTAMP:20260421T085102Z
DTSTART;TZID=Europe/Amsterdam:20031102T140000
DTEND;TZID=Europe/Amsterdam:20031102T154000
SUMMARY:O - 2. Liga Mitteost  2003/04: Buchkirchen - Oftering
END:VEVENT
BEGIN:VEVENT
UID:20260421T085102UTC-3258GViruw@85.215.121.98
DTSTAMP:20260421T085102Z
DTSTART;TZID=Europe/Amsterdam:20040328T160000
DTEND;TZID=Europe/Amsterdam:20040328T174000
SUMMARY:O - 2. Liga Mitteost  2003/04: Kirchberg-Thening - Oftering
END:VEVENT
BEGIN:VEVENT
UID:20260421T085102UTC-3264kCX8UL@85.215.121.98
DTSTAMP:20260421T085102Z
DTSTART;TZID=Europe/Amsterdam:20040404T163000
DTEND;TZID=Europe/Amsterdam:20040404T181000
SUMMARY:O - 2. Liga Mitteost  2003/04: Oftering - Schiedlberg
END:VEVENT
BEGIN:VEVENT
UID:20260421T085102UTC-3276XWiGd9@85.215.121.98
DTSTAMP:20260421T085102Z
DTSTART;TZID=Europe/Amsterdam:20040412T163000
DTEND;TZID=Europe/Amsterdam:20040412T181000
SUMMARY:O - 2. Liga Mitteost  2003/04: Steinhaus - Oftering
END:VEVENT
BEGIN:VEVENT
UID:20260421T085102UTC-3314Pucmww@85.215.121.98
DTSTAMP:20260421T085102Z
DTSTART;TZID=Europe/Amsterdam:20040418T163000
DTEND;TZID=Europe/Amsterdam:20040418T181000
SUMMARY:O - 2. Liga Mitteost  2003/04: Oftering - Sipbachzell
END:VEVENT
BEGIN:VEVENT
UID:20260421T085102UTC-3322unFLNg@85.215.121.98
DTSTAMP:20260421T085102Z
DTSTART;TZID=Europe/Amsterdam:20040425T163000
DTEND;TZID=Europe/Amsterdam:20040425T181000
SUMMARY:O - 2. Liga Mitteost  2003/04: Allhaming - Oftering
END:VEVENT
BEGIN:VEVENT
UID:20260421T085102UTC-3354i1nIPR@85.215.121.98
DTSTAMP:20260421T085102Z
DTSTART;TZID=Europe/Amsterdam:20040502T170000
DTEND;TZID=Europe/Amsterdam:20040502T184000
SUMMARY:O - 2. Liga Mitteost  2003/04: Oftering - Wels FC 1b
END:VEVENT
BEGIN:VEVENT
UID:20260421T085102UTC-3361xX6Dnu@85.215.121.98
DTSTAMP:20260421T085102Z
DTSTART;TZID=Europe/Amsterdam:20040508T144500
DTEND;TZID=Europe/Amsterdam:20040508T162500
SUMMARY:O - 2. Liga Mitteost  2003/04: Wallern 1b - Oftering
END:VEVENT
BEGIN:VEVENT
UID:20260421T085102UTC-3368AMjO6W@85.215.121.98
DTSTAMP:20260421T085102Z
DTSTART;TZID=Europe/Amsterdam:20040516T170000
DTEND;TZID=Europe/Amsterdam:20040516T184000
SUMMARY:O - 2. Liga Mitteost  2003/04: Oftering - Schlüßlberg
END:VEVENT
BEGIN:VEVENT
UID:20260421T085102UTC-3374LbRuLa@85.215.121.98
DTSTAMP:20260421T085102Z
DTSTART;TZID=Europe/Amsterdam:20040523T170000
DTEND;TZID=Europe/Amsterdam:20040523T184000
SUMMARY:O - 2. Liga Mitteost  2003/04: Oftering - Sattledt 1b
END:VEVENT
BEGIN:VEVENT
UID:20260421T085102UTC-3407xoRIIJ@85.215.121.98
DTSTAMP:20260421T085102Z
DTSTART;TZID=Europe/Amsterdam:20040528T183000
DTEND;TZID=Europe/Amsterdam:20040528T201000
SUMMARY:O - 2. Liga Mitteost  2003/04: SV Kematen am Innbach - Oftering
END:VEVENT
BEGIN:VEVENT
UID:20260421T085102UTC-3444BgKjOw@85.215.121.98
DTSTAMP:20260421T085102Z
DTSTART;TZID=Europe/Amsterdam:20040604T190000
DTEND;TZID=Europe/Amsterdam:20040604T204000
SUMMARY:O - 2. Liga Mitteost  2003/04: Oftering - Pucking
END:VEVENT
BEGIN:VEVENT
UID:20260421T085102UTC-3451tslHNa@85.215.121.98
DTSTAMP:20260421T085102Z
DTSTART;TZID=Europe/Amsterdam:20040613T170000
DTEND;TZID=Europe/Amsterdam:20040613T184000
SUMMARY:O - 2. Liga Mitteost  2003/04: Wels ESV - Oftering
END:VEVENT
BEGIN:VEVENT
UID:20260421T085102UTC-3459S6vWxZ@85.215.121.98
DTSTAMP:20260421T085102Z
DTSTART;TZID=Europe/Amsterdam:20040620T170000
DTEND;TZID=Europe/Amsterdam:20040620T184000
SUMMARY:O - 2. Liga Mitteost  2003/04: Oftering - Buchkirchen
END:VEVENT
END:VCALENDAR
