BEGIN:VCALENDAR
VERSION:2.0
PRODID:-////NONSGML kigkonsult.se iCalcreator 2.18//
X-WR-TIMEZONE:Europe/Berlin
BEGIN:VTIMEZONE
TZID:Europe/Berlin
X-LIC-LOCATION:Europe/Berlin
BEGIN:STANDARD
DTSTART:20241027T030000
TZOFFSETFROM:+0200
TZOFFSETTO:+0100
RDATE:20251026T030000
TZNAME:CET
END:STANDARD
BEGIN:DAYLIGHT
DTSTART:20250330T020000
TZOFFSETFROM:+0100
TZOFFSETTO:+0200
RDATE:20260329T020000
TZNAME:CEST
END:DAYLIGHT
END:VTIMEZONE
BEGIN:VEVENT
UID:20260422T064109UTC-8591PUo0KV@85.215.121.98
DTSTAMP:20260422T064109Z
DTSTART;TZID=Europe/Berlin:20240728T160000
DTEND;TZID=Europe/Berlin:20240728T174500
SUMMARY:ÖFB Cup 2024/25: FC Pinzgau Saalfelden - FK Austria Wien
END:VEVENT
BEGIN:VEVENT
UID:20260422T064109UTC-8598h9bsZK@85.215.121.98
DTSTAMP:20260422T064109Z
DTSTART;TZID=Europe/Berlin:20240828T190000
DTEND;TZID=Europe/Berlin:20240828T204500
SUMMARY:ÖFB Cup 2024/25: ASKÖ Oedt - FK Austria Wien
END:VEVENT
BEGIN:VEVENT
UID:20260422T064109UTC-8603iVgcxb@85.215.121.98
DTSTAMP:20260422T064109Z
DTSTART;TZID=Europe/Berlin:20241030T181500
DTEND;TZID=Europe/Berlin:20241030T200000
SUMMARY:ÖFB Cup 2024/25: SV Horn - FK Austria Wien
END:VEVENT
BEGIN:VEVENT
UID:20260422T064109UTC-8609ClNzRL@85.215.121.98
DTSTAMP:20260422T064109Z
DTSTART;TZID=Europe/Berlin:20250201T181500
DTEND;TZID=Europe/Berlin:20250201T200000
SUMMARY:ÖFB Cup 2024/25: SK Sturm Graz - FK Austria Wien
END:VEVENT
BEGIN:VEVENT
UID:20260422T064109UTC-8614PlJga3@85.215.121.98
DTSTAMP:20260422T064109Z
DTSTART;TZID=Europe/Berlin:20250402T203000
DTEND;TZID=Europe/Berlin:20250402T221500
SUMMARY:ÖFB Cup 2024/25: FK Austria Wien - TSV Hartberg
END:VEVENT
END:VCALENDAR
