BEGIN:VCALENDAR
VERSION:2.0
PRODID:-////NONSGML kigkonsult.se iCalcreator 2.18//
X-WR-TIMEZONE:Europe/Berlin
BEGIN:VTIMEZONE
TZID:Europe/Berlin
X-LIC-LOCATION:Europe/Berlin
BEGIN:STANDARD
DTSTART:20201025T030000
TZOFFSETFROM:+0200
TZOFFSETTO:+0100
RDATE:20211031T030000
TZNAME:CET
END:STANDARD
BEGIN:DAYLIGHT
DTSTART:20210328T020000
TZOFFSETFROM:+0100
TZOFFSETTO:+0200
RDATE:20220327T020000
TZNAME:CEST
END:DAYLIGHT
END:VTIMEZONE
BEGIN:VEVENT
UID:20260424T082850UTC-9293T158VS@85.215.121.98
DTSTAMP:20260424T082850Z
DTSTART;TZID=Europe/Berlin:20200822T193000
DTEND;TZID=Europe/Berlin:20200822T211500
SUMMARY:N - 2. Klasse Ost/Mitte 2020/21: Mitterndorf - Achau
END:VEVENT
BEGIN:VEVENT
UID:20260424T082850UTC-9303gxvswg@85.215.121.98
DTSTAMP:20260424T082850Z
DTSTART;TZID=Europe/Berlin:20200830T130000
DTEND;TZID=Europe/Berlin:20200830T144500
SUMMARY:N - 2. Klasse Ost/Mitte 2020/21: Zwölfaxing - Mitterndorf
END:VEVENT
BEGIN:VEVENT
UID:20260424T082850UTC-9310kW0MkG@85.215.121.98
DTSTAMP:20260424T082850Z
DTSTART;TZID=Europe/Berlin:20200905T193000
DTEND;TZID=Europe/Berlin:20200905T211500
SUMMARY:N - 2. Klasse Ost/Mitte 2020/21: Mitterndorf - Moosbrunn
END:VEVENT
BEGIN:VEVENT
UID:20260424T082850UTC-9317FOnFRe@85.215.121.98
DTSTAMP:20260424T082850Z
DTSTART;TZID=Europe/Berlin:20200912T163000
DTEND;TZID=Europe/Berlin:20200912T181500
SUMMARY:N - 2. Klasse Ost/Mitte 2020/21: Ebergassing - Mitterndorf
END:VEVENT
BEGIN:VEVENT
UID:20260424T082850UTC-9324SssVoL@85.215.121.98
DTSTAMP:20260424T082850Z
DTSTART;TZID=Europe/Berlin:20200919T193000
DTEND;TZID=Europe/Berlin:20200919T211500
SUMMARY:N - 2. Klasse Ost/Mitte 2020/21: Mitterndorf - VfB Mödling
END:VEVENT
BEGIN:VEVENT
UID:20260424T082850UTC-9330HI9Zlb@85.215.121.98
DTSTAMP:20260424T082850Z
DTSTART;TZID=Europe/Berlin:20200927T160000
DTEND;TZID=Europe/Berlin:20200927T174500
SUMMARY:N - 2. Klasse Ost/Mitte 2020/21: Mitterndorf - Eichkogel
END:VEVENT
BEGIN:VEVENT
UID:20260424T082850UTC-9339UzpgtV@85.215.121.98
DTSTAMP:20260424T082850Z
DTSTART;TZID=Europe/Berlin:20201003T153000
DTEND;TZID=Europe/Berlin:20201003T171500
SUMMARY:N - 2. Klasse Ost/Mitte 2020/21: ASK Erlaa Torpedo 03 - Mitterndorf
END:VEVENT
BEGIN:VEVENT
UID:20260424T082850UTC-9345avK595@85.215.121.98
DTSTAMP:20260424T082850Z
DTSTART;TZID=Europe/Berlin:20201010T183000
DTEND;TZID=Europe/Berlin:20201010T201500
SUMMARY:N - 2. Klasse Ost/Mitte 2020/21: Mitterndorf - Ebreichsdorf II
END:VEVENT
BEGIN:VEVENT
UID:20260424T082850UTC-93510hvnJR@85.215.121.98
DTSTAMP:20260424T082850Z
DTSTART;TZID=Europe/Berlin:20201018T150000
DTEND;TZID=Europe/Berlin:20201018T164500
SUMMARY:N - 2. Klasse Ost/Mitte 2020/21: Mitterndorf - Laxenburg
END:VEVENT
BEGIN:VEVENT
UID:20260424T082850UTC-9359tHDIzE@85.215.121.98
DTSTAMP:20260424T082850Z
DTSTART;TZID=Europe/Berlin:20201024T190000
DTEND;TZID=Europe/Berlin:20201024T204500
SUMMARY:N - 2. Klasse Ost/Mitte 2020/21: Mitterndorf - SC Lanzendorf
END:VEVENT
BEGIN:VEVENT
UID:20260424T082850UTC-9365vRJpuj@85.215.121.98
DTSTAMP:20260424T082850Z
DTSTART;TZID=Europe/Berlin:20201026T140000
DTEND;TZID=Europe/Berlin:20201026T154500
SUMMARY:N - 2. Klasse Ost/Mitte 2020/21: Münchendorf - Mitterndorf
END:VEVENT
BEGIN:VEVENT
UID:20260424T082850UTC-93700hX5HX@85.215.121.98
DTSTAMP:20260424T082850Z
DTSTART;TZID=Europe/Berlin:20201101T140000
DTEND;TZID=Europe/Berlin:20201101T154500
SUMMARY:N - 2. Klasse Ost/Mitte 2020/21: SG Hinterbrühl/Gießhübl - Mitternd
 orf
END:VEVENT
BEGIN:VEVENT
UID:20260424T082850UTC-9376fisXGL@85.215.121.98
DTSTAMP:20260424T082850Z
DTSTART;TZID=Europe/Berlin:20201108T140000
DTEND;TZID=Europe/Berlin:20201108T154500
SUMMARY:N - 2. Klasse Ost/Mitte 2020/21: Mitterndorf - Brunn/Geb. II
END:VEVENT
BEGIN:VEVENT
UID:20260424T082850UTC-9383WbelLj@85.215.121.98
DTSTAMP:20260424T082850Z
DTSTART;TZID=Europe/Berlin:20201115T140000
DTEND;TZID=Europe/Berlin:20201115T154500
SUMMARY:N - 2. Klasse Ost/Mitte 2020/21: Velm - Mitterndorf
END:VEVENT
BEGIN:VEVENT
UID:20260424T082850UTC-9390X6mP5f@85.215.121.98
DTSTAMP:20260424T082850Z
DTSTART;TZID=Europe/Berlin:20201122T140000
DTEND;TZID=Europe/Berlin:20201122T154500
SUMMARY:N - 2. Klasse Ost/Mitte 2020/21: Mitterndorf - Siebenhirten/Wien
END:VEVENT
BEGIN:VEVENT
UID:20260424T082850UTC-9396XKWfca@85.215.121.98
DTSTAMP:20260424T082850Z
DTSTART;TZID=Europe/Berlin:20210307T150000
DTEND;TZID=Europe/Berlin:20210307T164500
SUMMARY:N - 2. Klasse Ost/Mitte 2020/21: Moosbrunn - Mitterndorf
END:VEVENT
BEGIN:VEVENT
UID:20260424T082850UTC-9404AvVrox@85.215.121.98
DTSTAMP:20260424T082850Z
DTSTART;TZID=Europe/Berlin:20210314T150000
DTEND;TZID=Europe/Berlin:20210314T164500
SUMMARY:N - 2. Klasse Ost/Mitte 2020/21: Mitterndorf - Ebergassing
END:VEVENT
BEGIN:VEVENT
UID:20260424T082850UTC-9415t92k7v@85.215.121.98
DTSTAMP:20260424T082850Z
DTSTART;TZID=Europe/Berlin:20210321T153000
DTEND;TZID=Europe/Berlin:20210321T171500
SUMMARY:N - 2. Klasse Ost/Mitte 2020/21: VfB Mödling - Mitterndorf
END:VEVENT
BEGIN:VEVENT
UID:20260424T082850UTC-9423hvvaaG@85.215.121.98
DTSTAMP:20260424T082850Z
DTSTART;TZID=Europe/Berlin:20210328T163000
DTEND;TZID=Europe/Berlin:20210328T181500
SUMMARY:N - 2. Klasse Ost/Mitte 2020/21: Eichkogel - Mitterndorf
END:VEVENT
BEGIN:VEVENT
UID:20260424T082850UTC-9431CAnxBz@85.215.121.98
DTSTAMP:20260424T082850Z
DTSTART;TZID=Europe/Berlin:20210404T163000
DTEND;TZID=Europe/Berlin:20210404T181500
SUMMARY:N - 2. Klasse Ost/Mitte 2020/21: Mitterndorf - ASK Erlaa Torpedo 03
END:VEVENT
BEGIN:VEVENT
UID:20260424T082850UTC-9442hIKUsC@85.215.121.98
DTSTAMP:20260424T082850Z
DTSTART;TZID=Europe/Berlin:20210411T163000
DTEND;TZID=Europe/Berlin:20210411T181500
SUMMARY:N - 2. Klasse Ost/Mitte 2020/21: Ebreichsdorf II - Mitterndorf
END:VEVENT
BEGIN:VEVENT
UID:20260424T082850UTC-9449OBvslK@85.215.121.98
DTSTAMP:20260424T082850Z
DTSTART;TZID=Europe/Berlin:20210418T163000
DTEND;TZID=Europe/Berlin:20210418T181500
SUMMARY:N - 2. Klasse Ost/Mitte 2020/21: Laxenburg - Mitterndorf
END:VEVENT
BEGIN:VEVENT
UID:20260424T082850UTC-9460VRnbiX@85.215.121.98
DTSTAMP:20260424T082850Z
DTSTART;TZID=Europe/Berlin:20210425T163000
DTEND;TZID=Europe/Berlin:20210425T181500
SUMMARY:N - 2. Klasse Ost/Mitte 2020/21: SC Lanzendorf - Mitterndorf
END:VEVENT
BEGIN:VEVENT
UID:20260424T082850UTC-9470SOAVZO@85.215.121.98
DTSTAMP:20260424T082850Z
DTSTART;TZID=Europe/Berlin:20210502T163000
DTEND;TZID=Europe/Berlin:20210502T181500
SUMMARY:N - 2. Klasse Ost/Mitte 2020/21: Mitterndorf - SG Hinterbrühl/Gießh
 übl
END:VEVENT
BEGIN:VEVENT
UID:20260424T082850UTC-9477Lv3iEX@85.215.121.98
DTSTAMP:20260424T082850Z
DTSTART;TZID=Europe/Berlin:20210509T163000
DTEND;TZID=Europe/Berlin:20210509T181500
SUMMARY:N - 2. Klasse Ost/Mitte 2020/21: Brunn/Geb. II - Mitterndorf
END:VEVENT
BEGIN:VEVENT
UID:20260424T082850UTC-9485ii3olb@85.215.121.98
DTSTAMP:20260424T082850Z
DTSTART;TZID=Europe/Berlin:20210516T163000
DTEND;TZID=Europe/Berlin:20210516T181500
SUMMARY:N - 2. Klasse Ost/Mitte 2020/21: Mitterndorf - Velm
END:VEVENT
BEGIN:VEVENT
UID:20260424T082850UTC-9492Nlu3jt@85.215.121.98
DTSTAMP:20260424T082850Z
DTSTART;TZID=Europe/Berlin:20210523T170000
DTEND;TZID=Europe/Berlin:20210523T184500
SUMMARY:N - 2. Klasse Ost/Mitte 2020/21: Siebenhirten/Wien - Mitterndorf
END:VEVENT
BEGIN:VEVENT
UID:20260424T082850UTC-9501DOCD5V@85.215.121.98
DTSTAMP:20260424T082850Z
DTSTART;TZID=Europe/Berlin:20210530T170000
DTEND;TZID=Europe/Berlin:20210530T184500
SUMMARY:N - 2. Klasse Ost/Mitte 2020/21: Mitterndorf - Münchendorf
END:VEVENT
BEGIN:VEVENT
UID:20260424T082850UTC-9508F4ZwuP@85.215.121.98
DTSTAMP:20260424T082850Z
DTSTART;TZID=Europe/Berlin:20210606T173000
DTEND;TZID=Europe/Berlin:20210606T191500
SUMMARY:N - 2. Klasse Ost/Mitte 2020/21: Achau - Mitterndorf
END:VEVENT
BEGIN:VEVENT
UID:20260424T082850UTC-95136d0PA0@85.215.121.98
DTSTAMP:20260424T082850Z
DTSTART;TZID=Europe/Berlin:20210613T173000
DTEND;TZID=Europe/Berlin:20210613T191500
SUMMARY:N - 2. Klasse Ost/Mitte 2020/21: Mitterndorf - Zwölfaxing
END:VEVENT
END:VCALENDAR
