BEGIN:VCALENDAR
VERSION:2.0
PRODID:-////NONSGML kigkonsult.se iCalcreator 2.18//
X-WR-TIMEZONE:Europe/Berlin
BEGIN:VTIMEZONE
TZID:Europe/Berlin
X-LIC-LOCATION:Europe/Berlin
BEGIN:STANDARD
DTSTART:20201025T030000
TZOFFSETFROM:+0200
TZOFFSETTO:+0100
RDATE:20211031T030000
TZNAME:CET
END:STANDARD
BEGIN:DAYLIGHT
DTSTART:20210328T020000
TZOFFSETFROM:+0100
TZOFFSETTO:+0200
RDATE:20220327T020000
TZNAME:CEST
END:DAYLIGHT
END:VTIMEZONE
BEGIN:VEVENT
UID:20260424T100032UTC-4979tScaTl@85.215.121.98
DTSTAMP:20260424T100032Z
DTSTART;TZID=Europe/Berlin:20200801T190000
DTEND;TZID=Europe/Berlin:20200801T204500
SUMMARY:K - 1. Klasse C 2020/21: St. Veit SC - Kappel
END:VEVENT
BEGIN:VEVENT
UID:20260424T100032UTC-5100771Hmc@85.215.121.98
DTSTAMP:20260424T100032Z
DTSTART;TZID=Europe/Berlin:20200809T110000
DTEND;TZID=Europe/Berlin:20200809T124500
SUMMARY:K - 1. Klasse C 2020/21: Kappel - Friesach
END:VEVENT
BEGIN:VEVENT
UID:20260424T100032UTC-511016Wp0R@85.215.121.98
DTSTAMP:20260424T100032Z
DTSTART;TZID=Europe/Berlin:20200815T170000
DTEND;TZID=Europe/Berlin:20200815T184500
SUMMARY:K - 1. Klasse C 2020/21: SV Oberes Metnitztal - Kappel
END:VEVENT
BEGIN:VEVENT
UID:20260424T100032UTC-5115FWthfZ@85.215.121.98
DTSTAMP:20260424T100032Z
DTSTART;TZID=Europe/Berlin:20200822T180000
DTEND;TZID=Europe/Berlin:20200822T194500
SUMMARY:K - 1. Klasse C 2020/21: Kappel - HSV
END:VEVENT
BEGIN:VEVENT
UID:20260424T100032UTC-5123IOoWkZ@85.215.121.98
DTSTAMP:20260424T100032Z
DTSTART;TZID=Europe/Berlin:20200829T160000
DTEND;TZID=Europe/Berlin:20200829T174500
SUMMARY:K - 1. Klasse C 2020/21: SC-Reichenau/Falkert - Kappel
END:VEVENT
BEGIN:VEVENT
UID:20260424T100032UTC-5129jjg7UI@85.215.121.98
DTSTAMP:20260424T100032Z
DTSTART;TZID=Europe/Berlin:20200905T163000
DTEND;TZID=Europe/Berlin:20200905T181500
SUMMARY:K - 1. Klasse C 2020/21: Kappel - Liebenfels
END:VEVENT
BEGIN:VEVENT
UID:20260424T100032UTC-5135S5flLi@85.215.121.98
DTSTAMP:20260424T100032Z
DTSTART;TZID=Europe/Berlin:20200912T160000
DTEND;TZID=Europe/Berlin:20200912T174500
SUMMARY:K - 1. Klasse C 2020/21: Oberglan - Kappel
END:VEVENT
BEGIN:VEVENT
UID:20260424T100032UTC-5140HshUn5@85.215.121.98
DTSTAMP:20260424T100032Z
DTSTART;TZID=Europe/Berlin:20200919T160000
DTEND;TZID=Europe/Berlin:20200919T174500
SUMMARY:K - 1. Klasse C 2020/21: Kappel - Launsdorf
END:VEVENT
BEGIN:VEVENT
UID:20260424T100032UTC-5147tW0BAG@85.215.121.98
DTSTAMP:20260424T100032Z
DTSTART;TZID=Europe/Berlin:20200927T110000
DTEND;TZID=Europe/Berlin:20200927T124500
SUMMARY:K - 1. Klasse C 2020/21: Steuerberg - Kappel
END:VEVENT
BEGIN:VEVENT
UID:20260424T100032UTC-5154d9TVwT@85.215.121.98
DTSTAMP:20260424T100032Z
DTSTART;TZID=Europe/Berlin:20201004T160000
DTEND;TZID=Europe/Berlin:20201004T174500
SUMMARY:K - 1. Klasse C 2020/21: SC Ebental - Kappel
END:VEVENT
BEGIN:VEVENT
UID:20260424T100032UTC-5159iF1pmR@85.215.121.98
DTSTAMP:20260424T100032Z
DTSTART;TZID=Europe/Berlin:20201010T150000
DTEND;TZID=Europe/Berlin:20201010T164500
SUMMARY:K - 1. Klasse C 2020/21: Kappel - Treibach Juniors
END:VEVENT
BEGIN:VEVENT
UID:20260424T100032UTC-516577OUnU@85.215.121.98
DTSTAMP:20260424T100032Z
DTSTART;TZID=Europe/Berlin:20201017T150000
DTEND;TZID=Europe/Berlin:20201017T164500
SUMMARY:K - 1. Klasse C 2020/21: Guttaring - Kappel
END:VEVENT
BEGIN:VEVENT
UID:20260424T100032UTC-51708IVfUv@85.215.121.98
DTSTAMP:20260424T100032Z
DTSTART;TZID=Europe/Berlin:20201024T150000
DTEND;TZID=Europe/Berlin:20201024T164500
SUMMARY:K - 1. Klasse C 2020/21: Kappel - SV Glanegg
END:VEVENT
BEGIN:VEVENT
UID:20260424T100032UTC-51776P6koi@85.215.121.98
DTSTAMP:20260424T100032Z
DTSTART;TZID=Europe/Berlin:20210320T140000
DTEND;TZID=Europe/Berlin:20210320T154500
SUMMARY:K - 1. Klasse C 2020/21: Kappel - St. Veit SC
END:VEVENT
BEGIN:VEVENT
UID:20260424T100032UTC-5183szBHOe@85.215.121.98
DTSTAMP:20260424T100032Z
DTSTART;TZID=Europe/Berlin:20210327T140000
DTEND;TZID=Europe/Berlin:20210327T154500
SUMMARY:K - 1. Klasse C 2020/21: Friesach - Kappel
END:VEVENT
BEGIN:VEVENT
UID:20260424T100032UTC-5189uu403A@85.215.121.98
DTSTAMP:20260424T100032Z
DTSTART;TZID=Europe/Berlin:20210403T143000
DTEND;TZID=Europe/Berlin:20210403T161500
SUMMARY:K - 1. Klasse C 2020/21: Kappel - SV Oberes Metnitztal
END:VEVENT
BEGIN:VEVENT
UID:20260424T100032UTC-51989xnJfh@85.215.121.98
DTSTAMP:20260424T100032Z
DTSTART;TZID=Europe/Berlin:20210411T230000
DTEND;TZID=Europe/Berlin:20210412T004500
SUMMARY:K - 1. Klasse C 2020/21: HSV - Kappel
END:VEVENT
BEGIN:VEVENT
UID:20260424T100032UTC-5205WNggNE@85.215.121.98
DTSTAMP:20260424T100032Z
DTSTART;TZID=Europe/Berlin:20210417T150000
DTEND;TZID=Europe/Berlin:20210417T164500
SUMMARY:K - 1. Klasse C 2020/21: Kappel - SC-Reichenau/Falkert
END:VEVENT
BEGIN:VEVENT
UID:20260424T100032UTC-52123A31Xc@85.215.121.98
DTSTAMP:20260424T100032Z
DTSTART;TZID=Europe/Berlin:20210425T163000
DTEND;TZID=Europe/Berlin:20210425T181500
SUMMARY:K - 1. Klasse C 2020/21: Liebenfels - Kappel
END:VEVENT
BEGIN:VEVENT
UID:20260424T100032UTC-52189xVum2@85.215.121.98
DTSTAMP:20260424T100032Z
DTSTART;TZID=Europe/Berlin:20210502T230000
DTEND;TZID=Europe/Berlin:20210503T004500
SUMMARY:K - 1. Klasse C 2020/21: Kappel - Oberglan
END:VEVENT
BEGIN:VEVENT
UID:20260424T100032UTC-5224neaAKl@85.215.121.98
DTSTAMP:20260424T100032Z
DTSTART;TZID=Europe/Berlin:20210509T170000
DTEND;TZID=Europe/Berlin:20210509T184500
SUMMARY:K - 1. Klasse C 2020/21: Launsdorf - Kappel
END:VEVENT
BEGIN:VEVENT
UID:20260424T100032UTC-5230NjU2uz@85.215.121.98
DTSTAMP:20260424T100032Z
DTSTART;TZID=Europe/Berlin:20210513T160000
DTEND;TZID=Europe/Berlin:20210513T174500
SUMMARY:K - 1. Klasse C 2020/21: Kappel - Steuerberg
END:VEVENT
BEGIN:VEVENT
UID:20260424T100032UTC-5235Jnd15a@85.215.121.98
DTSTAMP:20260424T100032Z
DTSTART;TZID=Europe/Berlin:20210515T160000
DTEND;TZID=Europe/Berlin:20210515T174500
SUMMARY:K - 1. Klasse C 2020/21: Kappel - SC Ebental
END:VEVENT
BEGIN:VEVENT
UID:20260424T100032UTC-5241XcknVf@85.215.121.98
DTSTAMP:20260424T100032Z
DTSTART;TZID=Europe/Berlin:20210522T170000
DTEND;TZID=Europe/Berlin:20210522T184500
SUMMARY:K - 1. Klasse C 2020/21: Treibach Juniors - Kappel
END:VEVENT
BEGIN:VEVENT
UID:20260424T100032UTC-5247XhU7DN@85.215.121.98
DTSTAMP:20260424T100032Z
DTSTART;TZID=Europe/Berlin:20210529T173000
DTEND;TZID=Europe/Berlin:20210529T191500
SUMMARY:K - 1. Klasse C 2020/21: Kappel - Guttaring
END:VEVENT
BEGIN:VEVENT
UID:20260424T100032UTC-5252CWmguf@85.215.121.98
DTSTAMP:20260424T100032Z
DTSTART;TZID=Europe/Berlin:20210605T170000
DTEND;TZID=Europe/Berlin:20210605T184500
SUMMARY:K - 1. Klasse C 2020/21: SV Glanegg - Kappel
END:VEVENT
END:VCALENDAR
