BEGIN:VCALENDAR
VERSION:2.0
PRODID:-////NONSGML kigkonsult.se iCalcreator 2.18//
X-WR-TIMEZONE:Europe/Berlin
BEGIN:VTIMEZONE
TZID:Europe/Berlin
X-LIC-LOCATION:Europe/Berlin
BEGIN:STANDARD
DTSTART:20171029T030000
TZOFFSETFROM:+0200
TZOFFSETTO:+0100
RDATE:20181028T030000
TZNAME:CET
END:STANDARD
BEGIN:DAYLIGHT
DTSTART:20180325T020000
TZOFFSETFROM:+0100
TZOFFSETTO:+0200
RDATE:20190331T020000
TZNAME:CEST
END:DAYLIGHT
END:VTIMEZONE
BEGIN:VEVENT
UID:20260420T180101UTC-8814gLwfcP@85.215.121.98
DTSTAMP:20260420T180101Z
DTSTART;TZID=Europe/Berlin:20170730T170000
DTEND;TZID=Europe/Berlin:20170730T184500
SUMMARY:K - 2. Klasse E 2017/18: Reichenfels - Klopeiner See
END:VEVENT
BEGIN:VEVENT
UID:20260420T180101UTC-8970MFTxwn@85.215.121.98
DTSTAMP:20260420T180101Z
DTSTART;TZID=Europe/Berlin:20170806T170000
DTEND;TZID=Europe/Berlin:20170806T184500
SUMMARY:K - 2. Klasse E 2017/18: Reichenfels - Brückl
END:VEVENT
BEGIN:VEVENT
UID:20260420T180101UTC-90125dsOmA@85.215.121.98
DTSTAMP:20260420T180101Z
DTSTART;TZID=Europe/Berlin:20170811T180000
DTEND;TZID=Europe/Berlin:20170811T194500
SUMMARY:K - 2. Klasse E 2017/18: Preitenegg - Reichenfels
END:VEVENT
BEGIN:VEVENT
UID:20260420T180101UTC-9047vUuMvR@85.215.121.98
DTSTAMP:20260420T180101Z
DTSTART;TZID=Europe/Berlin:20170819T170000
DTEND;TZID=Europe/Berlin:20170819T184500
SUMMARY:K - 2. Klasse E 2017/18: Reichenfels - St. Andrä/Lav. 1b
END:VEVENT
BEGIN:VEVENT
UID:20260420T180101UTC-9082vUlkir@85.215.121.98
DTSTAMP:20260420T180101Z
DTSTART;TZID=Europe/Berlin:20170827T110000
DTEND;TZID=Europe/Berlin:20170827T124500
SUMMARY:K - 2. Klasse E 2017/18: Sittersdorf - Reichenfels
END:VEVENT
BEGIN:VEVENT
UID:20260420T180101UTC-9113z2FiI7@85.215.121.98
DTSTAMP:20260420T180101Z
DTSTART;TZID=Europe/Berlin:20170902T170000
DTEND;TZID=Europe/Berlin:20170902T184500
SUMMARY:K - 2. Klasse E 2017/18: Reichenfels - Haimburg
END:VEVENT
BEGIN:VEVENT
UID:20260420T180101UTC-9147Pem9He@85.215.121.98
DTSTAMP:20260420T180101Z
DTSTART;TZID=Europe/Berlin:20170909T160000
DTEND;TZID=Europe/Berlin:20170909T174500
SUMMARY:K - 2. Klasse E 2017/18: SG VST Völkermarkt/SC Diex 1b - Reichenfel
 s
END:VEVENT
BEGIN:VEVENT
UID:20260420T180101UTC-9184cNmwVG@85.215.121.98
DTSTAMP:20260420T180101Z
DTSTART;TZID=Europe/Berlin:20170916T160000
DTEND;TZID=Europe/Berlin:20170916T174500
SUMMARY:K - 2. Klasse E 2017/18: Reichenfels - Maria Rojach
END:VEVENT
BEGIN:VEVENT
UID:20260420T180101UTC-9209GTWlpu@85.215.121.98
DTSTAMP:20260420T180101Z
DTSTART;TZID=Europe/Berlin:20170923T143000
DTEND;TZID=Europe/Berlin:20170923T161500
SUMMARY:K - 2. Klasse E 2017/18: St. Margarethen/Lav. 1b - Reichenfels
END:VEVENT
BEGIN:VEVENT
UID:20260420T180101UTC-92327VUV5v@85.215.121.98
DTSTAMP:20260420T180101Z
DTSTART;TZID=Europe/Berlin:20170930T160000
DTEND;TZID=Europe/Berlin:20170930T174500
SUMMARY:K - 2. Klasse E 2017/18: Reichenfels - SV Magdalensberg
END:VEVENT
BEGIN:VEVENT
UID:20260420T180101UTC-9257oO6mug@85.215.121.98
DTSTAMP:20260420T180101Z
DTSTART;TZID=Europe/Berlin:20171008T160000
DTEND;TZID=Europe/Berlin:20171008T174500
SUMMARY:K - 2. Klasse E 2017/18: Frantschach - Reichenfels
END:VEVENT
BEGIN:VEVENT
UID:20260420T180101UTC-9273nJogZM@85.215.121.98
DTSTAMP:20260420T180101Z
DTSTART;TZID=Europe/Berlin:20171014T160000
DTEND;TZID=Europe/Berlin:20171014T174500
SUMMARY:K - 2. Klasse E 2017/18: Reichenfels - St. Peter/Wallersberg
END:VEVENT
BEGIN:VEVENT
UID:20260420T180101UTC-9286NgL0NR@85.215.121.98
DTSTAMP:20260420T180101Z
DTSTART;TZID=Europe/Berlin:20171021T130000
DTEND;TZID=Europe/Berlin:20171021T144500
SUMMARY:K - 2. Klasse E 2017/18: SG ATSV Wolfsberg/SC St. Stefan 1b - Reich
 enfels
END:VEVENT
BEGIN:VEVENT
UID:20260420T180101UTC-9297tPegod@85.215.121.98
DTSTAMP:20260420T180101Z
DTSTART;TZID=Europe/Berlin:20171028T140000
DTEND;TZID=Europe/Berlin:20171028T154500
SUMMARY:K - 2. Klasse E 2017/18: Klopeiner See - Reichenfels
END:VEVENT
BEGIN:VEVENT
UID:20260420T180101UTC-9307DasFh0@85.215.121.98
DTSTAMP:20260420T180101Z
DTSTART;TZID=Europe/Berlin:20180325T150000
DTEND;TZID=Europe/Berlin:20180325T164500
SUMMARY:K - 2. Klasse E 2017/18: Brückl - Reichenfels
END:VEVENT
BEGIN:VEVENT
UID:20260420T180101UTC-9313AA2DNW@85.215.121.98
DTSTAMP:20260420T180101Z
DTSTART;TZID=Europe/Berlin:20180408T150000
DTEND;TZID=Europe/Berlin:20180408T164500
SUMMARY:K - 2. Klasse E 2017/18: St. Andrä/Lav. 1b - Reichenfels
END:VEVENT
BEGIN:VEVENT
UID:20260420T180101UTC-9321lwvucO@85.215.121.98
DTSTAMP:20260420T180101Z
DTSTART;TZID=Europe/Berlin:20180414T160000
DTEND;TZID=Europe/Berlin:20180414T174500
SUMMARY:K - 2. Klasse E 2017/18: Reichenfels - Sittersdorf
END:VEVENT
BEGIN:VEVENT
UID:20260420T180101UTC-9328ZuD7hp@85.215.121.98
DTSTAMP:20260420T180101Z
DTSTART;TZID=Europe/Berlin:20180422T153000
DTEND;TZID=Europe/Berlin:20180422T171500
SUMMARY:K - 2. Klasse E 2017/18: Haimburg - Reichenfels
END:VEVENT
BEGIN:VEVENT
UID:20260420T180101UTC-9333FXsJTm@85.215.121.98
DTSTAMP:20260420T180101Z
DTSTART;TZID=Europe/Berlin:20180427T173000
DTEND;TZID=Europe/Berlin:20180427T191500
SUMMARY:K - 2. Klasse E 2017/18: Reichenfels - Preitenegg
END:VEVENT
BEGIN:VEVENT
UID:20260420T180101UTC-9339BzKdTt@85.215.121.98
DTSTAMP:20260420T180101Z
DTSTART;TZID=Europe/Berlin:20180429T160000
DTEND;TZID=Europe/Berlin:20180429T174500
SUMMARY:K - 2. Klasse E 2017/18: Reichenfels - SG VST Völkermarkt/SC Diex 1
 b
END:VEVENT
BEGIN:VEVENT
UID:20260420T180101UTC-9346HuBZRU@85.215.121.98
DTSTAMP:20260420T180101Z
DTSTART;TZID=Europe/Berlin:20180505T170000
DTEND;TZID=Europe/Berlin:20180505T184500
SUMMARY:K - 2. Klasse E 2017/18: Maria Rojach - Reichenfels
END:VEVENT
BEGIN:VEVENT
UID:20260420T180101UTC-9353Lg8sXr@85.215.121.98
DTSTAMP:20260420T180101Z
DTSTART;TZID=Europe/Berlin:20180513T170000
DTEND;TZID=Europe/Berlin:20180513T184500
SUMMARY:K - 2. Klasse E 2017/18: Reichenfels - St. Margarethen/Lav. 1b
END:VEVENT
BEGIN:VEVENT
UID:20260420T180101UTC-9360SIx1sL@85.215.121.98
DTSTAMP:20260420T180101Z
DTSTART;TZID=Europe/Berlin:20180519T163000
DTEND;TZID=Europe/Berlin:20180519T181500
SUMMARY:K - 2. Klasse E 2017/18: SV Magdalensberg - Reichenfels
END:VEVENT
BEGIN:VEVENT
UID:20260420T180101UTC-9368UG7Izs@85.215.121.98
DTSTAMP:20260420T180101Z
DTSTART;TZID=Europe/Berlin:20180526T170000
DTEND;TZID=Europe/Berlin:20180526T184500
SUMMARY:K - 2. Klasse E 2017/18: Reichenfels - Frantschach
END:VEVENT
BEGIN:VEVENT
UID:20260420T180101UTC-9373ichzUU@85.215.121.98
DTSTAMP:20260420T180101Z
DTSTART;TZID=Europe/Berlin:20180603T170000
DTEND;TZID=Europe/Berlin:20180603T184500
SUMMARY:K - 2. Klasse E 2017/18: St. Peter/Wallersberg - Reichenfels
END:VEVENT
BEGIN:VEVENT
UID:20260420T180101UTC-9379FURkof@85.215.121.98
DTSTAMP:20260420T180101Z
DTSTART;TZID=Europe/Berlin:20180609T170000
DTEND;TZID=Europe/Berlin:20180609T184500
SUMMARY:K - 2. Klasse E 2017/18: Reichenfels - SG ATSV Wolfsberg/SC St. Ste
 fan 1b
END:VEVENT
END:VCALENDAR
